BEGIN:VCALENDAR
VERSION:2.0
PRODID:-//Stayinmcallen - ECPv6.15.20//NONSGML v1.0//EN
CALSCALE:GREGORIAN
METHOD:PUBLISH
X-ORIGINAL-URL:https://stayinmcallen.com
X-WR-CALDESC:Events for Stayinmcallen
REFRESH-INTERVAL;VALUE=DURATION:PT1H
X-Robots-Tag:noindex
X-PUBLISHED-TTL:PT1H
BEGIN:VTIMEZONE
TZID:America/Chicago
BEGIN:DAYLIGHT
TZOFFSETFROM:-0600
TZOFFSETTO:-0500
TZNAME:CDT
DTSTART:20240310T080000
END:DAYLIGHT
BEGIN:STANDARD
TZOFFSETFROM:-0500
TZOFFSETTO:-0600
TZNAME:CST
DTSTART:20241103T070000
END:STANDARD
BEGIN:DAYLIGHT
TZOFFSETFROM:-0600
TZOFFSETTO:-0500
TZNAME:CDT
DTSTART:20250309T080000
END:DAYLIGHT
BEGIN:STANDARD
TZOFFSETFROM:-0500
TZOFFSETTO:-0600
TZNAME:CST
DTSTART:20251102T070000
END:STANDARD
BEGIN:DAYLIGHT
TZOFFSETFROM:-0600
TZOFFSETTO:-0500
TZNAME:CDT
DTSTART:20260308T080000
END:DAYLIGHT
BEGIN:STANDARD
TZOFFSETFROM:-0500
TZOFFSETTO:-0600
TZNAME:CST
DTSTART:20261101T070000
END:STANDARD
END:VTIMEZONE
BEGIN:VEVENT
DTSTART;TZID=America/Chicago:20250720T140000
DTEND;TZID=America/Chicago:20250720T160000
DTSTAMP:20260425T212500
CREATED:20250219T001842Z
LAST-MODIFIED:20250303T013327Z
UID:10002075-1753020000-1753027200@stayinmcallen.com
SUMMARY:MPU Teen Dissection
DESCRIPTION:Jump into MPU Biozone Lab for this hands-on dissection of a Bullfrog\, led by an IMAS Educator. Learn more about the Bull Frog anatomy and why frogs and toads are important to the ecosystem.\nThis workshop is for participants ages 13-17.\nDisclaimer: All participants must be checked in and out by an adult 18 years or older.
URL:https://stayinmcallen.com/events/mpu-teen-dissection/
LOCATION:IMAS\, 101 W Nolana Ave\, McAllen\, TX\, United States
CATEGORIES:IMAS - International Museum of Art & Science,Youth Program
ATTACH;FMTTYPE=image/jpeg:https://stayinmcallen.com/wp-content/uploads/2025/02/Shark-Week-Dissection_2018-YiWJHg.tmp_.jpg
GEO:26.238021;-98.212333
X-APPLE-STRUCTURED-LOCATION;VALUE=URI;X-ADDRESS=IMAS 101 W Nolana Ave McAllen TX United States;X-APPLE-RADIUS=500;X-TITLE=101 W Nolana Ave:geo:-98.212333,26.238021
END:VEVENT
BEGIN:VEVENT
DTSTART;TZID=America/Chicago:20250720T140000
DTEND;TZID=America/Chicago:20250720T160000
DTSTAMP:20260425T212500
CREATED:20250219T001845Z
LAST-MODIFIED:20250219T001845Z
UID:10002077-1753020000-1753027200@stayinmcallen.com
SUMMARY:MPU Teen Dissection
DESCRIPTION:Jump into MPU Biozone Lab for this hands-on dissection of a Bullfrog\, led by an IMAS Educator. Learn more about the Bull Frog anatomy and why frogs and toads are important to the ecosystem.\nThis workshop is for participants ages 13-17.\nDisclaimer: All participants must be checked in and out by an adult 18 years or older.
URL:https://stayinmcallen.com/events/mpu-teen-dissection-2/
LOCATION:IMAS\, 101 W Nolana Ave\, McAllen\, TX\, United States
CATEGORIES:IMAS - International Museum of Art & Science,Youth Program
ATTACH;FMTTYPE=image/jpeg:https://stayinmcallen.com/wp-content/uploads/2025/02/Shark-Week-Dissection_2018-YiWJHg.tmp_.jpg
GEO:26.238021;-98.212333
X-APPLE-STRUCTURED-LOCATION;VALUE=URI;X-ADDRESS=IMAS 101 W Nolana Ave McAllen TX United States;X-APPLE-RADIUS=500;X-TITLE=101 W Nolana Ave:geo:-98.212333,26.238021
END:VEVENT
END:VCALENDAR