BEGIN:VCALENDAR
VERSION:2.0
PRODID:-//Stayinmcallen - ECPv6.15.20//NONSGML v1.0//EN
CALSCALE:GREGORIAN
METHOD:PUBLISH
X-WR-CALNAME:Stayinmcallen
X-ORIGINAL-URL:https://stayinmcallen.com
X-WR-CALDESC:Events for Stayinmcallen
REFRESH-INTERVAL;VALUE=DURATION:PT1H
X-Robots-Tag:noindex
X-PUBLISHED-TTL:PT1H
BEGIN:VTIMEZONE
TZID:America/Chicago
BEGIN:DAYLIGHT
TZOFFSETFROM:-0600
TZOFFSETTO:-0500
TZNAME:CDT
DTSTART:20240310T080000
END:DAYLIGHT
BEGIN:STANDARD
TZOFFSETFROM:-0500
TZOFFSETTO:-0600
TZNAME:CST
DTSTART:20241103T070000
END:STANDARD
BEGIN:DAYLIGHT
TZOFFSETFROM:-0600
TZOFFSETTO:-0500
TZNAME:CDT
DTSTART:20250309T080000
END:DAYLIGHT
BEGIN:STANDARD
TZOFFSETFROM:-0500
TZOFFSETTO:-0600
TZNAME:CST
DTSTART:20251102T070000
END:STANDARD
BEGIN:DAYLIGHT
TZOFFSETFROM:-0600
TZOFFSETTO:-0500
TZNAME:CDT
DTSTART:20260308T080000
END:DAYLIGHT
BEGIN:STANDARD
TZOFFSETFROM:-0500
TZOFFSETTO:-0600
TZNAME:CST
DTSTART:20261101T070000
END:STANDARD
END:VTIMEZONE
BEGIN:VEVENT
DTSTART;TZID=America/Chicago:20251212T140000
DTEND;TZID=America/Chicago:20251212T150000
DTSTAMP:20260425T102613
CREATED:20251105T154310Z
LAST-MODIFIED:20251212T054643Z
UID:10003213-1765548000-1765551600@stayinmcallen.com
SUMMARY:Gingerbread Challenge
DESCRIPTION:
URL:https://stayinmcallen.com/events/gingerbread-challenge-15/
LOCATION:IMAS\, 101 W Nolana Ave\, McAllen\, TX\, United States
CATEGORIES:Special Event,IMAS - International Museum of Art & Science,Youth Program,Adult Program
ATTACH;FMTTYPE=image/jpeg:https://stayinmcallen.com/wp-content/uploads/2024/11/MG_9056-Enhanced-NR-poOWbx.tmp_.jpg
GEO:26.238021;-98.212333
X-APPLE-STRUCTURED-LOCATION;VALUE=URI;X-ADDRESS=IMAS 101 W Nolana Ave McAllen TX United States;X-APPLE-RADIUS=500;X-TITLE=101 W Nolana Ave:geo:-98.212333,26.238021
END:VEVENT
BEGIN:VEVENT
DTSTART;TZID=America/Chicago:20251212T140000
DTEND;TZID=America/Chicago:20251212T150000
DTSTAMP:20260425T102613
CREATED:20251118T222937Z
LAST-MODIFIED:20251118T222937Z
UID:10003264-1765548000-1765551600@stayinmcallen.com
SUMMARY:Gingerbread Challenge
DESCRIPTION:
URL:https://stayinmcallen.com/events/gingerbread-challenge-22/
LOCATION:IMAS\, 101 W Nolana Ave\, McAllen\, TX\, United States
CATEGORIES:Special Event,IMAS - International Museum of Art & Science,Youth Program,Adult Program
ATTACH;FMTTYPE=image/jpeg:https://stayinmcallen.com/wp-content/uploads/2024/11/MG_9056-Enhanced-NR-poOWbx.tmp_.jpg
GEO:26.238021;-98.212333
X-APPLE-STRUCTURED-LOCATION;VALUE=URI;X-ADDRESS=IMAS 101 W Nolana Ave McAllen TX United States;X-APPLE-RADIUS=500;X-TITLE=101 W Nolana Ave:geo:-98.212333,26.238021
END:VEVENT
BEGIN:VEVENT
DTSTART;TZID=America/Chicago:20251212T153000
DTEND;TZID=America/Chicago:20251212T163000
DTSTAMP:20260425T102613
CREATED:20251105T154314Z
LAST-MODIFIED:20251212T054647Z
UID:10003214-1765553400-1765557000@stayinmcallen.com
SUMMARY:Gingerbread Challenge
DESCRIPTION:
URL:https://stayinmcallen.com/events/gingerbread-challenge-16/
LOCATION:IMAS\, 101 W Nolana Ave\, McAllen\, TX\, United States
CATEGORIES:Special Event,IMAS - International Museum of Art & Science,Youth Program,Adult Program
ATTACH;FMTTYPE=image/jpeg:https://stayinmcallen.com/wp-content/uploads/2024/11/MG_9056-Enhanced-NR-poOWbx.tmp_.jpg
GEO:26.238021;-98.212333
X-APPLE-STRUCTURED-LOCATION;VALUE=URI;X-ADDRESS=IMAS 101 W Nolana Ave McAllen TX United States;X-APPLE-RADIUS=500;X-TITLE=101 W Nolana Ave:geo:-98.212333,26.238021
END:VEVENT
END:VCALENDAR