BEGIN:VCALENDAR
VERSION:2.0
PRODID:-//Stayinmcallen - ECPv6.15.20//NONSGML v1.0//EN
CALSCALE:GREGORIAN
METHOD:PUBLISH
X-WR-CALNAME:Stayinmcallen
X-ORIGINAL-URL:https://stayinmcallen.com
X-WR-CALDESC:Events for Stayinmcallen
REFRESH-INTERVAL;VALUE=DURATION:PT1H
X-Robots-Tag:noindex
X-PUBLISHED-TTL:PT1H
BEGIN:VTIMEZONE
TZID:America/Chicago
BEGIN:DAYLIGHT
TZOFFSETFROM:-0600
TZOFFSETTO:-0500
TZNAME:CDT
DTSTART:20240310T080000
END:DAYLIGHT
BEGIN:STANDARD
TZOFFSETFROM:-0500
TZOFFSETTO:-0600
TZNAME:CST
DTSTART:20241103T070000
END:STANDARD
BEGIN:DAYLIGHT
TZOFFSETFROM:-0600
TZOFFSETTO:-0500
TZNAME:CDT
DTSTART:20250309T080000
END:DAYLIGHT
BEGIN:STANDARD
TZOFFSETFROM:-0500
TZOFFSETTO:-0600
TZNAME:CST
DTSTART:20251102T070000
END:STANDARD
BEGIN:DAYLIGHT
TZOFFSETFROM:-0600
TZOFFSETTO:-0500
TZNAME:CDT
DTSTART:20260308T080000
END:DAYLIGHT
BEGIN:STANDARD
TZOFFSETFROM:-0500
TZOFFSETTO:-0600
TZNAME:CST
DTSTART:20261101T070000
END:STANDARD
END:VTIMEZONE
BEGIN:VEVENT
DTSTART;TZID=America/Chicago:20251214T133000
DTEND;TZID=America/Chicago:20251214T143000
DTSTAMP:20260425T102559
CREATED:20251105T154337Z
LAST-MODIFIED:20251214T094013Z
UID:10003218-1765719000-1765722600@stayinmcallen.com
SUMMARY:Gingerbread Challenge
DESCRIPTION:
URL:https://stayinmcallen.com/events/gingerbread-challenge-20/
LOCATION:IMAS\, 101 W Nolana Ave\, McAllen\, TX\, United States
CATEGORIES:Special Event,IMAS - International Museum of Art & Science,Youth Program,Adult Program
ATTACH;FMTTYPE=image/jpeg:https://stayinmcallen.com/wp-content/uploads/2024/11/MG_9056-Enhanced-NR-poOWbx.tmp_.jpg
GEO:26.238021;-98.212333
X-APPLE-STRUCTURED-LOCATION;VALUE=URI;X-ADDRESS=IMAS 101 W Nolana Ave McAllen TX United States;X-APPLE-RADIUS=500;X-TITLE=101 W Nolana Ave:geo:-98.212333,26.238021
END:VEVENT
BEGIN:VEVENT
DTSTART;TZID=America/Chicago:20251214T140000
DTEND;TZID=America/Chicago:20251214T150000
DTSTAMP:20260425T102559
CREATED:20251015T042025Z
LAST-MODIFIED:20251214T094017Z
UID:10003167-1765720800-1765724400@stayinmcallen.com
SUMMARY:UTRGV Concert Series - The Romantic Cello: Janáček\, Jessie Montgomery\, and Rachmaninoff
DESCRIPTION:UTRGV faculty pianist Dr. Brendan Kinsella and guest artist Dr. Daniel Saenz perform a soulful afternoon of music for violoncello and piano. From Janáček’s dreamy and imaginative “Fairy Tale” to Rachmaninoff’s thrilling Sonata for Violoncello and Piano\, this recital is sure to delight and inspire
URL:https://stayinmcallen.com/events/utrgv-concert-series-the-romantic-cello-janacek-jessie-montgomery-and-rachmaninoff/
LOCATION:IMAS\, 101 W Nolana Ave\, McAllen\, TX\, United States
CATEGORIES:Special Event,IMAS - International Museum of Art & Science,Youth Program,Adult Program
ATTACH;FMTTYPE=image/jpeg:https://stayinmcallen.com/wp-content/uploads/2024/12/BrendanK.-2091-scaled-l8DHgg.tmp_.jpg
GEO:26.238021;-98.212333
X-APPLE-STRUCTURED-LOCATION;VALUE=URI;X-ADDRESS=IMAS 101 W Nolana Ave McAllen TX United States;X-APPLE-RADIUS=500;X-TITLE=101 W Nolana Ave:geo:-98.212333,26.238021
END:VEVENT
BEGIN:VEVENT
DTSTART;TZID=America/Chicago:20251214T140000
DTEND;TZID=America/Chicago:20251214T150000
DTSTAMP:20260425T102559
CREATED:20251118T222945Z
LAST-MODIFIED:20251118T222945Z
UID:10003266-1765720800-1765724400@stayinmcallen.com
SUMMARY:UTRGV Concert Series - The Romantic Cello: Janáček\, Jessie Montgomery\, and Rachmaninoff
DESCRIPTION:UTRGV faculty pianist Dr. Brendan Kinsella and guest artist Dr. Daniel Saenz perform a soulful afternoon of music for violoncello and piano. From Janáček’s dreamy and imaginative “Fairy Tale” to Rachmaninoff’s thrilling Sonata for Violoncello and Piano\, this recital is sure to delight and inspire
URL:https://stayinmcallen.com/events/utrgv-concert-series-the-romantic-cello-janacek-jessie-montgomery-and-rachmaninoff-2/
LOCATION:IMAS\, 101 W Nolana Ave\, McAllen\, TX\, United States
CATEGORIES:Special Event,IMAS - International Museum of Art & Science,Youth Program,Adult Program
ATTACH;FMTTYPE=image/jpeg:https://stayinmcallen.com/wp-content/uploads/2024/12/BrendanK.-2091-scaled-l8DHgg.tmp_.jpg
GEO:26.238021;-98.212333
X-APPLE-STRUCTURED-LOCATION;VALUE=URI;X-ADDRESS=IMAS 101 W Nolana Ave McAllen TX United States;X-APPLE-RADIUS=500;X-TITLE=101 W Nolana Ave:geo:-98.212333,26.238021
END:VEVENT
BEGIN:VEVENT
DTSTART;TZID=America/Chicago:20251214T150000
DTEND;TZID=America/Chicago:20251214T160000
DTSTAMP:20260425T102559
CREATED:20251105T154346Z
LAST-MODIFIED:20251214T094021Z
UID:10003219-1765724400-1765728000@stayinmcallen.com
SUMMARY:Gingerbread Challenge
DESCRIPTION:
URL:https://stayinmcallen.com/events/gingerbread-challenge-21/
LOCATION:IMAS\, 101 W Nolana Ave\, McAllen\, TX\, United States
CATEGORIES:Special Event,IMAS - International Museum of Art & Science,Youth Program,Adult Program
ATTACH;FMTTYPE=image/jpeg:https://stayinmcallen.com/wp-content/uploads/2024/11/MG_9056-Enhanced-NR-poOWbx.tmp_.jpg
GEO:26.238021;-98.212333
X-APPLE-STRUCTURED-LOCATION;VALUE=URI;X-ADDRESS=IMAS 101 W Nolana Ave McAllen TX United States;X-APPLE-RADIUS=500;X-TITLE=101 W Nolana Ave:geo:-98.212333,26.238021
END:VEVENT
END:VCALENDAR