BEGIN:VCALENDAR
VERSION:2.0
PRODID:-//Stayinmcallen - ECPv6.15.20//NONSGML v1.0//EN
CALSCALE:GREGORIAN
METHOD:PUBLISH
X-ORIGINAL-URL:https://stayinmcallen.com
X-WR-CALDESC:Events for Stayinmcallen
REFRESH-INTERVAL;VALUE=DURATION:PT1H
X-Robots-Tag:noindex
X-PUBLISHED-TTL:PT1H
BEGIN:VTIMEZONE
TZID:America/Chicago
BEGIN:DAYLIGHT
TZOFFSETFROM:-0600
TZOFFSETTO:-0500
TZNAME:CDT
DTSTART:20240310T080000
END:DAYLIGHT
BEGIN:STANDARD
TZOFFSETFROM:-0500
TZOFFSETTO:-0600
TZNAME:CST
DTSTART:20241103T070000
END:STANDARD
BEGIN:DAYLIGHT
TZOFFSETFROM:-0600
TZOFFSETTO:-0500
TZNAME:CDT
DTSTART:20250309T080000
END:DAYLIGHT
BEGIN:STANDARD
TZOFFSETFROM:-0500
TZOFFSETTO:-0600
TZNAME:CST
DTSTART:20251102T070000
END:STANDARD
BEGIN:DAYLIGHT
TZOFFSETFROM:-0600
TZOFFSETTO:-0500
TZNAME:CDT
DTSTART:20260308T080000
END:DAYLIGHT
BEGIN:STANDARD
TZOFFSETFROM:-0500
TZOFFSETTO:-0600
TZNAME:CST
DTSTART:20261101T070000
END:STANDARD
END:VTIMEZONE
BEGIN:VEVENT
DTSTART;TZID=America/Chicago:20250920T100000
DTEND;TZID=America/Chicago:20250920T140000
DTSTAMP:20260425T181736
CREATED:20250909T013352Z
LAST-MODIFIED:20250920T103342Z
UID:10003122-1758362400-1758376800@stayinmcallen.com
SUMMARY:Beyond the Exhibits: Outreach at the Pavilion
DESCRIPTION:IMAS is inviting the Mission\, Alton\, and surrounding communities (Precinct 3) to a family friendly community Day at Veterans Memorial Pavilion in Mission TX.\nEnjoy a fun day of community and connection with IMAS\, The National Butterfly Center\, Mission Historical Museum\, and Museum of South Texas History. Join us for planetarium presentations\, close-up insect talks\, STEAM activities\, and more.\nFree Admission
URL:https://stayinmcallen.com/events/beyond-the-exhibits-outreach-at-the-pavilion/
LOCATION:Veterans Memorial Pavilion\, 301 S Inspiration Rd\, Mission\, TX\, United States
CATEGORIES:Special Event,IMAS - International Museum of Art & Science,Youth Program,Adult Program
ATTACH;FMTTYPE=image/webp:https://stayinmcallen.com/wp-content/uploads/2025/09/Beyond-the-Exhibits_FB-Post-4JA3f6.webp
GEO:26.207761;-98.351721
X-APPLE-STRUCTURED-LOCATION;VALUE=URI;X-ADDRESS=Veterans Memorial Pavilion 301 S Inspiration Rd Mission TX United States;X-APPLE-RADIUS=500;X-TITLE=301 S Inspiration Rd:geo:-98.351721,26.207761
END:VEVENT
END:VCALENDAR