BEGIN:VCALENDAR
VERSION:2.0
PRODID:-//Stayinmcallen - ECPv6.15.20//NONSGML v1.0//EN
CALSCALE:GREGORIAN
METHOD:PUBLISH
X-ORIGINAL-URL:https://stayinmcallen.com
X-WR-CALDESC:Events for Stayinmcallen
REFRESH-INTERVAL;VALUE=DURATION:PT1H
X-Robots-Tag:noindex
X-PUBLISHED-TTL:PT1H
BEGIN:VTIMEZONE
TZID:America/Chicago
BEGIN:DAYLIGHT
TZOFFSETFROM:-0600
TZOFFSETTO:-0500
TZNAME:CDT
DTSTART:20240310T080000
END:DAYLIGHT
BEGIN:STANDARD
TZOFFSETFROM:-0500
TZOFFSETTO:-0600
TZNAME:CST
DTSTART:20241103T070000
END:STANDARD
BEGIN:DAYLIGHT
TZOFFSETFROM:-0600
TZOFFSETTO:-0500
TZNAME:CDT
DTSTART:20250309T080000
END:DAYLIGHT
BEGIN:STANDARD
TZOFFSETFROM:-0500
TZOFFSETTO:-0600
TZNAME:CST
DTSTART:20251102T070000
END:STANDARD
BEGIN:DAYLIGHT
TZOFFSETFROM:-0600
TZOFFSETTO:-0500
TZNAME:CDT
DTSTART:20260308T080000
END:DAYLIGHT
BEGIN:STANDARD
TZOFFSETFROM:-0500
TZOFFSETTO:-0600
TZNAME:CST
DTSTART:20261101T070000
END:STANDARD
END:VTIMEZONE
BEGIN:VEVENT
DTSTART;TZID=America/Chicago:20251206T180000
DTEND;TZID=America/Chicago:20251206T210000
DTSTAMP:20260425T040916
CREATED:20251110T214841Z
LAST-MODIFIED:20251110T214841Z
UID:10003256-1765044000-1765054800@stayinmcallen.com
SUMMARY:McAllen Holiday Parade 2025
DESCRIPTION:Join us at the 2025 McAllen Holiday Parade presented by H-E-B and powered by\nBert Ogden Fiesta Dealerships\, Reliant Energy ®\, McAllen International Airport\, Lone Star National Bank and South Padre Island \n\n\nGates open at 3:00 PM \nBe there live when the largest holiday and helium balloon parade in texas returns and experience: \n\n\n\n\n\n1.5 Mile stadium & street parade route\nCheer to twirl your favorite giant character\nBalloons in the new “Vuelta Zones”\nIlluminated floats and surprises\nCelebrity hosts and guest appearances\nMarching bands & dance teams\nChristmas in the Park
URL:https://stayinmcallen.com/events/mcallen-holiday-parade-2025/
LOCATION:McAllen Veterans Memorial Stadium\, 2001 N Bicentennial Blvd\, McAllen\, TX\, United States
CATEGORIES:Holiday Events
ATTACH;FMTTYPE=image/webp:https://stayinmcallen.com/wp-content/uploads/2025/11/530589453_776352948078418_7255980578843144903_n-e1762811268139.webp
GEO:26.222091;-98.236739
X-APPLE-STRUCTURED-LOCATION;VALUE=URI;X-ADDRESS=McAllen Veterans Memorial Stadium 2001 N Bicentennial Blvd McAllen TX United States;X-APPLE-RADIUS=500;X-TITLE=2001 N Bicentennial Blvd:geo:-98.236739,26.222091
END:VEVENT
BEGIN:VEVENT
DTSTART;TZID=America/Chicago:20251214T200000
DTEND;TZID=America/Chicago:20251214T230000
DTSTAMP:20260425T040916
CREATED:20251009T150302Z
LAST-MODIFIED:20251009T150302Z
UID:10003162-1765742400-1765753200@stayinmcallen.com
SUMMARY:Blue Oyster Cult Concert
DESCRIPTION:tickets: https://www.ticketmaster.com/event/3A00633094532699
URL:https://stayinmcallen.com/events/blue-oyster-cult-concert/
LOCATION:Payne Arena\, 2600 N 10th St\, Hidalgo\, TX\, 78557\, United States
CATEGORIES:Concert
ATTACH;FMTTYPE=image/webp:https://stayinmcallen.com/wp-content/uploads/2025/10/BlueOysterCult-20230921-3000.webp
END:VEVENT
BEGIN:VEVENT
DTSTART;VALUE=DATE:20251219
DTEND;VALUE=DATE:20251222
DTSTAMP:20260425T040916
CREATED:20251009T145838Z
LAST-MODIFIED:20251009T145838Z
UID:10003161-1766102400-1766361599@stayinmcallen.com
SUMMARY:Christmas on Ice
DESCRIPTION:Tickets: https://www.ticketmaster.com/payne-arena-tickets-hidalgo/venue/475863
URL:https://stayinmcallen.com/events/christmas-on-ice/
LOCATION:Payne Arena\, 2600 N 10th St\, Hidalgo\, TX\, 78557\, United States
CATEGORIES:Family Fun,Art Exhibits
ATTACH;FMTTYPE=image/webp:https://stayinmcallen.com/wp-content/uploads/2025/10/Screenshot-2025-10-09-095744.webp
END:VEVENT
BEGIN:VEVENT
DTSTART;TZID=America/Chicago:20251224T100000
DTEND;TZID=America/Chicago:20251224T140000
DTSTAMP:20260425T040916
CREATED:20251211T155822Z
LAST-MODIFIED:20251211T155826Z
UID:10003325-1766570400-1766584800@stayinmcallen.com
SUMMARY:Christmas Dinner in Embassy McAllen
DESCRIPTION:Order at: 956-688-8329\nCelebrate Christmas in South Padre Island! Last day to order: December 22\nThis Christmas Day\, enjoy a delicious holiday meal your way — choose between:\n Pick-Up Orders: Available from 10:00 AM – 2:00 PM for those who’d like to enjoy at home.\n Group Dinner On-Site: Available by reservation only for groups of 20 or more guests.\nLet us handle the cooking while you relax and make memories with your loved ones.\nPlace your pick-up order or reserve your group dinner at 956-688-8329\n We can’t wait to celebrate with you at Barry’s Bistro Bar & Grill McAllen inside Embassy Suites McAllen Convention Center
URL:https://stayinmcallen.com/events/christmas-dinner-in-embassy-mcallen/
LOCATION:Embassy Suites Convention Center\, 2 Center Ln\, McAllen\, TX\, United States
ATTACH;FMTTYPE=image/webp:https://stayinmcallen.com/wp-content/uploads/2025/12/Screenshot-2025-12-11-091514.webp
GEO:26.19785;-98.275891
X-APPLE-STRUCTURED-LOCATION;VALUE=URI;X-ADDRESS=Embassy Suites Convention Center 2 Center Ln McAllen TX United States;X-APPLE-RADIUS=500;X-TITLE=2 Center Ln:geo:-98.275891,26.19785
END:VEVENT
END:VCALENDAR