BEGIN:VCALENDAR
VERSION:2.0
PRODID:-//Stayinmcallen - ECPv6.15.20//NONSGML v1.0//EN
CALSCALE:GREGORIAN
METHOD:PUBLISH
X-ORIGINAL-URL:https://stayinmcallen.com
X-WR-CALDESC:Events for Stayinmcallen
REFRESH-INTERVAL;VALUE=DURATION:PT1H
X-Robots-Tag:noindex
X-PUBLISHED-TTL:PT1H
BEGIN:VTIMEZONE
TZID:America/Chicago
BEGIN:DAYLIGHT
TZOFFSETFROM:-0600
TZOFFSETTO:-0500
TZNAME:CDT
DTSTART:20250309T080000
END:DAYLIGHT
BEGIN:STANDARD
TZOFFSETFROM:-0500
TZOFFSETTO:-0600
TZNAME:CST
DTSTART:20251102T070000
END:STANDARD
BEGIN:DAYLIGHT
TZOFFSETFROM:-0600
TZOFFSETTO:-0500
TZNAME:CDT
DTSTART:20260308T080000
END:DAYLIGHT
BEGIN:STANDARD
TZOFFSETFROM:-0500
TZOFFSETTO:-0600
TZNAME:CST
DTSTART:20261101T070000
END:STANDARD
BEGIN:DAYLIGHT
TZOFFSETFROM:-0600
TZOFFSETTO:-0500
TZNAME:CDT
DTSTART:20270314T080000
END:DAYLIGHT
BEGIN:STANDARD
TZOFFSETFROM:-0500
TZOFFSETTO:-0600
TZNAME:CST
DTSTART:20271107T070000
END:STANDARD
END:VTIMEZONE
BEGIN:VEVENT
DTSTART;TZID=America/Chicago:20260501T200000
DTEND;TZID=America/Chicago:20260501T230000
DTSTAMP:20260424T061334
CREATED:20260206T190748Z
LAST-MODIFIED:20260206T190752Z
UID:10003569-1777665600-1777676400@stayinmcallen.com
SUMMARY:An Evening With Emerson\, Lake & Palmer
DESCRIPTION:https://www.ticketmaster.com/an-evening-with-emerson-lake-palmer-hidalgo-texas-05-01-2026/event/3A006364BE3AA8B1
URL:https://stayinmcallen.com/events/an-evening-with-emerson-lake-palmer/
LOCATION:Payne Arena\, 2600 N 10th St\, Hidalgo\, TX\, 78557\, United States
ATTACH;FMTTYPE=image/webp:https://stayinmcallen.com/wp-content/uploads/2026/02/emerson-lake-palmer-2022.webp
END:VEVENT
BEGIN:VEVENT
DTSTART;TZID=America/Chicago:20260507T200000
DTEND;TZID=America/Chicago:20260507T230000
DTSTAMP:20260424T061334
CREATED:20260205T225947Z
LAST-MODIFIED:20260205T225950Z
UID:10003565-1778184000-1778194800@stayinmcallen.com
SUMMARY:Palomazo Norteño 2026
DESCRIPTION:TICKETS ALSO AVAILABLE AT: \n\nBert Ogden Arena Box Office beginning Wednesday\, December 17th.\n\nAll dates\, times\, acts and ticket prices are subject to change without notice. Price does not include service fees. Final prices are reflected on AXS.com at time of purchase. Opening acts may change without notice\, but is not a condition of sales/refund.
URL:https://stayinmcallen.com/events/palomazo-norteno-2026/
LOCATION:TX
ATTACH;FMTTYPE=image/webp:https://stayinmcallen.com/wp-content/uploads/2026/02/PalomazoNorteno2026_v2_Featured.webp
END:VEVENT
BEGIN:VEVENT
DTSTART;TZID=America/Chicago:20260509T150000
DTEND;TZID=America/Chicago:20260509T150000
DTSTAMP:20260424T061334
CREATED:20260214T023846Z
LAST-MODIFIED:20260423T142137Z
UID:10003597-1778338800-1778338800@stayinmcallen.com
SUMMARY:Itatí y José Cantoral Vienen a McAllen | 9 Mayo 2026
DESCRIPTION:Itatí y José Cantoral Vienen a McAllen | 9 Mayo 2026 \nCOMPRA BOLETOS \nItatí y José Cantoral presentan la vida y canciones de Roberto Cantoral en vivo el 9 de mayo 2026 en McAllen Performing Arts Center.\nLa emoción\, la nostalgia y la grandeza de la música romántica llegan a McAllen con Itatí Cantoral y José Cantoral en su tour “Noche No Te Vayas”\, quienes presentan un homenaje inolvidable a su padre\, el legendario compositor mexicano Roberto Cantoral.\nComo parte de su USA Tour 2026\, este espectáculo único se presentará el 9 de mayo de 2026 en el McAllen Performing Arts Center\, ofreciendo una velada llena de historia\, emoción y grandes clásicos que marcaron generaciones.\nBajo el concepto “La vida y las canciones de nuestro padre”\, Itatí y José Cantoral interpretarán éxitos inmortales como:\nEl Reloj | La Barca | El Triste\nY muchos más…\nEste concierto no solo celebra la música\, sino también el legado de uno de los compositores más importantes de Latinoamérica. A través de interpretaciones íntimas\, anécdotas y arreglos especiales\, el público vivirá una experiencia profundamente emotiva que conecta generaciones.\nIdeal para celebrar el Día de las Madres con anticipación\, disfrutar en pareja o compartir en familia\, esta presentación promete una noche llena de recuerdos\, romanticismo y talento excepcional.\n📅 Fecha: 9 de mayo de 2026\n📍 Lugar: McAllen Performing Arts Center\n🎟 Boletos: En taquilla y Ticketmaster\nNo te pierdas esta noche mágica donde la música romántica cobra vida en el escenario.
URL:https://stayinmcallen.com/events/itati-y-jose-cantoral-en-mcallen-9-mayo-2026/
LOCATION:McAllen Performing Arts Center\, 99 Center Ln\, McAllen\, TX\, United States
CATEGORIES:Performance,Performing Arts Center,Ticketed,Concert,Featured
ATTACH;FMTTYPE=image/webp:https://stayinmcallen.com/wp-content/uploads/2026/02/LOS-CANTORAL-1080x1080-1-scaled-dLkQDo.webp
GEO:26.19785;-98.277591
X-APPLE-STRUCTURED-LOCATION;VALUE=URI;X-ADDRESS=McAllen Performing Arts Center 99 Center Ln McAllen TX United States;X-APPLE-RADIUS=500;X-TITLE=99 Center Ln:geo:-98.277591,26.19785
END:VEVENT
BEGIN:VEVENT
DTSTART;TZID=America/Chicago:20260509T200000
DTEND;TZID=America/Chicago:20260509T230000
DTSTAMP:20260424T061334
CREATED:20260206T195030Z
LAST-MODIFIED:20260206T195034Z
UID:10003570-1778356800-1778367600@stayinmcallen.com
SUMMARY:Alejandro Sanz - ¿y Ahora Que? Gira Usa
DESCRIPTION:Ticket: https://www.ticketmaster.com/alejandro-sanz-y-ahora-que-gira-hidalgo-texas-05-09-2026/event/3A006355DAD69751?referrer=https%3A%2F%2Fwww.ticketmaster.com%2Falejandro-sanz-y-ahora-que-gira-hidalgo-texas-05-09-2026%2Fevent%2F3A006355DAD69751
URL:https://stayinmcallen.com/events/alejandro-sanz-y-ahora-que-gira-usa/
LOCATION:Payne Arena\, 2600 N 10th St\, Hidalgo\, TX\, 78557\, United States
ATTACH;FMTTYPE=image/webp:https://stayinmcallen.com/wp-content/uploads/2026/02/Alejandro-Sanz-2019-billboard-1548-1619471117.webp
END:VEVENT
END:VCALENDAR