BEGIN:VCALENDAR
VERSION:2.0
PRODID:-//Stayinmcallen - ECPv6.15.20//NONSGML v1.0//EN
CALSCALE:GREGORIAN
METHOD:PUBLISH
X-WR-CALNAME:Stayinmcallen
X-ORIGINAL-URL:https://stayinmcallen.com
X-WR-CALDESC:Events for Stayinmcallen
REFRESH-INTERVAL;VALUE=DURATION:PT1H
X-Robots-Tag:noindex
X-PUBLISHED-TTL:PT1H
BEGIN:VTIMEZONE
TZID:America/Chicago
BEGIN:DAYLIGHT
TZOFFSETFROM:-0600
TZOFFSETTO:-0500
TZNAME:CDT
DTSTART:20240310T080000
END:DAYLIGHT
BEGIN:STANDARD
TZOFFSETFROM:-0500
TZOFFSETTO:-0600
TZNAME:CST
DTSTART:20241103T070000
END:STANDARD
BEGIN:DAYLIGHT
TZOFFSETFROM:-0600
TZOFFSETTO:-0500
TZNAME:CDT
DTSTART:20250309T080000
END:DAYLIGHT
BEGIN:STANDARD
TZOFFSETFROM:-0500
TZOFFSETTO:-0600
TZNAME:CST
DTSTART:20251102T070000
END:STANDARD
BEGIN:DAYLIGHT
TZOFFSETFROM:-0600
TZOFFSETTO:-0500
TZNAME:CDT
DTSTART:20260308T080000
END:DAYLIGHT
BEGIN:STANDARD
TZOFFSETFROM:-0500
TZOFFSETTO:-0600
TZNAME:CST
DTSTART:20261101T070000
END:STANDARD
END:VTIMEZONE
BEGIN:VEVENT
DTSTART;TZID=America/Chicago:20250720T190000
DTEND;TZID=America/Chicago:20250720T230000
DTSTAMP:20260425T175543
CREATED:20250702T165107Z
LAST-MODIFIED:20250702T165435Z
UID:10002667-1753038000-1753052400@stayinmcallen.com
SUMMARY:WWE Supershow 2025
DESCRIPTION:WWE returns to Edinburg\, Texas on Sunday\, July 20 with WWE Supershow. Don’t miss your favorite WWE Superstars in action at Bert Ogden Arena.\nDON’T MISS WWE SUPERSHOW IN EDINBURG!\n  \nTriple Main Event!\nWorld Heavyweight Championship\nPenta vs World Heavyweight Champion GUNTHER\n\nCody Rhodes and Randy Orton vs. Solo SIkoa and JC Mateo\n\nStreet Fight for the WWE\nWWE Women’s Champion Tiffany Stratton vs Nia Jax\n\nCODY RHODES \nJEY USO \nWORLD HEAVYWEIGHT CHAMPION GUNTHER \nJACOB FATU \nSOLO SIKOA \nWWE WOMEN’S CHAMPION TIFFANY STRATTON \nWWE WOMEN’S TAG TEAM CHAMPIONS LIV MORGAN & RAQUEL RODRIGUEZ \nRHEA RIPLEY \nMR. MONEY IN THE BANK SETH “FREAKIN” ROLLINS \nWORLD TAG TEAM CHAMPIONS KOFI KINGSTON & XAVIER WOODS \nAND MANY MORE!
URL:https://stayinmcallen.com/events/wwe-supershow-2025/
LOCATION:Bert Ogden Arena\, 4900 S I-69C\, Edinburg\, TX\, 78539\, United States
CATEGORIES:Concert
ATTACH;FMTTYPE=image/webp:https://stayinmcallen.com/wp-content/uploads/2025/07/Screenshot-2025-07-02-115411.webp
END:VEVENT
END:VCALENDAR