BEGIN:VCALENDAR
VERSION:2.0
PRODID:-//Stayinmcallen - ECPv6.15.20//NONSGML v1.0//EN
CALSCALE:GREGORIAN
METHOD:PUBLISH
X-ORIGINAL-URL:https://stayinmcallen.com
X-WR-CALDESC:Events for Stayinmcallen
REFRESH-INTERVAL;VALUE=DURATION:PT1H
X-Robots-Tag:noindex
X-PUBLISHED-TTL:PT1H
BEGIN:VTIMEZONE
TZID:America/Chicago
BEGIN:DAYLIGHT
TZOFFSETFROM:-0600
TZOFFSETTO:-0500
TZNAME:CDT
DTSTART:20240310T080000
END:DAYLIGHT
BEGIN:STANDARD
TZOFFSETFROM:-0500
TZOFFSETTO:-0600
TZNAME:CST
DTSTART:20241103T070000
END:STANDARD
BEGIN:DAYLIGHT
TZOFFSETFROM:-0600
TZOFFSETTO:-0500
TZNAME:CDT
DTSTART:20250309T080000
END:DAYLIGHT
BEGIN:STANDARD
TZOFFSETFROM:-0500
TZOFFSETTO:-0600
TZNAME:CST
DTSTART:20251102T070000
END:STANDARD
BEGIN:DAYLIGHT
TZOFFSETFROM:-0600
TZOFFSETTO:-0500
TZNAME:CDT
DTSTART:20260308T080000
END:DAYLIGHT
BEGIN:STANDARD
TZOFFSETFROM:-0500
TZOFFSETTO:-0600
TZNAME:CST
DTSTART:20261101T070000
END:STANDARD
END:VTIMEZONE
BEGIN:VEVENT
DTSTART;VALUE=DATE:20251010
DTEND;VALUE=DATE:20251013
DTSTAMP:20260425T115954
CREATED:20251009T142927Z
LAST-MODIFIED:20251009T142927Z
UID:10003156-1760054400-1760313599@stayinmcallen.com
SUMMARY:Monster Jam 2025
DESCRIPTION:Feel the Thrill of Full-Throttle Fun\nGet ready for non-stop excitement as Edinburg roars to life with gravity-defying stunts\, heart-pounding races\, and plenty of big air! The world’s best drivers tear up on the dirt as they battle for the Event Championship in three competitions: Racing\, 2 Wheel Skills\, and everyone’s favorite\, Freestyle\, where Monster Jam trucks defy the laws of physics and do the impossible. Fans will be right in the middle of the action\, helping to crown the Event Champion as they get to score the drivers in real time based on their skills\, stunts\, and saves.
URL:https://stayinmcallen.com/events/monster-jam-2025/
LOCATION:Bert Ogden Arena\, 4900 S I-69C\, Edinburg\, TX\, 78539\, United States
ATTACH;FMTTYPE=image/webp:https://stayinmcallen.com/wp-content/uploads/2025/10/MonsterJamBOA_Featured-e1760020153670.webp
END:VEVENT
BEGIN:VEVENT
DTSTART;TZID=America/Chicago:20251011T100000
DTEND;TZID=America/Chicago:20251011T170000
DTSTAMP:20260425T115955
CREATED:20250826T192721Z
LAST-MODIFIED:20250826T193017Z
UID:10003007-1760176800-1760202000@stayinmcallen.com
SUMMARY:Día de los Muertos  Festival & Market at the Museum
DESCRIPTION:Celebrate this Día de los Muertos at IMAS with friends and family! Bring your loved ones in spirit and enjoy performances\, loteria\, arts and crafts\, and much more!\nMarket\, Festival\, Exhibits\, & Community Altars included with General Admission. Free for IMAS Members. \nEmail vc*****@***********ne.com to participate as a community or education partner.\n \nEmail jr********@***********ne.com for more information about being a vendor.
URL:https://stayinmcallen.com/events/dia-de-los-muertos-festival-market-at-the-museum/
LOCATION:IMAS\, 101 W Nolana Ave\, McAllen\, TX\, United States
ATTACH;FMTTYPE=image/webp:https://stayinmcallen.com/wp-content/uploads/2025/08/Screenshot-2025-08-26-142941.webp
ORGANIZER;CN="IMAS Museum":MAILTO:info@theimasonline.com
GEO:26.238021;-98.212333
X-APPLE-STRUCTURED-LOCATION;VALUE=URI;X-ADDRESS=IMAS 101 W Nolana Ave McAllen TX United States;X-APPLE-RADIUS=500;X-TITLE=101 W Nolana Ave:geo:-98.212333,26.238021
END:VEVENT
END:VCALENDAR