BEGIN:VCALENDAR
VERSION:2.0
PRODID:-//Stayinmcallen - ECPv6.15.20//NONSGML v1.0//EN
CALSCALE:GREGORIAN
METHOD:PUBLISH
X-ORIGINAL-URL:https://stayinmcallen.com
X-WR-CALDESC:Events for Stayinmcallen
REFRESH-INTERVAL;VALUE=DURATION:PT1H
X-Robots-Tag:noindex
X-PUBLISHED-TTL:PT1H
BEGIN:VTIMEZONE
TZID:America/Chicago
BEGIN:DAYLIGHT
TZOFFSETFROM:-0600
TZOFFSETTO:-0500
TZNAME:CDT
DTSTART:20240310T080000
END:DAYLIGHT
BEGIN:STANDARD
TZOFFSETFROM:-0500
TZOFFSETTO:-0600
TZNAME:CST
DTSTART:20241103T070000
END:STANDARD
BEGIN:DAYLIGHT
TZOFFSETFROM:-0600
TZOFFSETTO:-0500
TZNAME:CDT
DTSTART:20250309T080000
END:DAYLIGHT
BEGIN:STANDARD
TZOFFSETFROM:-0500
TZOFFSETTO:-0600
TZNAME:CST
DTSTART:20251102T070000
END:STANDARD
BEGIN:DAYLIGHT
TZOFFSETFROM:-0600
TZOFFSETTO:-0500
TZNAME:CDT
DTSTART:20260308T080000
END:DAYLIGHT
BEGIN:STANDARD
TZOFFSETFROM:-0500
TZOFFSETTO:-0600
TZNAME:CST
DTSTART:20261101T070000
END:STANDARD
END:VTIMEZONE
BEGIN:VEVENT
DTSTART;TZID=America/Chicago:20251206T180000
DTEND;TZID=America/Chicago:20251206T210000
DTSTAMP:20260425T060104
CREATED:20251110T214841Z
LAST-MODIFIED:20251110T214841Z
UID:10003256-1765044000-1765054800@stayinmcallen.com
SUMMARY:McAllen Holiday Parade 2025
DESCRIPTION:Join us at the 2025 McAllen Holiday Parade presented by H-E-B and powered by\nBert Ogden Fiesta Dealerships\, Reliant Energy ®\, McAllen International Airport\, Lone Star National Bank and South Padre Island \n\n\nGates open at 3:00 PM \nBe there live when the largest holiday and helium balloon parade in texas returns and experience: \n\n\n\n\n\n1.5 Mile stadium & street parade route\nCheer to twirl your favorite giant character\nBalloons in the new “Vuelta Zones”\nIlluminated floats and surprises\nCelebrity hosts and guest appearances\nMarching bands & dance teams\nChristmas in the Park
URL:https://stayinmcallen.com/events/mcallen-holiday-parade-2025/
LOCATION:McAllen Veterans Memorial Stadium\, 2001 N Bicentennial Blvd\, McAllen\, TX\, United States
CATEGORIES:Holiday Events
ATTACH;FMTTYPE=image/webp:https://stayinmcallen.com/wp-content/uploads/2025/11/530589453_776352948078418_7255980578843144903_n-e1762811268139.webp
GEO:26.222091;-98.236739
X-APPLE-STRUCTURED-LOCATION;VALUE=URI;X-ADDRESS=McAllen Veterans Memorial Stadium 2001 N Bicentennial Blvd McAllen TX United States;X-APPLE-RADIUS=500;X-TITLE=2001 N Bicentennial Blvd:geo:-98.236739,26.222091
END:VEVENT
END:VCALENDAR