BEGIN:VCALENDAR
VERSION:2.0
PRODID:-//Stayinmcallen - ECPv6.15.20//NONSGML v1.0//EN
CALSCALE:GREGORIAN
METHOD:PUBLISH
X-WR-CALNAME:Stayinmcallen
X-ORIGINAL-URL:https://stayinmcallen.com
X-WR-CALDESC:Events for Stayinmcallen
REFRESH-INTERVAL;VALUE=DURATION:PT1H
X-Robots-Tag:noindex
X-PUBLISHED-TTL:PT1H
BEGIN:VTIMEZONE
TZID:America/Chicago
BEGIN:DAYLIGHT
TZOFFSETFROM:-0600
TZOFFSETTO:-0500
TZNAME:CDT
DTSTART:20240310T080000
END:DAYLIGHT
BEGIN:STANDARD
TZOFFSETFROM:-0500
TZOFFSETTO:-0600
TZNAME:CST
DTSTART:20241103T070000
END:STANDARD
BEGIN:DAYLIGHT
TZOFFSETFROM:-0600
TZOFFSETTO:-0500
TZNAME:CDT
DTSTART:20250309T080000
END:DAYLIGHT
BEGIN:STANDARD
TZOFFSETFROM:-0500
TZOFFSETTO:-0600
TZNAME:CST
DTSTART:20251102T070000
END:STANDARD
BEGIN:DAYLIGHT
TZOFFSETFROM:-0600
TZOFFSETTO:-0500
TZNAME:CDT
DTSTART:20260308T080000
END:DAYLIGHT
BEGIN:STANDARD
TZOFFSETFROM:-0500
TZOFFSETTO:-0600
TZNAME:CST
DTSTART:20261101T070000
END:STANDARD
END:VTIMEZONE
BEGIN:VEVENT
DTSTART;TZID=America/Chicago:20250925T200000
DTEND;TZID=America/Chicago:20250925T230000
DTSTAMP:20260425T175511
CREATED:20250702T154653Z
LAST-MODIFIED:20250702T160916Z
UID:10002664-1758830400-1758841200@stayinmcallen.com
SUMMARY:Ana Gabriel "Claro de Luna" Tour
DESCRIPTION:Tickets https://www.ticketmaster.com/ana-gabriel-claro-de-luna-tour-hidalgo-texas-09-25-2025/event/3A0062A18DA23B8B
URL:https://stayinmcallen.com/events/ana-gabriel-claro-de-luna-tour/
LOCATION:Payne Arena\, 2600 N 10th St\, Hidalgo\, TX\, 78557\, United States
CATEGORIES:Concert
ATTACH;FMTTYPE=image/webp:https://stayinmcallen.com/wp-content/uploads/2025/07/tortillera-guatemala-ana-gabriel-GettyImages-72369512-e1626388348157.png.webp
END:VEVENT
BEGIN:VEVENT
DTSTART;TZID=America/Chicago:20250927T200000
DTEND;TZID=America/Chicago:20250927T230000
DTSTAMP:20260425T175511
CREATED:20250702T170103Z
LAST-MODIFIED:20250702T170103Z
UID:10002668-1759003200-1759014000@stayinmcallen.com
SUMMARY:Duelo - Mi Realidad Tour
DESCRIPTION:General Tickets: https://tix.axs.com/yIKvIwAAAAD05nvoAQAAAAB6%2fv%2f%2f%2fwD%2f%2f%2f%2f%2fC0xpdmUgRXZlbnRzAP%2f%2f%2f%2f%2f%2f%2f%2f%2f%2f\nAXS Premium: https://tix.axs.com/yIKvIwAAAABJ6XvoAQAAAABU%2fv%2f%2f%2fwD%2f%2f%2f%2f%2fC0xpdmUgRXZlbnRzAP%2f%2f%2f%2f%2f%2f%2f%2f%2f%2f
URL:https://stayinmcallen.com/events/duelo-mi-realidad-tour/
LOCATION:Bert Ogden Arena\, 4900 S I-69C\, Edinburg\, TX\, 78539\, United States
CATEGORIES:Concert
ATTACH;FMTTYPE=image/webp:https://stayinmcallen.com/wp-content/uploads/2025/07/Screenshot-2025-07-02-115824.webp
END:VEVENT
END:VCALENDAR