BEGIN:VCALENDAR
VERSION:2.0
PRODID:-//Stayinmcallen - ECPv6.15.20//NONSGML v1.0//EN
CALSCALE:GREGORIAN
METHOD:PUBLISH
X-ORIGINAL-URL:https://stayinmcallen.com
X-WR-CALDESC:Events for Stayinmcallen
REFRESH-INTERVAL;VALUE=DURATION:PT1H
X-Robots-Tag:noindex
X-PUBLISHED-TTL:PT1H
BEGIN:VTIMEZONE
TZID:America/Chicago
BEGIN:DAYLIGHT
TZOFFSETFROM:-0600
TZOFFSETTO:-0500
TZNAME:CDT
DTSTART:20250309T080000
END:DAYLIGHT
BEGIN:STANDARD
TZOFFSETFROM:-0500
TZOFFSETTO:-0600
TZNAME:CST
DTSTART:20251102T070000
END:STANDARD
BEGIN:DAYLIGHT
TZOFFSETFROM:-0600
TZOFFSETTO:-0500
TZNAME:CDT
DTSTART:20260308T080000
END:DAYLIGHT
BEGIN:STANDARD
TZOFFSETFROM:-0500
TZOFFSETTO:-0600
TZNAME:CST
DTSTART:20261101T070000
END:STANDARD
BEGIN:DAYLIGHT
TZOFFSETFROM:-0600
TZOFFSETTO:-0500
TZNAME:CDT
DTSTART:20270314T080000
END:DAYLIGHT
BEGIN:STANDARD
TZOFFSETFROM:-0500
TZOFFSETTO:-0600
TZNAME:CST
DTSTART:20271107T070000
END:STANDARD
END:VTIMEZONE
BEGIN:VEVENT
DTSTART;TZID=America/Chicago:20260215T060000
DTEND;TZID=America/Chicago:20260215T110000
DTSTAMP:20260425T060017
CREATED:20260130T003140Z
LAST-MODIFIED:20260219T151300Z
UID:10003518-1771135200-1771153200@stayinmcallen.com
SUMMARY:RGV Wedding & Quince Expo | McAllen TX – Feb 15\, 2026
DESCRIPTION:RGV Wedding & Quince Expo | McAllen TX – Feb 15\, 2026 \nEVENT INFO \nPlan your dream wedding or quinceañera at the RGV Wedding & Quince Expo on Feb 15\, 2026 at McAllen Convention Center. Vendors\, ideas & inspiration.\nBrides\, quinceañeras\, and families are invited to plan their perfect celebration at the RGV Wedding & Quince Expo\, taking place on Sunday\, February 15\, 2026 at the McAllen Convention Center.\nThis premier regional expo brings together top wedding and quinceañera professionals from across the Rio Grande Valley\, offering attendees a one-stop destination for inspiration\, planning\, and exclusive vendor access. From elegant bridal gowns and stunning quince dresses to venues\, décor\, photography\, catering\, entertainment\, and more\, the expo is designed to help turn dream celebrations into reality.\nAttendees will have the opportunity to meet directly with experienced vendors\, explore the latest trends\, compare services\, and gather ideas for every detail of their special event. Whether you’re just starting the planning process or finalizing the finishing touches\, the RGV Wedding & Quince Expo offers valuable resources and inspiration for celebrations of all styles and budgets.\nPerfect for brides-to-be\, quinceañeras\, parents\, and families\, this event is one of the most anticipated planning expos of the year in South Texas.\n📅 Date: Sunday\, February 15\, 2026📍 Location: McAllen Convention Center🌐 Website: www.RGVWeddingandQuince.com📞 More Info: (956) 400-4483\nDon’t miss your chance to connect with the region’s best vendors and start planning a wedding or quinceañera that’s truly unforgettable.
URL:https://stayinmcallen.com/events/rgv-wedding-quince-expo-mcallen-tx-feb-15-2026/
LOCATION:McAllen Performing Arts Center\, 99 Center Ln\, McAllen\, TX\, United States
CATEGORIES:Conference/Convention,Convention Center,Featured
ATTACH;FMTTYPE=image/webp:https://stayinmcallen.com/wp-content/uploads/2026/01/611580151_1544818320698697_7028435456647516427_n-XIUfCN.webp
GEO:26.19785;-98.277591
X-APPLE-STRUCTURED-LOCATION;VALUE=URI;X-ADDRESS=McAllen Performing Arts Center 99 Center Ln McAllen TX United States;X-APPLE-RADIUS=500;X-TITLE=99 Center Ln:geo:-98.277591,26.19785
END:VEVENT
END:VCALENDAR