BEGIN:VCALENDAR
VERSION:2.0
PRODID:-//Stayinmcallen - ECPv6.15.20//NONSGML v1.0//EN
CALSCALE:GREGORIAN
METHOD:PUBLISH
X-ORIGINAL-URL:https://stayinmcallen.com
X-WR-CALDESC:Events for Stayinmcallen
REFRESH-INTERVAL;VALUE=DURATION:PT1H
X-Robots-Tag:noindex
X-PUBLISHED-TTL:PT1H
BEGIN:VTIMEZONE
TZID:America/Chicago
BEGIN:DAYLIGHT
TZOFFSETFROM:-0600
TZOFFSETTO:-0500
TZNAME:CDT
DTSTART:20250309T080000
END:DAYLIGHT
BEGIN:STANDARD
TZOFFSETFROM:-0500
TZOFFSETTO:-0600
TZNAME:CST
DTSTART:20251102T070000
END:STANDARD
BEGIN:DAYLIGHT
TZOFFSETFROM:-0600
TZOFFSETTO:-0500
TZNAME:CDT
DTSTART:20260308T080000
END:DAYLIGHT
BEGIN:STANDARD
TZOFFSETFROM:-0500
TZOFFSETTO:-0600
TZNAME:CST
DTSTART:20261101T070000
END:STANDARD
BEGIN:DAYLIGHT
TZOFFSETFROM:-0600
TZOFFSETTO:-0500
TZNAME:CDT
DTSTART:20270314T080000
END:DAYLIGHT
BEGIN:STANDARD
TZOFFSETFROM:-0500
TZOFFSETTO:-0600
TZNAME:CST
DTSTART:20271107T070000
END:STANDARD
END:VTIMEZONE
BEGIN:VEVENT
DTSTART;TZID=America/Chicago:20260219T133000
DTEND;TZID=America/Chicago:20260219T133000
DTSTAMP:20260425T090353
CREATED:20260116T123802Z
LAST-MODIFIED:20260219T150212Z
UID:10003489-1771507800-1771507800@stayinmcallen.com
SUMMARY:McAllen Wind Ensemble Presents British Invasion
DESCRIPTION:McAllen Wind Ensemble Presents British Invasion\nReserve Free Tickets Here\nThe McAllen Wind Ensemble presents British Invasion live in McAllen on Feb 19\, 2026. Concert underwritten by the McAllen Performing & Cultural Arts Foundation. \nTravel across the Atlantic through sound as the McAllen Wind Ensemble presents British Invasion\, a dynamic concert celebrating the music and cultural influence of Great Britain\, on Thursday\, February 19\, 2026 at 7:30 PM.\nPresented at the McAllen Performing Arts Center\, this engaging program showcases the power and versatility of the wind ensemble through a curated selection of music inspired by Britain’s rich musical legacy. Audiences can expect a sophisticated and immersive evening that blends classical tradition with recognizable themes and bold orchestral color.\nBritish Invasion is a celebration of musical storytelling\, performed by one of the Rio Grande Valley’s premier community ensembles. With polished musicianship and expressive performances\, the McAllen Wind Ensemble continues its mission of bringing high-quality symphonic music to the community in an accessible and inspiring setting.\nThis concert is underwritten by the McAllen Performing & Cultural Arts Foundation\, whose support helps expand access to arts education and live performances in the region. Their commitment plays a vital role in sustaining cultural programming and enriching the artistic life of McAllen.\nLobby doors open at 6:30 PM\, with the concert beginning promptly at 7:30 PM.\n📅 Date: Thursday\, February 19\, 2026⏰ Time: 7:30 PM (Lobby opens at 6:30 PM) \nJoin us for an elegant and engaging evening that highlights the enduring influence of British music through the expressive power of the wind ensemble.
URL:https://stayinmcallen.com/events/mcallen-wind-ensemble-presents-british-invasion/
LOCATION:McAllen Performing Arts Center\, 99 Center Ln\, McAllen\, TX\, United States
CATEGORIES:Performance,Performing Arts Center,Concert
ATTACH;FMTTYPE=image/webp:https://stayinmcallen.com/wp-content/uploads/2026/01/900-x-900-px-British-Invasion-2EreIr.webp
GEO:26.19785;-98.277591
X-APPLE-STRUCTURED-LOCATION;VALUE=URI;X-ADDRESS=McAllen Performing Arts Center 99 Center Ln McAllen TX United States;X-APPLE-RADIUS=500;X-TITLE=99 Center Ln:geo:-98.277591,26.19785
END:VEVENT
END:VCALENDAR