BEGIN:VCALENDAR
VERSION:2.0
PRODID:-//Stayinmcallen - ECPv6.15.20//NONSGML v1.0//EN
CALSCALE:GREGORIAN
METHOD:PUBLISH
X-ORIGINAL-URL:https://stayinmcallen.com
X-WR-CALDESC:Events for Stayinmcallen
REFRESH-INTERVAL;VALUE=DURATION:PT1H
X-Robots-Tag:noindex
X-PUBLISHED-TTL:PT1H
BEGIN:VTIMEZONE
TZID:America/Chicago
BEGIN:DAYLIGHT
TZOFFSETFROM:-0600
TZOFFSETTO:-0500
TZNAME:CDT
DTSTART:20240310T080000
END:DAYLIGHT
BEGIN:STANDARD
TZOFFSETFROM:-0500
TZOFFSETTO:-0600
TZNAME:CST
DTSTART:20241103T070000
END:STANDARD
BEGIN:DAYLIGHT
TZOFFSETFROM:-0600
TZOFFSETTO:-0500
TZNAME:CDT
DTSTART:20250309T080000
END:DAYLIGHT
BEGIN:STANDARD
TZOFFSETFROM:-0500
TZOFFSETTO:-0600
TZNAME:CST
DTSTART:20251102T070000
END:STANDARD
BEGIN:DAYLIGHT
TZOFFSETFROM:-0600
TZOFFSETTO:-0500
TZNAME:CDT
DTSTART:20260308T080000
END:DAYLIGHT
BEGIN:STANDARD
TZOFFSETFROM:-0500
TZOFFSETTO:-0600
TZNAME:CST
DTSTART:20261101T070000
END:STANDARD
END:VTIMEZONE
BEGIN:VEVENT
DTSTART;TZID=America/Chicago:20250830T200000
DTEND;TZID=America/Chicago:20250830T230000
DTSTAMP:20260423T061658
CREATED:20250505T164740Z
LAST-MODIFIED:20250505T165002Z
UID:10002443-1756584000-1756594800@stayinmcallen.com
SUMMARY:Bronco Live
DESCRIPTION:Grupo Bronco has such an extensive history starting since 1979\, involving 20 albums\, a cartoon\, and even a movie. With all their years of experience and excellent members\, they have generated a strong fanbase and a stronger discography. They are going to bring all they got to Hiidalgo\, so get ready!
URL:https://stayinmcallen.com/events/bronco-live/
LOCATION:Payne Arena\, 2600 N 10th St\, Hidalgo\, TX\, 78557\, United States
CATEGORIES:Live Music,McAllen Performing Arts Center (MPAC)
ATTACH;FMTTYPE=image/png:https://stayinmcallen.com/wp-content/uploads/2023/01/bronco.png
END:VEVENT
END:VCALENDAR