BEGIN:VCALENDAR
VERSION:2.0
PRODID:-//Stayinmcallen - ECPv6.15.20//NONSGML v1.0//EN
CALSCALE:GREGORIAN
METHOD:PUBLISH
X-ORIGINAL-URL:https://stayinmcallen.com
X-WR-CALDESC:Events for Stayinmcallen
REFRESH-INTERVAL;VALUE=DURATION:PT1H
X-Robots-Tag:noindex
X-PUBLISHED-TTL:PT1H
BEGIN:VTIMEZONE
TZID:America/Chicago
BEGIN:DAYLIGHT
TZOFFSETFROM:-0600
TZOFFSETTO:-0500
TZNAME:CDT
DTSTART:20220313T080000
END:DAYLIGHT
BEGIN:STANDARD
TZOFFSETFROM:-0500
TZOFFSETTO:-0600
TZNAME:CST
DTSTART:20221106T070000
END:STANDARD
BEGIN:DAYLIGHT
TZOFFSETFROM:-0600
TZOFFSETTO:-0500
TZNAME:CDT
DTSTART:20230312T080000
END:DAYLIGHT
BEGIN:STANDARD
TZOFFSETFROM:-0500
TZOFFSETTO:-0600
TZNAME:CST
DTSTART:20231105T070000
END:STANDARD
BEGIN:DAYLIGHT
TZOFFSETFROM:-0600
TZOFFSETTO:-0500
TZNAME:CDT
DTSTART:20240310T080000
END:DAYLIGHT
BEGIN:STANDARD
TZOFFSETFROM:-0500
TZOFFSETTO:-0600
TZNAME:CST
DTSTART:20241103T070000
END:STANDARD
END:VTIMEZONE
BEGIN:VEVENT
DTSTART;TZID=America/Chicago:20231130T180000
DTEND;TZID=America/Chicago:20231230T213000
DTSTAMP:20260423T111940
CREATED:20231222T064354Z
LAST-MODIFIED:20231229T065856Z
UID:10000404-1701367200-1703971800@stayinmcallen.com
SUMMARY:South Pole Illuminated Festival presented by H-E-B
DESCRIPTION:???? Join us at the South Pole Illuminated Festival! ????\nImmerse yourself in holiday cheer right here in the McAllen Convention Center NOW and throughout December!! Experience a bright and festive holiday wonderland ???? Bring your friends and family to experience the joy and warmth of our very own South Pole of Texas! ❄️\n????Tallest Digital Christmas Tree in America\n✨100 NEW Giant Lanterns\n????Train rides\n????Carnival\n& so MUCH MORE????\n????McAllen Convention Center\n????️ https://bit.ly/southpoletickets\nFriday & Saturday: 5:30PM -10:30PM\nSunday – Thursday: 5:30PM – 9:30PM\nCLOSED MONDAYS\nThank you to our amazing partners for making this possible including: H-E-B \, Sames Lincoln McAllen\, Lone Star National Bank \, McAllen International Airport \, Martinez Powersports \, South Texas ISD \, Metro McAllen & Reliant Energy ®.\nCity of McAllen TX Government McAllen Chamber of Commerce Visit McAllen Explore McAllen McAllen Economic Development Corporation The McAllen Experience\n#SouthPoleIlluminatedFestival #SouthPoleofTexas #McAllen\n#McAllenTX #CityofMcAllen #LoneStarNationalBank
URL:https://stayinmcallen.com/events/south-pole-illuminated-festival-presented-by-h-e-b/
LOCATION:McAllen Convention Center\, 98 Center Ln\, McAllen\, TX\, United States
CATEGORIES:Live Music,Family Fun,Performing Arts,City Events,Parks and Outdoors,Food and Drink Events,Holiday Events,Explore McAllen,Children's Activities,Photo Opportunities,Concerts
ATTACH;FMTTYPE=image/jpeg:https://stayinmcallen.com/wp-content/uploads/2023/12/406415547_969534188040773_2763918111173908351_n-scaled-FDCxEw.tmp_.jpg
GEO:26.19785;-98.277591
X-APPLE-STRUCTURED-LOCATION;VALUE=URI;X-ADDRESS=McAllen Convention Center 98 Center Ln McAllen TX United States;X-APPLE-RADIUS=500;X-TITLE=98 Center Ln:geo:-98.277591,26.19785
END:VEVENT
BEGIN:VEVENT
DTSTART;TZID=America/Chicago:20231228T190000
DTEND;TZID=America/Chicago:20231228T210000
DTSTAMP:20260423T111940
CREATED:20231201T060557Z
LAST-MODIFIED:20231222T064655Z
UID:10000289-1703790000-1703797200@stayinmcallen.com
SUMMARY:NUTCRACKER! Magical Christmas Ballet
DESCRIPTION:The beloved family tradition is back: NUTCRACKER! Magical Christmas Ballet! Gather your loved ones for the warm-glow-nostalgia of America’s favorite Christmas celebration. Experience the extraordinary international cast and Ukrainian Principal Artists performing at the peak of classical European Ballet. Be transported by the magic of jaw-dropping acrobatics\, larger than life puppets and stunning hand-crafted sets and costumes. Don’t miss this chance to experience the wonder of NUTCRACKER! Magical Christmas Ballet. Get tickets now! \n 
URL:https://stayinmcallen.com/events/nutcracker-magical-christmas-ballet/
LOCATION:McAllen Convention Center\, 98 Center Ln\, McAllen\, TX\, United States
CATEGORIES:Family Fun,Performing Arts,Holiday Events,Explore McAllen,Children's Activities
ATTACH;FMTTYPE=image/jpeg:https://stayinmcallen.com/wp-content/uploads/2023/12/NutcrackerHeroImage-scaled-i2iDFO.tmp_.jpg
GEO:26.19785;-98.277591
X-APPLE-STRUCTURED-LOCATION;VALUE=URI;X-ADDRESS=McAllen Convention Center 98 Center Ln McAllen TX United States;X-APPLE-RADIUS=500;X-TITLE=98 Center Ln:geo:-98.277591,26.19785
END:VEVENT
BEGIN:VEVENT
DTSTART;TZID=America/Chicago:20231230T090000
DTEND;TZID=America/Chicago:20231230T120000
DTSTAMP:20260423T111940
CREATED:20231201T060603Z
LAST-MODIFIED:20231215T063232Z
UID:10000290-1703926800-1703937600@stayinmcallen.com
SUMMARY:Farmer's Market at Firemen's Park
DESCRIPTION:Come out to the FARMER’S MARKET EVERY SATURDAY & support your local farmers! Join us for our weekly Farmers Market of locally produced fruits\, meats\, vegetables & educational programs for the public – something for everyone at #FiremensPark #Townlake #McAllen\nSee you there!
URL:https://stayinmcallen.com/events/farmers-market-at-firemens-park-45/
LOCATION:mcallen firemen’s park\, 201 N 1st St\,\, McAllen\, 78501
CATEGORIES:Explore McAllen
ATTACH;FMTTYPE=image/jpeg:https://stayinmcallen.com/wp-content/uploads/2023/03/inbound418977952134887748-4k6cKt.tmp_.jpg
END:VEVENT
BEGIN:VEVENT
DTSTART;TZID=America/Chicago:20231230T093000
DTEND;TZID=America/Chicago:20231230T123000
DTSTAMP:20260423T111940
CREATED:20231229T065854Z
LAST-MODIFIED:20231229T065859Z
UID:10000415-1703928600-1703939400@stayinmcallen.com
SUMMARY:"End of Year" Yoga + Brunch!
DESCRIPTION:Join us for our “End of Year” ???????????????? + ???????????????????????? at ???????????????????????????????????????? ???????????????????? ???????????????????? ????????????????????????????????!!!\nDuring this event you will be guided by Matthew\, Ana Paula and Mayela through a ???????????????? ????????????????\, ???????????????????????????????????????? and ???????????????????????????????????? ???????????????????????????? ???????????? ????????????????.\nFollowing class there will be a Brunch Buffet and Mimosas or Beer for participants to enjoy. Your ticket includes the Buffet plus either 2 Mimosas or 1 Beer.\nPLUS we will have an amazing ???????????????????????????????? with items from: Quiet Mind Yoga\, University Draft House\, Elite Functional Health\, Doterra\, Ana Paula Morales and MORE!!!\nTo reserve your spot visit www.qmypractice.com/events\, link in bio\, or visit the MINDBODY app!
URL:https://stayinmcallen.com/events/end-of-year-yoga-brunch/
LOCATION:University Draft House at Town Lake\, 201 N. 1st Street\, McAllen\, 78501
CATEGORIES:Explore McAllen
ATTACH;FMTTYPE=image/png:https://stayinmcallen.com/wp-content/uploads/2023/12/Yoga-Brunch-1-Q4JaWu.tmp_.png
ORGANIZER;CN="Quiet Mind Yoga":MAILTO:Matthew@qmypractice.com
END:VEVENT
BEGIN:VEVENT
DTSTART;TZID=America/Chicago:20231231T160000
DTEND;TZID=America/Chicago:20231231T190000
DTSTAMP:20260423T111940
CREATED:20231222T064406Z
LAST-MODIFIED:20231229T065911Z
UID:10000405-1704038400-1704049200@stayinmcallen.com
SUMMARY:Ring in the New Year at D&B - Friendly Friendly
DESCRIPTION:There’s only one way to end the year & start another — with FUN. New Years Eve at Dave & Buster’s is the place to be\, with unforgettable entertainment\, incredible bites worthy of being the last meal of the year\, and OH — did we mention Unlimited Video Game Play ALL night long. Plus enjoy an all-ages ginger ale toast accompanied by a special video countdown.\nGrab tickets for the whole fam and come through for a New Years Eve celebration that’s as fun as can be (and will have you home before midnight\, we promise!)\nCelebration Admission includes: Access to our yummy appetizer banquet\, unlimited soda\, coffee\, & tea\, a $20 Power Card® with Unlimited Video Game Play\, a special Ginger Ale New Year’s Eve toast & video countdown\, suggested 18% gratuity\, and taxes.
URL:https://stayinmcallen.com/events/ring-in-the-new-year-at-db-friendly-friendly/
LOCATION:Dave & Buster’s\, 2700 W Expressway 83\, McAllen\, 78501
CATEGORIES:Family Fun,Food and Drink Events,Holiday Events,Explore McAllen
ATTACH;FMTTYPE=image/jpeg:https://stayinmcallen.com/wp-content/uploads/2023/12/NYE-Celebration-Early-YCtdvQ.tmp_.jpg
ORGANIZER;CN="Dave &amp%3Bamp%3B Buster's McAllen":MAILTO:n.harris-flippo@daveandbusters.com
END:VEVENT
END:VCALENDAR