BEGIN:VCALENDAR
VERSION:2.0
PRODID:-//Stayinmcallen - ECPv6.15.20//NONSGML v1.0//EN
CALSCALE:GREGORIAN
METHOD:PUBLISH
X-WR-CALNAME:Stayinmcallen
X-ORIGINAL-URL:https://stayinmcallen.com
X-WR-CALDESC:Events for Stayinmcallen
REFRESH-INTERVAL;VALUE=DURATION:PT1H
X-Robots-Tag:noindex
X-PUBLISHED-TTL:PT1H
BEGIN:VTIMEZONE
TZID:America/Chicago
BEGIN:DAYLIGHT
TZOFFSETFROM:-0600
TZOFFSETTO:-0500
TZNAME:CDT
DTSTART:20230312T080000
END:DAYLIGHT
BEGIN:STANDARD
TZOFFSETFROM:-0500
TZOFFSETTO:-0600
TZNAME:CST
DTSTART:20231105T070000
END:STANDARD
BEGIN:DAYLIGHT
TZOFFSETFROM:-0600
TZOFFSETTO:-0500
TZNAME:CDT
DTSTART:20240310T080000
END:DAYLIGHT
BEGIN:STANDARD
TZOFFSETFROM:-0500
TZOFFSETTO:-0600
TZNAME:CST
DTSTART:20241103T070000
END:STANDARD
BEGIN:DAYLIGHT
TZOFFSETFROM:-0600
TZOFFSETTO:-0500
TZNAME:CDT
DTSTART:20250309T080000
END:DAYLIGHT
BEGIN:STANDARD
TZOFFSETFROM:-0500
TZOFFSETTO:-0600
TZNAME:CST
DTSTART:20251102T070000
END:STANDARD
END:VTIMEZONE
BEGIN:VEVENT
DTSTART;TZID=America/Chicago:20240104T180000
DTEND;TZID=America/Chicago:20240229T200000
DTSTAMP:20260423T161651
CREATED:20240112T071354Z
LAST-MODIFIED:20240209T074514Z
UID:10000422-1704391200-1709236800@stayinmcallen.com
SUMMARY:New Year Art Exhibit
DESCRIPTION:Explore a captivating art exhibition highlighting the works of local artists Robert Viña\, Dinah Rodriguez\, Alexis Marie Ramos\, and Erica Sanchez-Medrano. The showcase presents a stunning variety of styles\, including beautiful landscapes\, bold expressionism\, contemporary pieces\, and playful sculptures. Don’t miss the opportunity to experience this must-see exhibition at Kreative Grounds Café\, running through February 29th!
URL:https://stayinmcallen.com/events/new-year-art-exhibit/
LOCATION:Kreative Grounds Café\, 609 N 10th\, McAllen\, 78501
CATEGORIES:Conventions and Exhibitions,Art Exhibits,Explore McAllen,Social Meetups,Museums and History
ATTACH;FMTTYPE=image/jpeg:https://stayinmcallen.com/wp-content/uploads/2024/01/Artists-JanFeb-Exhibit-1-scaled-QdCYm3.tmp_.jpg
ORGANIZER;CN="Kris Karr":MAILTO:Kreativegrounds.cafe@gmail.com
END:VEVENT
BEGIN:VEVENT
DTSTART;TZID=America/Chicago:20240109T080000
DTEND;TZID=America/Chicago:20240126T170000
DTSTAMP:20260423T161651
CREATED:20240112T071405Z
LAST-MODIFIED:20240126T073553Z
UID:10000423-1704787200-1706288400@stayinmcallen.com
SUMMARY:Carlos Limas 'Intangible' Exhibition
DESCRIPTION:“Intangible\,” encapsulates a visual narrative that transcends our conventional sense of perception. This collection of digitally manipulated images portrays people and places\, wherein patterns of lines extend in diverse directions from central subjects. The assessment of different color palettes\, ranging from vivid and saturated tones to a more neutral\, almost monochromatic palette\, adds layers of emotion and depth to this visual experience.
URL:https://stayinmcallen.com/events/carlos-limas-intangible-exhibition/
LOCATION:South Texas College Pecan Campus – Art Building B-103\, 3201 Pecan Blvd\, McAllen\, TX\, United States
CATEGORIES:Art Exhibits,Explore McAllen
ATTACH;FMTTYPE=image/jpeg:https://stayinmcallen.com/wp-content/uploads/2024/01/INTANGIBLE-STC-CarlosLimas-scaled-4iFFG5.tmp_.jpg
GEO:26.21876;-98.254224
X-APPLE-STRUCTURED-LOCATION;VALUE=URI;X-ADDRESS=South Texas College Pecan Campus – Art Building B-103 3201 Pecan Blvd McAllen TX United States;X-APPLE-RADIUS=500;X-TITLE=3201 Pecan Blvd:geo:-98.254224,26.21876
END:VEVENT
BEGIN:VEVENT
DTSTART;VALUE=DATE:20240111
DTEND;VALUE=DATE:20240113
DTSTAMP:20260423T161651
CREATED:20231208T045925Z
LAST-MODIFIED:20231208T045925Z
UID:10000294-1704996000-1705082399@stayinmcallen.com
SUMMARY:UTRGV Women's Track & Field  Arkansas Invitational
DESCRIPTION:UTRGV Women’s Track & Field  Arkansas Invitational\n https://goutrgv.com/calendar.aspx?game_id=27296&sport_id=11
URL:https://stayinmcallen.com/events/utrgv-womens-track-field-arkansas-invitational-2/
LOCATION:Fayetteville\, AR
END:VEVENT
BEGIN:VEVENT
DTSTART;VALUE=DATE:20240111
DTEND;VALUE=DATE:20240113
DTSTAMP:20260423T161651
CREATED:20231208T045927Z
LAST-MODIFIED:20231208T045927Z
UID:10000295-1704996000-1705082399@stayinmcallen.com
SUMMARY:UTRGV Men's Track & Field  Arkansas Invitational
DESCRIPTION:UTRGV Men’s Track & Field  Arkansas Invitational\n https://goutrgv.com/calendar.aspx?game_id=27280&sport_id=7
URL:https://stayinmcallen.com/events/utrgv-mens-track-field-arkansas-invitational-2/
LOCATION:Fayetteville\, AR
END:VEVENT
BEGIN:VEVENT
DTSTART;TZID=America/Chicago:20240112T110000
DTEND;TZID=America/Chicago:20240112T140000
DTSTAMP:20260423T161651
CREATED:20231208T045920Z
LAST-MODIFIED:20240112T061818Z
UID:10000291-1705057200-1705068000@stayinmcallen.com
SUMMARY:UTRGV Women's Track & Field  Arkansas Invitational
DESCRIPTION:UTRGV Women’s Track & Field  Arkansas Invitational\nStreaming Video: https://www.espn.com/watch/player/_/id/91ce4407-1267-41cc-b211-4fc4f9ea0668\n https://goutrgv.com/calendar.aspx?game_id=27296&sport_id=11
URL:https://stayinmcallen.com/events/utrgv-womens-track-field-arkansas-invitational/
LOCATION:Fayetteville\, AR
END:VEVENT
BEGIN:VEVENT
DTSTART;TZID=America/Chicago:20240112T110000
DTEND;TZID=America/Chicago:20240112T140000
DTSTAMP:20260423T161651
CREATED:20231208T045925Z
LAST-MODIFIED:20240112T061821Z
UID:10000292-1705057200-1705068000@stayinmcallen.com
SUMMARY:UTRGV Men's Track & Field  Arkansas Invitational
DESCRIPTION:UTRGV Men’s Track & Field  Arkansas Invitational\nStreaming Video: https://www.espn.com/watch/player/_/id/91ce4407-1267-41cc-b211-4fc4f9ea0668\n https://goutrgv.com/calendar.aspx?game_id=27280&sport_id=7
URL:https://stayinmcallen.com/events/utrgv-mens-track-field-arkansas-invitational/
LOCATION:Fayetteville\, AR
END:VEVENT
BEGIN:VEVENT
DTSTART;TZID=America/Chicago:20240112T190000
DTEND;TZID=America/Chicago:20240112T210000
DTSTAMP:20260423T161651
CREATED:20240105T070150Z
LAST-MODIFIED:20240112T071536Z
UID:10000416-1705086000-1705093200@stayinmcallen.com
SUMMARY:Celebratory Sip\, Canvas Painting\, & Selfie Experience
DESCRIPTION:Join Us For The First Canvas Painting Event Of The Year!\n \nCelebrate Your Accomplishments You Have Done The Past Year & Brain Storm The New Years Goals!\nAll Materials Included\nBYOB Event\nTwo Options For Canvas Painting\nBring Your Fun Outfits To Capture Some Fun Selfies!\n \nBooking ONLINE ONLY www.selfiesandmore.com\nFor more information (956) 207-8696\n \n 
URL:https://stayinmcallen.com/events/celebratory-sip-canvas-painting-selfie-experience/
LOCATION:TX
CATEGORIES:Explore McAllen
ATTACH;FMTTYPE=image/png:https://stayinmcallen.com/wp-content/uploads/2024/01/Celebratory-2KjQDR.tmp_.png
END:VEVENT
BEGIN:VEVENT
DTSTART;TZID=America/Chicago:20240113T110000
DTEND;TZID=America/Chicago:20240113T140000
DTSTAMP:20260423T161651
CREATED:20231215T051439Z
LAST-MODIFIED:20240112T061823Z
UID:10000362-1705143600-1705154400@stayinmcallen.com
SUMMARY:UTRGV Men's Tennis at Oklahoma State
DESCRIPTION:UTRGV Men’s Tennis at Oklahoma State\nStreaming Video: https://okstate.com/sports/2016/2/22/TENNIS_VIDEO\n https://goutrgv.com/calendar.aspx?game_id=27340&sport_id=6
URL:https://stayinmcallen.com/events/utrgv-mens-tennis-at-oklahoma-state/
LOCATION:Stillwater\, OK
END:VEVENT
BEGIN:VEVENT
DTSTART;TZID=America/Chicago:20240113T150000
DTEND;TZID=America/Chicago:20240113T170000
DTSTAMP:20260423T161651
CREATED:20230721T002424Z
LAST-MODIFIED:20240112T061826Z
UID:10000421-1705158000-1705165200@stayinmcallen.com
SUMMARY:UTRGV Women's Basketball at Utah Valley
DESCRIPTION:UTRGV Women’s Basketball at Utah Valley\nTV: ESPN+ (USA) | WAC International\nStreaming Video: https://plus.espn.com/\n https://goutrgv.com/calendar.aspx?game_id=26944&sport_id=8
URL:https://stayinmcallen.com/events/utrgv-womens-basketball-at-utah-valley/
LOCATION:Orem\, UT
END:VEVENT
BEGIN:VEVENT
DTSTART;TZID=America/Chicago:20240114T090000
DTEND;TZID=America/Chicago:20240114T120000
DTSTAMP:20260423T161651
CREATED:20231215T051444Z
LAST-MODIFIED:20240112T061832Z
UID:10000363-1705222800-1705233600@stayinmcallen.com
SUMMARY:UTRGV Men's Tennis vs Omaha
DESCRIPTION:UTRGV Men’s Tennis vs Omaha\n https://goutrgv.com/calendar.aspx?game_id=27341&sport_id=6
URL:https://stayinmcallen.com/events/utrgv-mens-tennis-vs-omaha/
LOCATION:Stillwater\, OK
END:VEVENT
BEGIN:VEVENT
DTSTART;TZID=America/Chicago:20240114T120000
DTEND;TZID=America/Chicago:20240114T180000
DTSTAMP:20260423T161651
CREATED:20240105T070213Z
LAST-MODIFIED:20240112T071539Z
UID:10000417-1705233600-1705255200@stayinmcallen.com
SUMMARY:The Ecocentric Spot Turning 1
DESCRIPTION:Known as the first and only Oddity Store in McAllen\, The Ecocentric Spot is having their 1st year anniversary since opening!
URL:https://stayinmcallen.com/events/the-ecocentric-spot-turning-1/
LOCATION:The 10th Street Plaza\, 1624 N. 10th St. suite 8\, McAllen
CATEGORIES:Shopping,Explore McAllen
ATTACH;FMTTYPE=image/png:https://stayinmcallen.com/wp-content/uploads/2024/01/Welcome-5-1-I1ioXu.tmp_.png
ORGANIZER;CN="@theecocentricspot":MAILTO:theecocentricspot@gmail.com
END:VEVENT
END:VCALENDAR