BEGIN:VCALENDAR
VERSION:2.0
PRODID:-//Stayinmcallen - ECPv6.15.20//NONSGML v1.0//EN
CALSCALE:GREGORIAN
METHOD:PUBLISH
X-ORIGINAL-URL:https://stayinmcallen.com
X-WR-CALDESC:Events for Stayinmcallen
REFRESH-INTERVAL;VALUE=DURATION:PT1H
X-Robots-Tag:noindex
X-PUBLISHED-TTL:PT1H
BEGIN:VTIMEZONE
TZID:America/Chicago
BEGIN:DAYLIGHT
TZOFFSETFROM:-0600
TZOFFSETTO:-0500
TZNAME:CDT
DTSTART:20250309T080000
END:DAYLIGHT
BEGIN:STANDARD
TZOFFSETFROM:-0500
TZOFFSETTO:-0600
TZNAME:CST
DTSTART:20251102T070000
END:STANDARD
BEGIN:DAYLIGHT
TZOFFSETFROM:-0600
TZOFFSETTO:-0500
TZNAME:CDT
DTSTART:20260308T080000
END:DAYLIGHT
BEGIN:STANDARD
TZOFFSETFROM:-0500
TZOFFSETTO:-0600
TZNAME:CST
DTSTART:20261101T070000
END:STANDARD
BEGIN:DAYLIGHT
TZOFFSETFROM:-0600
TZOFFSETTO:-0500
TZNAME:CDT
DTSTART:20270314T080000
END:DAYLIGHT
BEGIN:STANDARD
TZOFFSETFROM:-0500
TZOFFSETTO:-0600
TZNAME:CST
DTSTART:20271107T070000
END:STANDARD
END:VTIMEZONE
BEGIN:VEVENT
DTSTART;VALUE=DATE:20260517
DTEND;VALUE=DATE:20260520
DTSTAMP:20260425T040948
CREATED:20250816T051001Z
LAST-MODIFIED:20260424T213444Z
UID:10002974-1779044400-1779217199@stayinmcallen.com
SUMMARY:UTRGV Men's Golf  NCAA Regionals
DESCRIPTION:UTRGV Men’s Golf  NCAA Regionals
URL:https://stayinmcallen.com/events/utrgv-mens-golf-ncaa-regionals-3/
LOCATION:Regional Sites
CATEGORIES:UTRGV Athletics
END:VEVENT
BEGIN:VEVENT
DTSTART;TZID=America/Chicago:20260520T100000
DTEND;TZID=America/Chicago:20260520T110000
DTSTAMP:20260425T040948
CREATED:20251215T103354Z
LAST-MODIFIED:20260424T113313Z
UID:10003333-1779271200-1779274800@stayinmcallen.com
SUMMARY:Young Adventurers - Outdoor Classroom
DESCRIPTION:Enjoy the outdoors at IMAS and use magnifying lenses to discover nature all around. Young Adventurers will take part in an outdoor story time and collect leaves and plants as they create their own nature squares and imprints
URL:https://stayinmcallen.com/events/young-adventurers-outdoor-classroom/
LOCATION:IMAS\, 101 W Nolana Ave\, McAllen\, TX\, United States
CATEGORIES:IMAS - International Museum of Art & Science,Youth Program
ATTACH;FMTTYPE=image/jpeg:https://stayinmcallen.com/wp-content/uploads/2024/12/Young-adventurers-toddler-scaled-yDlCwS.tmp_.jpg
GEO:26.238021;-98.212333
X-APPLE-STRUCTURED-LOCATION;VALUE=URI;X-ADDRESS=IMAS 101 W Nolana Ave McAllen TX United States;X-APPLE-RADIUS=500;X-TITLE=101 W Nolana Ave:geo:-98.212333,26.238021
END:VEVENT
BEGIN:VEVENT
DTSTART;TZID=America/Chicago:20260520T100000
DTEND;TZID=America/Chicago:20260520T110000
DTSTAMP:20260425T040948
CREATED:20260114T000513Z
LAST-MODIFIED:20260114T000513Z
UID:10003485-1779271200-1779274800@stayinmcallen.com
SUMMARY:Young Adventurers - Outdoor Classroom
DESCRIPTION:Enjoy the outdoors at IMAS and use magnifying lenses to discover nature all around. Young Adventurers will take part in an outdoor story time and collect leaves and plants as they create their own nature squares and imprints
URL:https://stayinmcallen.com/events/young-adventurers-outdoor-classroom-3/
LOCATION:IMAS\, 101 W Nolana Ave\, McAllen\, TX\, United States
CATEGORIES:IMAS - International Museum of Art & Science,Youth Program
ATTACH;FMTTYPE=image/jpeg:https://stayinmcallen.com/wp-content/uploads/2024/12/Young-adventurers-toddler-scaled-yDlCwS.tmp_.jpg
GEO:26.238021;-98.212333
X-APPLE-STRUCTURED-LOCATION;VALUE=URI;X-ADDRESS=IMAS 101 W Nolana Ave McAllen TX United States;X-APPLE-RADIUS=500;X-TITLE=101 W Nolana Ave:geo:-98.212333,26.238021
END:VEVENT
BEGIN:VEVENT
DTSTART;TZID=America/Chicago:20260520T110000
DTEND;TZID=America/Chicago:20260520T120000
DTSTAMP:20260425T040948
CREATED:20260102T153102Z
LAST-MODIFIED:20260424T113317Z
UID:10003449-1779274800-1779278400@stayinmcallen.com
SUMMARY:Young Adventurers - Outdoor Classroom
DESCRIPTION:Enjoy the outdoors at IMAS and use magnifying lenses to discover nature all around. Young Adventurers will take part in an outdoor story time and collect leaves and plants as they create their own nature squares and imprints
URL:https://stayinmcallen.com/events/young-adventurers-outdoor-classroom-2/
LOCATION:IMAS\, 101 W Nolana Ave\, McAllen\, TX\, United States
CATEGORIES:IMAS - International Museum of Art & Science,Youth Program
ATTACH;FMTTYPE=image/jpeg:https://stayinmcallen.com/wp-content/uploads/2024/12/Young-adventurers-toddler-scaled-yDlCwS.tmp_.jpg
GEO:26.238021;-98.212333
X-APPLE-STRUCTURED-LOCATION;VALUE=URI;X-ADDRESS=IMAS 101 W Nolana Ave McAllen TX United States;X-APPLE-RADIUS=500;X-TITLE=101 W Nolana Ave:geo:-98.212333,26.238021
END:VEVENT
BEGIN:VEVENT
DTSTART;TZID=America/Chicago:20260521T180000
DTEND;TZID=America/Chicago:20260521T210000
DTSTAMP:20260425T040948
CREATED:20250830T061148Z
LAST-MODIFIED:20260424T213448Z
UID:10003089-1779386400-1779397200@stayinmcallen.com
SUMMARY:UTRGV Baseball vs Championship Series Game 1
DESCRIPTION:UTRGV Baseball vs Championship Series Game 1\nStreaming Video: https://www.southland.org/espn\nStreaming Audio: https://www.southland.org/watch
URL:https://stayinmcallen.com/events/utrgv-baseball-vs-championship-series-game-1/
LOCATION:Highest Remaining Seed
CATEGORIES:UTRGV Athletics
END:VEVENT
BEGIN:VEVENT
DTSTART;VALUE=DATE:20260521
DTEND;VALUE=DATE:20260527
DTSTAMP:20260425T040948
CREATED:20250816T050956Z
LAST-MODIFIED:20260424T213500Z
UID:10002973-1779390000-1779821999@stayinmcallen.com
SUMMARY:UTRGV Women's Golf  NCAA Championships
DESCRIPTION:UTRGV Women’s Golf  NCAA Championships
URL:https://stayinmcallen.com/events/utrgv-womens-golf-ncaa-championships-3/
LOCATION:Carlsbad\, Calif.
CATEGORIES:UTRGV Athletics
END:VEVENT
BEGIN:VEVENT
DTSTART;TZID=America/Chicago:20260522T180000
DTEND;TZID=America/Chicago:20260522T210000
DTSTAMP:20260425T040948
CREATED:20250830T061153Z
LAST-MODIFIED:20260424T213452Z
UID:10003090-1779472800-1779483600@stayinmcallen.com
SUMMARY:UTRGV Baseball vs Championship Series Game 2
DESCRIPTION:UTRGV Baseball vs Championship Series Game 2\nStreaming Video: https://www.southland.org/espn\nStreaming Audio: https://www.southland.org/watch
URL:https://stayinmcallen.com/events/utrgv-baseball-vs-championship-series-game-2/
LOCATION:Highest Remaining Seed
CATEGORIES:UTRGV Athletics
END:VEVENT
BEGIN:VEVENT
DTSTART;TZID=America/Chicago:20260523T100000
DTEND;TZID=America/Chicago:20260523T120000
DTSTAMP:20260425T040948
CREATED:20250816T233517Z
LAST-MODIFIED:20260424T113320Z
UID:10002981-1779530400-1779537600@stayinmcallen.com
SUMMARY:Girl Scouts Workshop | Junior – Detective
DESCRIPTION:Saturday\, May 23\, 2026\n10:00 a.m. – 12:00 p.m.\nJunior – Detective: Become a junior detective at IMAS and document the clues at the crime scene. Girl Scouts will practice the power of observation\, analyze fingerprint patterns\, create code in invisible ink and more! This workshop covers all steps.
URL:https://stayinmcallen.com/events/girl-scouts-workshop-junior-detective/
LOCATION:IMAS\, 101 W Nolana Ave\, McAllen\, TX\, United States
CATEGORIES:Special Event,IMAS - International Museum of Art & Science,Youth Program
ATTACH;FMTTYPE=image/webp:https://stayinmcallen.com/wp-content/uploads/2025/08/MG_6782-scaled-GB2UW7.webp
GEO:26.238021;-98.212333
X-APPLE-STRUCTURED-LOCATION;VALUE=URI;X-ADDRESS=IMAS 101 W Nolana Ave McAllen TX United States;X-APPLE-RADIUS=500;X-TITLE=101 W Nolana Ave:geo:-98.212333,26.238021
END:VEVENT
BEGIN:VEVENT
DTSTART;TZID=America/Chicago:20260523T100000
DTEND;TZID=America/Chicago:20260523T120000
DTSTAMP:20260425T040949
CREATED:20260114T000518Z
LAST-MODIFIED:20260114T000518Z
UID:10003486-1779530400-1779537600@stayinmcallen.com
SUMMARY:Girl Scouts Workshop | Junior – Detective
DESCRIPTION:Saturday\, May 23\, 2026\n10:00 a.m. – 12:00 p.m.\nJunior – Detective: Become a junior detective at IMAS and document the clues at the crime scene. Girl Scouts will practice the power of observation\, analyze fingerprint patterns\, create code in invisible ink and more! This workshop covers all steps.
URL:https://stayinmcallen.com/events/girl-scouts-workshop-junior-detective-2/
LOCATION:IMAS\, 101 W Nolana Ave\, McAllen\, TX\, United States
CATEGORIES:Special Event,IMAS - International Museum of Art & Science,Youth Program
ATTACH;FMTTYPE=image/webp:https://stayinmcallen.com/wp-content/uploads/2025/08/MG_6782-scaled-GB2UW7.webp
GEO:26.238021;-98.212333
X-APPLE-STRUCTURED-LOCATION;VALUE=URI;X-ADDRESS=IMAS 101 W Nolana Ave McAllen TX United States;X-APPLE-RADIUS=500;X-TITLE=101 W Nolana Ave:geo:-98.212333,26.238021
END:VEVENT
BEGIN:VEVENT
DTSTART;TZID=America/Chicago:20260523T140000
DTEND;TZID=America/Chicago:20260523T160000
DTSTAMP:20260425T040949
CREATED:20250816T233524Z
LAST-MODIFIED:20260424T113323Z
UID:10002982-1779544800-1779552000@stayinmcallen.com
SUMMARY:Girl Scouts Workshop | Cadette – Special Agent
DESCRIPTION:Saturday\, May 23. 2026\n2:00 p.m. – 4:00 p.m.\nPut your observation and critical thinking skills to the test as you solve a mystery at the museum. Learn about body language\, use forensic science techniques\, and decode clues. This workshop covers all steps.\nWorkshop registration opens 5 weeks prior to the workshop date. Advanced registration is recommended as spots are limited. Spots are not eligible for refunds\, credits\, or substitutions.
URL:https://stayinmcallen.com/events/girl-scouts-workshop-cadette-special-agent/
LOCATION:IMAS\, 101 W Nolana Ave\, McAllen\, TX\, United States
CATEGORIES:Special Event,IMAS - International Museum of Art & Science,Youth Program
ATTACH;FMTTYPE=image/jpeg:https://stayinmcallen.com/wp-content/uploads/2024/05/MG_6800-scaled-xSqWrH.tmp_.jpg
GEO:26.238021;-98.212333
X-APPLE-STRUCTURED-LOCATION;VALUE=URI;X-ADDRESS=IMAS 101 W Nolana Ave McAllen TX United States;X-APPLE-RADIUS=500;X-TITLE=101 W Nolana Ave:geo:-98.212333,26.238021
END:VEVENT
BEGIN:VEVENT
DTSTART;TZID=America/Chicago:20260523T140000
DTEND;TZID=America/Chicago:20260523T160000
DTSTAMP:20260425T040949
CREATED:20260114T000526Z
LAST-MODIFIED:20260114T000526Z
UID:10003487-1779544800-1779552000@stayinmcallen.com
SUMMARY:Girl Scouts Workshop | Cadette – Special Agent
DESCRIPTION:Saturday\, May 23. 2026\n2:00 p.m. – 4:00 p.m.\nPut your observation and critical thinking skills to the test as you solve a mystery at the museum. Learn about body language\, use forensic science techniques\, and decode clues. This workshop covers all steps.\nWorkshop registration opens 5 weeks prior to the workshop date. Advanced registration is recommended as spots are limited. Spots are not eligible for refunds\, credits\, or substitutions.
URL:https://stayinmcallen.com/events/girl-scouts-workshop-cadette-special-agent-2/
LOCATION:IMAS\, 101 W Nolana Ave\, McAllen\, TX\, United States
CATEGORIES:Special Event,IMAS - International Museum of Art & Science,Youth Program
ATTACH;FMTTYPE=image/jpeg:https://stayinmcallen.com/wp-content/uploads/2024/05/MG_6800-scaled-xSqWrH.tmp_.jpg
GEO:26.238021;-98.212333
X-APPLE-STRUCTURED-LOCATION;VALUE=URI;X-ADDRESS=IMAS 101 W Nolana Ave McAllen TX United States;X-APPLE-RADIUS=500;X-TITLE=101 W Nolana Ave:geo:-98.212333,26.238021
END:VEVENT
BEGIN:VEVENT
DTSTART;TZID=America/Chicago:20260523T180000
DTEND;TZID=America/Chicago:20260523T210000
DTSTAMP:20260425T040949
CREATED:20250830T061158Z
LAST-MODIFIED:20260424T213455Z
UID:10003091-1779559200-1779570000@stayinmcallen.com
SUMMARY:UTRGV Baseball vs Championship Series Game 3 (If Necessary)
DESCRIPTION:UTRGV Baseball vs Championship Series Game 3 (If Necessary)\nStreaming Video: https://www.southland.org/espn\nStreaming Audio: https://www.southland.org/watch
URL:https://stayinmcallen.com/events/utrgv-baseball-vs-championship-series-game-3-if-necessary/
LOCATION:Highest Remaining Seed
CATEGORIES:UTRGV Athletics
END:VEVENT
END:VCALENDAR