BEGIN:VCALENDAR
VERSION:2.0
PRODID:-//Stayinmcallen - ECPv6.15.20//NONSGML v1.0//EN
CALSCALE:GREGORIAN
METHOD:PUBLISH
X-ORIGINAL-URL:https://stayinmcallen.com
X-WR-CALDESC:Events for Stayinmcallen
REFRESH-INTERVAL;VALUE=DURATION:PT1H
X-Robots-Tag:noindex
X-PUBLISHED-TTL:PT1H
BEGIN:VTIMEZONE
TZID:America/Chicago
BEGIN:DAYLIGHT
TZOFFSETFROM:-0600
TZOFFSETTO:-0500
TZNAME:CDT
DTSTART:20220313T080000
END:DAYLIGHT
BEGIN:STANDARD
TZOFFSETFROM:-0500
TZOFFSETTO:-0600
TZNAME:CST
DTSTART:20221106T070000
END:STANDARD
BEGIN:DAYLIGHT
TZOFFSETFROM:-0600
TZOFFSETTO:-0500
TZNAME:CDT
DTSTART:20230312T080000
END:DAYLIGHT
BEGIN:STANDARD
TZOFFSETFROM:-0500
TZOFFSETTO:-0600
TZNAME:CST
DTSTART:20231105T070000
END:STANDARD
BEGIN:DAYLIGHT
TZOFFSETFROM:-0600
TZOFFSETTO:-0500
TZNAME:CDT
DTSTART:20240310T080000
END:DAYLIGHT
BEGIN:STANDARD
TZOFFSETFROM:-0500
TZOFFSETTO:-0600
TZNAME:CST
DTSTART:20241103T070000
END:STANDARD
END:VTIMEZONE
BEGIN:VEVENT
DTSTART;TZID=America/Chicago:20231202T130000
DTEND;TZID=America/Chicago:20231202T150000
DTSTAMP:20260425T211936
CREATED:20231201T060520Z
LAST-MODIFIED:20231201T060520Z
UID:10000282-1701522000-1701529200@stayinmcallen.com
SUMMARY:Tamale Science Workshop
DESCRIPTION:Learn about the influence of corn in the IMAS Mexican and Latin American Folk Art collection and the cultural significance of tamales in Mexico and Latin American history and the process of Nixtamalization. In this workshop participants will practice spreading masa\, making tamales and exploring the tamale process in this hands-on adult workshop.\nParticipants must be 16 years of age or older.
URL:https://stayinmcallen.com/events/tamale-science-workshop/
LOCATION:International Museum of Art & Science\, 998 Nolana Ave\, McAllen\, TX\, United States
CATEGORIES:Food and Drink Events,Explore McAllen,Museums and History
ATTACH;FMTTYPE=image/png:https://stayinmcallen.com/wp-content/uploads/2023/12/Tamale-Science-Adult-Workshop_social-square-1-4Ke3LC.tmp_.png
ORGANIZER;CN="International Museum of Art &amp%3B Science":MAILTO:info@theimasonline.com
GEO:26.239329;-98.223922
X-APPLE-STRUCTURED-LOCATION;VALUE=URI;X-ADDRESS=International Museum of Art & Science 998 Nolana Ave McAllen TX United States;X-APPLE-RADIUS=500;X-TITLE=998 Nolana Ave:geo:-98.223922,26.239329
END:VEVENT
END:VCALENDAR