BEGIN:VCALENDAR
VERSION:2.0
PRODID:-//Stayinmcallen - ECPv6.15.20//NONSGML v1.0//EN
CALSCALE:GREGORIAN
METHOD:PUBLISH
X-WR-CALNAME:Stayinmcallen
X-ORIGINAL-URL:https://stayinmcallen.com
X-WR-CALDESC:Events for Stayinmcallen
REFRESH-INTERVAL;VALUE=DURATION:PT1H
X-Robots-Tag:noindex
X-PUBLISHED-TTL:PT1H
BEGIN:VTIMEZONE
TZID:America/Chicago
BEGIN:DAYLIGHT
TZOFFSETFROM:-0600
TZOFFSETTO:-0500
TZNAME:CDT
DTSTART:20230312T080000
END:DAYLIGHT
BEGIN:STANDARD
TZOFFSETFROM:-0500
TZOFFSETTO:-0600
TZNAME:CST
DTSTART:20231105T070000
END:STANDARD
BEGIN:DAYLIGHT
TZOFFSETFROM:-0600
TZOFFSETTO:-0500
TZNAME:CDT
DTSTART:20240310T080000
END:DAYLIGHT
BEGIN:STANDARD
TZOFFSETFROM:-0500
TZOFFSETTO:-0600
TZNAME:CST
DTSTART:20241103T070000
END:STANDARD
BEGIN:DAYLIGHT
TZOFFSETFROM:-0600
TZOFFSETTO:-0500
TZNAME:CDT
DTSTART:20250309T080000
END:DAYLIGHT
BEGIN:STANDARD
TZOFFSETFROM:-0500
TZOFFSETTO:-0600
TZNAME:CST
DTSTART:20251102T070000
END:STANDARD
BEGIN:DAYLIGHT
TZOFFSETFROM:-0600
TZOFFSETTO:-0500
TZNAME:CDT
DTSTART:20260308T080000
END:DAYLIGHT
BEGIN:STANDARD
TZOFFSETFROM:-0500
TZOFFSETTO:-0600
TZNAME:CST
DTSTART:20261101T070000
END:STANDARD
BEGIN:DAYLIGHT
TZOFFSETFROM:-0600
TZOFFSETTO:-0500
TZNAME:CDT
DTSTART:20270314T080000
END:DAYLIGHT
BEGIN:STANDARD
TZOFFSETFROM:-0500
TZOFFSETTO:-0600
TZNAME:CST
DTSTART:20271107T070000
END:STANDARD
END:VTIMEZONE
BEGIN:VEVENT
DTSTART;TZID=America/Chicago:20260328T200000
DTEND;TZID=America/Chicago:20260328T230000
DTSTAMP:20260424T080901
CREATED:20260206T185635Z
LAST-MODIFIED:20260206T185639Z
UID:10003568-1774728000-1774738800@stayinmcallen.com
SUMMARY:Reik Tour 2026
DESCRIPTION:Tickets: https://www.ticketmaster.com/reik-tour-2026-hidalgo-texas-03-28-2026/event/3A006377F8B7D2C4
URL:https://stayinmcallen.com/events/reik-tour-2026/
LOCATION:Payne Arena\, 2600 N 10th St\, Hidalgo\, TX\, 78557\, United States
ATTACH;FMTTYPE=image/webp:https://stayinmcallen.com/wp-content/uploads/2026/02/reik.webp
END:VEVENT
BEGIN:VEVENT
DTSTART;TZID=America/Chicago:20260307T200000
DTEND;TZID=America/Chicago:20260307T230000
DTSTAMP:20260424T080901
CREATED:20260206T184628Z
LAST-MODIFIED:20260206T184632Z
UID:10003567-1772913600-1772924400@stayinmcallen.com
SUMMARY:Los Angeles Azules - Cumbia Sin Fronteras US Tour
DESCRIPTION:Tickets: https://www.ticketmaster.com/los-angeles-azules-cumbia-sin-fronteras-hidalgo-texas-03-07-2026/event/3A00634E94D967D7
URL:https://stayinmcallen.com/events/los-angeles-azules-cumbia-sin-fronteras-us-tour/
LOCATION:Payne Arena\, 2600 N 10th St\, Hidalgo\, TX\, 78557\, United States
ATTACH;FMTTYPE=image/webp:https://stayinmcallen.com/wp-content/uploads/2026/02/Los_Angeles_Azules-scaled.webp
END:VEVENT
BEGIN:VEVENT
DTSTART;TZID=America/Chicago:20251122T200000
DTEND;TZID=America/Chicago:20251122T230000
DTSTAMP:20260424T080901
CREATED:20250505T170054Z
LAST-MODIFIED:20250505T170058Z
UID:10002445-1763841600-1763852400@stayinmcallen.com
SUMMARY:Bobby Pulido: Por La Puerta Grande Tour 2025
DESCRIPTION:Tickets https://www.ticketmaster.com/bobby-pulido-por-la-puerta-grande-hidalgo-texas-11-22-2025/event/3A006285B60058F9
URL:https://stayinmcallen.com/events/bobby-pulido-por-la-puerta-grande-tour-2025/
LOCATION:Payne Arena\, 2600 N 10th St\, Hidalgo\, TX\, 78557\, United States
CATEGORIES:Concerts,Concert
ATTACH;FMTTYPE=image/webp:https://stayinmcallen.com/wp-content/uploads/2025/05/bobby-pulido.webp
END:VEVENT
BEGIN:VEVENT
DTSTART;TZID=America/Chicago:20250905T203000
DTEND;TZID=America/Chicago:20250905T230000
DTSTAMP:20260424T080902
CREATED:20241213T170717Z
LAST-MODIFIED:20250304T185510Z
UID:10001497-1757104200-1757113200@stayinmcallen.com
SUMMARY:Alejandro Fernández - De Rey a Rey
DESCRIPTION:Mexican music icon and 2X Latin Grammy winner Alejandro Fernandez’s new tour titled ‘De Rey a Rey’\, will consist of a tribute to his iconic father Vicente Fernandez who passed away in 2021. Vicente was known as Mexico’s King of Ranchera music (El Rey de la Música Ranchera) and continues to inspire a whole new generation of Latino artists as well as remaining a highly influential cultural icon in Mexico and beyond. \n  \nTickets: https://www.ticketmaster.com/alejandro-fernandez-de-rey-a-rey-hidalgo-texas-09-05-2025/event/3A006150CAD04482
URL:https://stayinmcallen.com/events/alejandro-fernandez-de-rey-a-rey/
LOCATION:Payne Arena\, 2600 N 10th St\, Hidalgo\, TX\, 78557\, United States
CATEGORIES:Live Music,Art,Concerts,Concert
ATTACH;FMTTYPE=image/jpeg:https://stayinmcallen.com/wp-content/uploads/2024/12/Static_Social-Instagram_1080x1080_AlejandroFernandez_2025_Regional_PayneArena_0905.jpg
END:VEVENT
BEGIN:VEVENT
DTSTART;TZID=America/Chicago:20250905T200000
DTEND;TZID=America/Chicago:20250905T230000
DTSTAMP:20260424T080902
CREATED:20250505T163236Z
LAST-MODIFIED:20250505T163240Z
UID:10002442-1757102400-1757113200@stayinmcallen.com
SUMMARY:La Arrolladora Banda El Limón Live
DESCRIPTION:Tickets https://www.ticketmaster.com/la-arrolladora-banda-el-limon-de-hidalgo-texas-09-05-2025/event/3A006298F3CE6678
URL:https://stayinmcallen.com/events/la-arrolladora-banda-el-limon-live/
LOCATION:Payne Arena\, 2600 N 10th St\, Hidalgo\, TX\, 78557\, United States
CATEGORIES:Concerts,Concert
ATTACH;FMTTYPE=image/webp:https://stayinmcallen.com/wp-content/uploads/2025/05/Screenshot-2025-05-05-112500.webp
END:VEVENT
BEGIN:VEVENT
DTSTART;TZID=America/Chicago:20250830T200000
DTEND;TZID=America/Chicago:20250830T230000
DTSTAMP:20260424T080902
CREATED:20250505T164740Z
LAST-MODIFIED:20250505T165002Z
UID:10002443-1756584000-1756594800@stayinmcallen.com
SUMMARY:Bronco Live
DESCRIPTION:Grupo Bronco has such an extensive history starting since 1979\, involving 20 albums\, a cartoon\, and even a movie. With all their years of experience and excellent members\, they have generated a strong fanbase and a stronger discography. They are going to bring all they got to Hiidalgo\, so get ready!
URL:https://stayinmcallen.com/events/bronco-live/
LOCATION:Payne Arena\, 2600 N 10th St\, Hidalgo\, TX\, 78557\, United States
CATEGORIES:Live Music,McAllen Performing Arts Center (MPAC)
ATTACH;FMTTYPE=image/png:https://stayinmcallen.com/wp-content/uploads/2023/01/bronco.png
END:VEVENT
BEGIN:VEVENT
DTSTART;TZID=America/Chicago:20250817T200000
DTEND;TZID=America/Chicago:20250817T230000
DTSTAMP:20260424T080902
CREATED:20250505T161853Z
LAST-MODIFIED:20250505T161856Z
UID:10002441-1755460800-1755471600@stayinmcallen.com
SUMMARY:Anuel AA - Real Hasta la Muerte 2 Tour
DESCRIPTION:Anuel AA is set to embark on his highly anticipated “Real Hasta La Muerte 2” world tour US leg\, kicking off in the United States. This tour marks a significant milestone for the Puerto Rican rapper\, as it represents a return to his roots and a fresh start after years of dominating the Latin music scene. \nAnuel AA’s journey to international stardom began with his debut tour\, also titled “Real Hasta La Muerte”\, which captivated audiences around the world. Since then\, he has performed at sold-out shows across continents\, solidifying his status as one of the most popular artists in Latin music. \nNow\, Anuel AA is ready to reconnect with his loyal fanbase and deliver an unforgettable experience with “Real Hasta La Muerte 2”. This tour promises to be a celebration of his music\, his fans\, and his unwavering commitment to his craft.
URL:https://stayinmcallen.com/events/anuel-aa-real-hasta-la-muerte-2-tour-2/
LOCATION:Payne Arena\, 2600 N 10th St\, Hidalgo\, TX\, 78557\, United States
CATEGORIES:Concerts,Concert
ATTACH;FMTTYPE=image/jpeg:https://stayinmcallen.com/wp-content/uploads/2024/11/hq720-2-1.jpg
END:VEVENT
BEGIN:VEVENT
DTSTART;TZID=America/Chicago:20250505T200000
DTEND;TZID=America/Chicago:20250505T230000
DTSTAMP:20260424T080902
CREATED:20250505T161014Z
LAST-MODIFIED:20250505T161014Z
UID:10002440-1746475200-1746486000@stayinmcallen.com
SUMMARY:Santa Fe Klan Live
DESCRIPTION:Santa Fe Klan is set to perform at Payne Arena in Hidalgo\, TX\, on July 6th\, 2025\, at 8:00 PM. This concert promises an exciting evening filled with their unique blend of regional Mexican music\, characterized by their energetic rhythms and meaningful lyrics. Prepare for a vibrant performance that captures the essence of the genre.
URL:https://stayinmcallen.com/events/santa-fe-klan-live/
LOCATION:Payne Arena\, 2600 N 10th St\, Hidalgo\, TX\, 78557\, United States
CATEGORIES:Concerts,Concert
ATTACH;FMTTYPE=image/webp:https://stayinmcallen.com/wp-content/uploads/2025/05/Screenshot-2025-05-05-110855.webp
END:VEVENT
BEGIN:VEVENT
DTSTART;TZID=America/Chicago:20250228T200000
DTEND;TZID=America/Chicago:20250228T230000
DTSTAMP:20260424T080902
CREATED:20241223T152638Z
LAST-MODIFIED:20250304T183836Z
UID:10001674-1740772800-1740783600@stayinmcallen.com
SUMMARY:Yuridia - Sin Llorar US Tour 2025
DESCRIPTION:Join Latin music sensation Yuridia on her highly anticipated Sin Llorar US tour! With her powerful voice and heart-wrenching ballads\, Yuridia will take you on an emotional journey through her most beloved hits and new songs from her latest album. Whether you’re a longtime fan or discovering her music for the first time\, this tour promises to be a night of raw emotion\, unforgettable performances\, and the unmistakable passion that has made Yuridia a star. Don’t miss the chance to experience her incredible talent live—Sin Llorar is an event you’ll never forget! \n  \nTickets: https://www.ticketmaster.com/yuridia-sin-llorar-us-tour-2025-hidalgo-texas-02-28-2025/event/3A006134C1DB54F7
URL:https://stayinmcallen.com/events/yuridia-sin-llorar-us-tour-2025/
LOCATION:Payne Arena\, 2600 N 10th St\, Hidalgo\, TX\, 78557\, United States
CATEGORIES:Live Music
ATTACH;FMTTYPE=image/jpeg:https://stayinmcallen.com/wp-content/uploads/2024/12/Square-Yuridia-Hidalgo.jpeg
END:VEVENT
BEGIN:VEVENT
DTSTART;TZID=America/Chicago:20250216T193000
DTEND;TZID=America/Chicago:20250216T220000
DTSTAMP:20260424T080902
CREATED:20241119T173226Z
LAST-MODIFIED:20250204T213820Z
UID:10001347-1739734200-1739743200@stayinmcallen.com
SUMMARY:Gabriel Iglesias: Dont Worry Be Fluffy
DESCRIPTION:Everyone’s favorite “Fluffy” standup is out on his “Don’t Worry Be Fluffy” tour in 2024-2025\, and tickets for all Gabriel Iglesias performance are on sale now! This is your chance to hear the rotund funnyman performing all his newest material — including hysterically insightful takes on relationships\, race in America\, and everyday life — live and in person\, material that might just be his best yet. But you’ll have to hurry if you want to get the best seats at his upcoming performance near you. \nSo don’t sleep on one of the funniest comedy shows of the year. Check out the schedule below to find out when he’ll be in your town\, and score your Gabriel Iglesias Tickets right away! \nBuy Tickets: https://www.ticketmaster.com/gabriel-iglesias-dont-worry-be-fluffy-hidalgo-texas-02-16-2025/event/3A00614196AB2BD4
URL:https://stayinmcallen.com/events/gabriel-iglesias-dont-worry-be-fluffy/
LOCATION:Payne Arena\, 2600 N 10th St\, Hidalgo\, TX\, 78557\, United States
CATEGORIES:Comedy
ATTACH;FMTTYPE=image/jpeg:https://stayinmcallen.com/wp-content/uploads/2024/11/d19532ca-a525-4a81-817d-ba16b5dd3911.jpg
END:VEVENT
BEGIN:VEVENT
DTSTART;TZID=America/Chicago:20241206T200000
DTEND;TZID=America/Chicago:20241206T230000
DTSTAMP:20260424T080902
CREATED:20241119T161906Z
LAST-MODIFIED:20241119T191121Z
UID:10001343-1733515200-1733526000@stayinmcallen.com
SUMMARY:Tekashi 6ix9ine Live Concert
DESCRIPTION:Tekashi 6ix9ine Live at Payne Arena – December 6\, 2024 \nDon’t miss Tekashi 6ix9ine’s electrifying performance at Payne Arena! Known for his high-energy hits and bold stage presence\, he’s bringing the heat for one unforgettable night. \nDetails: \n\nDate: December 6\, 2024\nTime: Doors 7 PM | Show 8 PM\nLocation: Payne Arena\, Hidalgo\, TX\n\nJoin fans for a night of music\, energy\, and exclusive merch. Get your tickets today and experience the hype live!
URL:https://stayinmcallen.com/events/tekashi-6ix9ine-live-concert/
LOCATION:Payne Arena\, 2600 N 10th St\, Hidalgo\, TX\, 78557\, United States
CATEGORIES:Concerts,Concert
ATTACH;FMTTYPE=image/png:https://stayinmcallen.com/wp-content/uploads/2024/11/Screenshot-2024-11-18-151536.png
END:VEVENT
BEGIN:VEVENT
DTSTART;TZID=America/Chicago:20241201T200000
DTEND;TZID=America/Chicago:20241201T230000
DTSTAMP:20260424T080902
CREATED:20241119T160219Z
LAST-MODIFIED:20241119T160219Z
UID:10001342-1733083200-1733094000@stayinmcallen.com
SUMMARY:Anuel AA - Real Hasta la Muerte 2 Tour
DESCRIPTION:Anuel AA is set to embark on his highly anticipated “Real Hasta La Muerte 2” world tour US leg\, kicking off in the United States. This tour marks a significant milestone for the Puerto Rican rapper\, as it represents a return to his roots and a fresh start after years of dominating the Latin music scene. \nAnuel AA’s journey to international stardom began with his debut tour\, also titled “Real Hasta La Muerte”\, which captivated audiences around the world. Since then\, he has performed at sold-out shows across continents\, solidifying his status as one of the most popular artists in Latin music. \nNow\, Anuel AA is ready to reconnect with his loyal fanbase and deliver an unforgettable experience with “Real Hasta La Muerte 2”. This tour promises to be a celebration of his music\, his fans\, and his unwavering commitment to his craft.
URL:https://stayinmcallen.com/events/anuel-aa-real-hasta-la-muerte-2-tour/
LOCATION:Payne Arena\, 2600 N 10th St\, Hidalgo\, TX\, 78557\, United States
CATEGORIES:Concerts,Concert
ATTACH;FMTTYPE=image/jpeg:https://stayinmcallen.com/wp-content/uploads/2024/11/hq720-2-1.jpg
END:VEVENT
BEGIN:VEVENT
DTSTART;TZID=America/Chicago:20241130T200000
DTEND;TZID=America/Chicago:20241130T230000
DTSTAMP:20260424T080902
CREATED:20241119T152847Z
LAST-MODIFIED:20241119T152921Z
UID:10001341-1732996800-1733007600@stayinmcallen.com
SUMMARY:Intocable: 30 Aniversario Tour 2024
DESCRIPTION:Intocable\, the legendary Tejano/Norteño band\, celebrates three decades of musical excellence with their highly anticipated 30 Aniversario Tour 2024. As part of this milestone celebration\, Intocable is thrilled to announce their performance at the iconic Bob Hope Theatre on Friday\, June 28. Known for their captivating blend of accordion-driven melodies\, dynamic rhythms\, and heartfelt lyrics\, Intocable has captivated audiences worldwide since their inception. With numerous awards\, multi-platinum albums\, and a loyal fan base\, Intocable continues to reign supreme as one of the most influential groups in the Latin music industry.
URL:https://stayinmcallen.com/events/intocable-30-aniversario-tour-2024/
LOCATION:Payne Arena\, 2600 N 10th St\, Hidalgo\, TX\, 78557\, United States
CATEGORIES:Concerts,Concert
ATTACH;FMTTYPE=image/jpeg:https://stayinmcallen.com/wp-content/uploads/2024/11/1440x780_Intocable24-cef1102b35.jpg
END:VEVENT
END:VCALENDAR