BEGIN:VCALENDAR
VERSION:2.0
PRODID:-//Stayinmcallen - ECPv6.15.20//NONSGML v1.0//EN
CALSCALE:GREGORIAN
METHOD:PUBLISH
X-ORIGINAL-URL:https://stayinmcallen.com
X-WR-CALDESC:Events for Stayinmcallen
REFRESH-INTERVAL;VALUE=DURATION:PT1H
X-Robots-Tag:noindex
X-PUBLISHED-TTL:PT1H
BEGIN:VTIMEZONE
TZID:America/Chicago
BEGIN:DAYLIGHT
TZOFFSETFROM:-0600
TZOFFSETTO:-0500
TZNAME:CDT
DTSTART:20220313T080000
END:DAYLIGHT
BEGIN:STANDARD
TZOFFSETFROM:-0500
TZOFFSETTO:-0600
TZNAME:CST
DTSTART:20221106T070000
END:STANDARD
BEGIN:DAYLIGHT
TZOFFSETFROM:-0600
TZOFFSETTO:-0500
TZNAME:CDT
DTSTART:20230312T080000
END:DAYLIGHT
BEGIN:STANDARD
TZOFFSETFROM:-0500
TZOFFSETTO:-0600
TZNAME:CST
DTSTART:20231105T070000
END:STANDARD
BEGIN:DAYLIGHT
TZOFFSETFROM:-0600
TZOFFSETTO:-0500
TZNAME:CDT
DTSTART:20240310T080000
END:DAYLIGHT
BEGIN:STANDARD
TZOFFSETFROM:-0500
TZOFFSETTO:-0600
TZNAME:CST
DTSTART:20241103T070000
END:STANDARD
END:VTIMEZONE
BEGIN:VEVENT
DTSTART;TZID=America/Chicago:20231230T093000
DTEND;TZID=America/Chicago:20231230T123000
DTSTAMP:20260421T171159
CREATED:20231229T065854Z
LAST-MODIFIED:20231229T065859Z
UID:10000415-1703928600-1703939400@stayinmcallen.com
SUMMARY:"End of Year" Yoga + Brunch!
DESCRIPTION:Join us for our “End of Year” ???????????????? + ???????????????????????? at ???????????????????????????????????????? ???????????????????? ???????????????????? ????????????????????????????????!!!\nDuring this event you will be guided by Matthew\, Ana Paula and Mayela through a ???????????????? ????????????????\, ???????????????????????????????????????? and ???????????????????????????????????? ???????????????????????????? ???????????? ????????????????.\nFollowing class there will be a Brunch Buffet and Mimosas or Beer for participants to enjoy. Your ticket includes the Buffet plus either 2 Mimosas or 1 Beer.\nPLUS we will have an amazing ???????????????????????????????? with items from: Quiet Mind Yoga\, University Draft House\, Elite Functional Health\, Doterra\, Ana Paula Morales and MORE!!!\nTo reserve your spot visit www.qmypractice.com/events\, link in bio\, or visit the MINDBODY app!
URL:https://stayinmcallen.com/events/end-of-year-yoga-brunch/
LOCATION:University Draft House at Town Lake\, 201 N. 1st Street\, McAllen\, 78501
CATEGORIES:Explore McAllen
ATTACH;FMTTYPE=image/png:https://stayinmcallen.com/wp-content/uploads/2023/12/Yoga-Brunch-1-Q4JaWu.tmp_.png
ORGANIZER;CN="Quiet Mind Yoga":MAILTO:Matthew@qmypractice.com
END:VEVENT
END:VCALENDAR