BEGIN:VCALENDAR
VERSION:2.0
PRODID:-//Stayinmcallen - ECPv6.15.20//NONSGML v1.0//EN
CALSCALE:GREGORIAN
METHOD:PUBLISH
X-ORIGINAL-URL:https://stayinmcallen.com
X-WR-CALDESC:Events for Stayinmcallen
REFRESH-INTERVAL;VALUE=DURATION:PT1H
X-Robots-Tag:noindex
X-PUBLISHED-TTL:PT1H
BEGIN:VTIMEZONE
TZID:America/Chicago
BEGIN:DAYLIGHT
TZOFFSETFROM:-0600
TZOFFSETTO:-0500
TZNAME:CDT
DTSTART:20240310T080000
END:DAYLIGHT
BEGIN:STANDARD
TZOFFSETFROM:-0500
TZOFFSETTO:-0600
TZNAME:CST
DTSTART:20241103T070000
END:STANDARD
BEGIN:DAYLIGHT
TZOFFSETFROM:-0600
TZOFFSETTO:-0500
TZNAME:CDT
DTSTART:20250309T080000
END:DAYLIGHT
BEGIN:STANDARD
TZOFFSETFROM:-0500
TZOFFSETTO:-0600
TZNAME:CST
DTSTART:20251102T070000
END:STANDARD
BEGIN:DAYLIGHT
TZOFFSETFROM:-0600
TZOFFSETTO:-0500
TZNAME:CDT
DTSTART:20260308T080000
END:DAYLIGHT
BEGIN:STANDARD
TZOFFSETFROM:-0500
TZOFFSETTO:-0600
TZNAME:CST
DTSTART:20261101T070000
END:STANDARD
END:VTIMEZONE
BEGIN:VEVENT
DTSTART;TZID=America/Chicago:20250908T183000
DTEND;TZID=America/Chicago:20250908T203000
DTSTAMP:20260424T221046
CREATED:20250901T153406Z
LAST-MODIFIED:20250908T160350Z
UID:10003113-1757356200-1757363400@stayinmcallen.com
SUMMARY:International Literacy Day
DESCRIPTION:📚✨ Celebrate International Literacy Day with us! ✨📚\nBooks for your mind. Snacks for your tummy. Testing for your health. 📚🍪🩺 Join us this International Literacy Day and let’s celebrate learning\, community\, and self-care together!\nJoin us for an evening of:\n📖 Free books to take home\n🍎 Snacks to keep you fueled\n🩺 Free\, confidential HIV testing — because knowing your status is empowering\n📅\n📍\n⏰
URL:https://stayinmcallen.com/events/international-literacy-day/
LOCATION:Ante Books\, 1713 W Hackberry Ave\, McAllen\, TX\, United States
CATEGORIES:Educational Activities
ATTACH;FMTTYPE=image/webp:https://stayinmcallen.com/wp-content/uploads/2025/09/Capture1-OoPa1Y.webp
ORGANIZER;CN="Valley AIDS Council":MAILTO:jmiramontes@valleyaids.org
GEO:26.211671;-98.236676
X-APPLE-STRUCTURED-LOCATION;VALUE=URI;X-ADDRESS=Ante Books 1713 W Hackberry Ave McAllen TX United States;X-APPLE-RADIUS=500;X-TITLE=1713 W Hackberry Ave:geo:-98.236676,26.211671
END:VEVENT
END:VCALENDAR