BEGIN:VCALENDAR
VERSION:2.0
PRODID:-//Stayinmcallen - ECPv6.15.20//NONSGML v1.0//EN
CALSCALE:GREGORIAN
METHOD:PUBLISH
X-ORIGINAL-URL:https://stayinmcallen.com
X-WR-CALDESC:Events for Stayinmcallen
REFRESH-INTERVAL;VALUE=DURATION:PT1H
X-Robots-Tag:noindex
X-PUBLISHED-TTL:PT1H
BEGIN:VTIMEZONE
TZID:America/Chicago
BEGIN:DAYLIGHT
TZOFFSETFROM:-0600
TZOFFSETTO:-0500
TZNAME:CDT
DTSTART:20240310T080000
END:DAYLIGHT
BEGIN:STANDARD
TZOFFSETFROM:-0500
TZOFFSETTO:-0600
TZNAME:CST
DTSTART:20241103T070000
END:STANDARD
BEGIN:DAYLIGHT
TZOFFSETFROM:-0600
TZOFFSETTO:-0500
TZNAME:CDT
DTSTART:20250309T080000
END:DAYLIGHT
BEGIN:STANDARD
TZOFFSETFROM:-0500
TZOFFSETTO:-0600
TZNAME:CST
DTSTART:20251102T070000
END:STANDARD
BEGIN:DAYLIGHT
TZOFFSETFROM:-0600
TZOFFSETTO:-0500
TZNAME:CDT
DTSTART:20260308T080000
END:DAYLIGHT
BEGIN:STANDARD
TZOFFSETFROM:-0500
TZOFFSETTO:-0600
TZNAME:CST
DTSTART:20261101T070000
END:STANDARD
BEGIN:DAYLIGHT
TZOFFSETFROM:-0600
TZOFFSETTO:-0500
TZNAME:CDT
DTSTART:20270314T080000
END:DAYLIGHT
BEGIN:STANDARD
TZOFFSETFROM:-0500
TZOFFSETTO:-0600
TZNAME:CST
DTSTART:20271107T070000
END:STANDARD
END:VTIMEZONE
BEGIN:VEVENT
DTSTART;TZID=America/Chicago:20260117T150000
DTEND;TZID=America/Chicago:20260117T180000
DTSTAMP:20260424T225625
CREATED:20251210T023929Z
LAST-MODIFIED:20260113T220329Z
UID:10003323-1768662000-1768672800@stayinmcallen.com
SUMMARY:UTRGV Camps  Baseball Prospect Camp (Ages 14+)
DESCRIPTION:UTRGV Camps  Baseball Prospect Camp (Ages 14+)
URL:https://stayinmcallen.com/events/utrgv-camps-baseball-prospect-camp-ages-14-5/
LOCATION:Edinburg\, TX\, UTRGV Baseball Stadium
CATEGORIES:UTRGV Athletics
END:VEVENT
BEGIN:VEVENT
DTSTART;TZID=America/Chicago:20260110T100000
DTEND;TZID=America/Chicago:20260110T130000
DTSTAMP:20260424T225625
CREATED:20251210T023853Z
LAST-MODIFIED:20260105T113623Z
UID:10003322-1768039200-1768050000@stayinmcallen.com
SUMMARY:UTRGV Camps  Baseball Kids Camp (Ages 5-13)
DESCRIPTION:UTRGV Camps  Baseball Kids Camp (Ages 5-13)
URL:https://stayinmcallen.com/events/utrgv-camps-baseball-kids-camp-ages-5-13-9/
LOCATION:Edinburg\, TX\, UTRGV Baseball Stadium
CATEGORIES:UTRGV Athletics
END:VEVENT
BEGIN:VEVENT
DTSTART;TZID=America/Chicago:20251109T093000
DTEND;TZID=America/Chicago:20251109T123000
DTSTAMP:20260424T225625
CREATED:20251015T164610Z
LAST-MODIFIED:20251029T185201Z
UID:10003172-1762680600-1762691400@stayinmcallen.com
SUMMARY:UTRGV Camps  Baseball Evaluation Camp (Ages 14+)
DESCRIPTION:UTRGV Camps  Baseball Evaluation Camp (Ages 14+)
URL:https://stayinmcallen.com/events/utrgv-camps-baseball-evaluation-camp-ages-14/
LOCATION:Edinburg\, TX\, UTRGV Baseball Stadium
CATEGORIES:UTRGV Athletics
END:VEVENT
BEGIN:VEVENT
DTSTART;TZID=America/Chicago:20251025T093000
DTEND;TZID=America/Chicago:20251025T123000
DTSTAMP:20260424T225625
CREATED:20250830T055548Z
LAST-MODIFIED:20250830T055548Z
UID:10003024-1761384600-1761395400@stayinmcallen.com
SUMMARY:UTRGV Camps  Baseball Evaluation Camp IV (Ages 14+)
DESCRIPTION:UTRGV Camps  Baseball Evaluation Camp IV (Ages 14+)
URL:https://stayinmcallen.com/events/utrgv-camps-baseball-evaluation-camp-iv-ages-14-2/
LOCATION:Edinburg\, TX\, UTRGV Baseball Stadium
CATEGORIES:UTRGV Athletics
END:VEVENT
BEGIN:VEVENT
DTSTART;TZID=America/Chicago:20251025T093000
DTEND;TZID=America/Chicago:20251025T123000
DTSTAMP:20260424T225625
CREATED:20250830T055537Z
LAST-MODIFIED:20251022T174854Z
UID:10003023-1761384600-1761395400@stayinmcallen.com
SUMMARY:UTRGV Camps  Baseball Evaluation Camp (Ages 14+)
DESCRIPTION:UTRGV Camps  Baseball Evaluation Camp (Ages 14+)
URL:https://stayinmcallen.com/events/utrgv-camps-baseball-evaluation-camp-iv-ages-14/
LOCATION:Edinburg\, TX\, UTRGV Baseball Stadium
CATEGORIES:UTRGV Athletics
END:VEVENT
BEGIN:VEVENT
DTSTART;TZID=America/Chicago:20251018T100000
DTEND;TZID=America/Chicago:20251018T130000
DTSTAMP:20260424T225625
CREATED:20250830T055503Z
LAST-MODIFIED:20250830T055503Z
UID:10003021-1760781600-1760792400@stayinmcallen.com
SUMMARY:UTRGV Camps  Baseball Kids Camp (Ages 5-13)
DESCRIPTION:UTRGV Camps  Baseball Kids Camp (Ages 5-13)
URL:https://stayinmcallen.com/events/utrgv-camps-baseball-kids-camp-ages-5-13-8/
LOCATION:Edinburg\, TX\, UTRGV Baseball Stadium
CATEGORIES:UTRGV Athletics
END:VEVENT
BEGIN:VEVENT
DTSTART;TZID=America/Chicago:20251018T100000
DTEND;TZID=America/Chicago:20251018T130000
DTSTAMP:20260424T225625
CREATED:20250830T055456Z
LAST-MODIFIED:20251015T164315Z
UID:10003022-1760781600-1760792400@stayinmcallen.com
SUMMARY:UTRGV Camps  Baseball Kids Camp (Ages 5-13)
DESCRIPTION:UTRGV Camps  Baseball Kids Camp (Ages 5-13)
URL:https://stayinmcallen.com/events/utrgv-camps-baseball-kids-camp-ages-5-13-7/
LOCATION:Edinburg\, TX\, UTRGV Baseball Stadium
CATEGORIES:UTRGV Athletics
END:VEVENT
BEGIN:VEVENT
DTSTART;TZID=America/Chicago:20250927T100000
DTEND;TZID=America/Chicago:20250927T130000
DTSTAMP:20260424T225625
CREATED:20250816T045354Z
LAST-MODIFIED:20250927T074847Z
UID:10002951-1758967200-1758978000@stayinmcallen.com
SUMMARY:UTRGV Camps  Baseball Kids Camp (Ages 5-13)
DESCRIPTION:UTRGV Camps  Baseball Kids Camp (Ages 5-13)
URL:https://stayinmcallen.com/events/utrgv-camps-baseball-kids-camp-ages-5-13-6/
LOCATION:Edinburg\, TX\, UTRGV Baseball Stadium
CATEGORIES:UTRGV Athletics
END:VEVENT
BEGIN:VEVENT
DTSTART;TZID=America/Chicago:20250920T093000
DTEND;TZID=America/Chicago:20250920T123000
DTSTAMP:20260424T225625
CREATED:20250816T045236Z
LAST-MODIFIED:20250920T071851Z
UID:10002949-1758360600-1758371400@stayinmcallen.com
SUMMARY:UTRGV Camps  Baseball Evaluation Camp III (Ages 14+)
DESCRIPTION:UTRGV Camps  Baseball Evaluation Camp III (Ages 14+)
URL:https://stayinmcallen.com/events/utrgv-camps-baseball-evaluation-camp-iii-ages-14/
LOCATION:Edinburg\, TX\, UTRGV Baseball Stadium
CATEGORIES:UTRGV Athletics
END:VEVENT
BEGIN:VEVENT
DTSTART;TZID=America/Chicago:20250901T083000
DTEND;TZID=America/Chicago:20250901T113000
DTSTAMP:20260424T225625
CREATED:20250809T042024Z
LAST-MODIFIED:20250830T054912Z
UID:10002853-1756715400-1756726200@stayinmcallen.com
SUMMARY:UTRGV Camps  Baseball Kids Camp (Ages 5-13)
DESCRIPTION:UTRGV Camps  Baseball Kids Camp (Ages 5-13)
URL:https://stayinmcallen.com/events/utrgv-camps-baseball-kids-camp-ages-5-13-5/
LOCATION:Edinburg\, TX\, UTRGV Baseball Stadium
CATEGORIES:UTRGV Athletics
END:VEVENT
BEGIN:VEVENT
DTSTART;TZID=America/Chicago:20250816T093000
DTEND;TZID=America/Chicago:20250816T123000
DTSTAMP:20260424T225625
CREATED:20250719T033519Z
LAST-MODIFIED:20250719T033519Z
UID:10002703-1755336600-1755347400@stayinmcallen.com
SUMMARY:UTRGV Camps  Baseball Evaluation Camp II (Ages 14+)
DESCRIPTION:UTRGV Camps  Baseball Evaluation Camp II (Ages 14+)
URL:https://stayinmcallen.com/events/utrgv-camps-baseball-evaluation-camp-ii-ages-14-2/
LOCATION:Edinburg\, TX\, UTRGV Baseball Stadium
CATEGORIES:UTRGV Athletics
END:VEVENT
BEGIN:VEVENT
DTSTART;TZID=America/Chicago:20250816T093000
DTEND;TZID=America/Chicago:20250816T123000
DTSTAMP:20260424T225625
CREATED:20250719T033518Z
LAST-MODIFIED:20250816T044852Z
UID:10002701-1755336600-1755347400@stayinmcallen.com
SUMMARY:UTRGV Camps  Baseball Evaluation Camp II (Ages 14+)
DESCRIPTION:UTRGV Camps  Baseball Evaluation Camp II (Ages 14+)
URL:https://stayinmcallen.com/events/utrgv-camps-baseball-evaluation-camp-ii-ages-14/
LOCATION:Edinburg\, TX\, UTRGV Baseball Stadium
CATEGORIES:UTRGV Athletics
END:VEVENT
BEGIN:VEVENT
DTSTART;TZID=America/Chicago:20250726T093000
DTEND;TZID=America/Chicago:20250726T123000
DTSTAMP:20260424T225625
CREATED:20250628T030358Z
LAST-MODIFIED:20250628T030358Z
UID:10002636-1753522200-1753533000@stayinmcallen.com
SUMMARY:UTRGV Camps  Baseball Prospect Camp (Ages 14+)
DESCRIPTION:UTRGV Camps  Baseball Prospect Camp (Ages 14+)
URL:https://stayinmcallen.com/events/utrgv-camps-baseball-prospect-camp-ages-14-4/
LOCATION:Edinburg\, TX\, UTRGV Baseball Stadium
CATEGORIES:UTRGV Athletics
END:VEVENT
BEGIN:VEVENT
DTSTART;TZID=America/Chicago:20250726T093000
DTEND;TZID=America/Chicago:20250726T123000
DTSTAMP:20260424T225625
CREATED:20250628T030356Z
LAST-MODIFIED:20250726T034838Z
UID:10002635-1753522200-1753533000@stayinmcallen.com
SUMMARY:UTRGV Camps  Baseball Evaluation Camp (Ages 14+)
DESCRIPTION:UTRGV Camps  Baseball Evaluation Camp (Ages 14+)
URL:https://stayinmcallen.com/events/utrgv-camps-baseball-prospect-camp-ages-14-3/
LOCATION:Edinburg\, TX\, UTRGV Baseball Stadium
CATEGORIES:UTRGV Athletics
END:VEVENT
BEGIN:VEVENT
DTSTART;TZID=America/Chicago:20250518T130000
DTEND;TZID=America/Chicago:20250518T160000
DTSTAMP:20260424T225625
CREATED:20241122T181157Z
LAST-MODIFIED:20250517T014842Z
UID:10001418-1747573200-1747584000@stayinmcallen.com
SUMMARY:UTRGV Baseball vs SLC Tournament Bracket Championship (If Necessary) - Presented by Payne Auto Group
DESCRIPTION:UTRGV Baseball vs SLC Tournament Bracket Championship (If Necessary) – Presented by Payne Auto Group\nTV: ESPN+ (USA) | Southland International\nStreaming Video: http://www.southland.org/espn\nTickets: http://utrgvtickets.com/
URL:https://stayinmcallen.com/events/utrgv-baseball-vs-slc-tournament-bracket-play-bracket-championship-if-necessary/
LOCATION:Edinburg\, TX\, UTRGV Baseball Stadium
CATEGORIES:UTRGV Athletics
END:VEVENT
BEGIN:VEVENT
DTSTART;TZID=America/Chicago:20250517T180000
DTEND;TZID=America/Chicago:20250517T210000
DTSTAMP:20260424T225625
CREATED:20241122T181153Z
LAST-MODIFIED:20250517T014839Z
UID:10001417-1747504800-1747515600@stayinmcallen.com
SUMMARY:UTRGV Baseball vs SLC Tournament Bracket Championship - Presented by Payne Auto Group
DESCRIPTION:UTRGV Baseball vs SLC Tournament Bracket Championship – Presented by Payne Auto Group\nTV: ESPN+ (USA) | Southland International\nStreaming Video: http://www.southland.org/espn\nTickets: http://utrgvtickets.com/
URL:https://stayinmcallen.com/events/utrgv-baseball-vs-slc-tournament-bracket-play-bracket-championship/
LOCATION:Edinburg\, TX\, UTRGV Baseball Stadium
CATEGORIES:UTRGV Athletics
END:VEVENT
BEGIN:VEVENT
DTSTART;TZID=America/Chicago:20250517T130000
DTEND;TZID=America/Chicago:20250517T160000
DTSTAMP:20260424T225625
CREATED:20241122T181148Z
LAST-MODIFIED:20250517T014835Z
UID:10001416-1747486800-1747497600@stayinmcallen.com
SUMMARY:UTRGV Baseball vs SLC Tournament Bracket Elimination Game - Presented by Payne Auto Group
DESCRIPTION:UTRGV Baseball vs SLC Tournament Bracket Elimination Game – Presented by Payne Auto Group\nTV: ESPN+ (USA) | Southland International\nStreaming Video: http://www.southland.org/espn\nTickets: http://utrgvtickets.com/
URL:https://stayinmcallen.com/events/utrgv-baseball-vs-slc-tournament-bracket-elimination-game-if-necessary/
LOCATION:Edinburg\, TX\, UTRGV Baseball Stadium
CATEGORIES:UTRGV Athletics
END:VEVENT
BEGIN:VEVENT
DTSTART;TZID=America/Chicago:20250516T180000
DTEND;TZID=America/Chicago:20250516T210000
DTSTAMP:20260424T225625
CREATED:20241122T181142Z
LAST-MODIFIED:20250517T014831Z
UID:10001415-1747418400-1747429200@stayinmcallen.com
SUMMARY:UTRGV Baseball vs #6 Houston Christian - Presented by Payne Auto Group
DESCRIPTION:UTRGV Baseball vs #6 Houston Christian – Presented by Payne Auto Group\nTV: ESPN+ (USA) | Southland International\nStreaming Video: http://www.southland.org/espn\nTickets: http://utrgvtickets.com/
URL:https://stayinmcallen.com/events/utrgv-baseball-vs-slc-tournament-bracket-semifinals/
LOCATION:Edinburg\, TX\, UTRGV Baseball Stadium
CATEGORIES:UTRGV Athletics
END:VEVENT
BEGIN:VEVENT
DTSTART;TZID=America/Chicago:20250516T130000
DTEND;TZID=America/Chicago:20250516T160000
DTSTAMP:20260424T225625
CREATED:20250510T013336Z
LAST-MODIFIED:20250510T013336Z
UID:10002470-1747400400-1747411200@stayinmcallen.com
SUMMARY:UTRGV Baseball vs SLC Tournament Bracket Elimination Game - Presented by Payne Auto Group
DESCRIPTION:UTRGV Baseball vs SLC Tournament Bracket Elimination Game – Presented by Payne Auto Group\nTV: ESPN+ (USA) | Southland International\nStreaming Video: http://www.southland.org/espn\nTickets: http://utrgvtickets.com/
URL:https://stayinmcallen.com/events/utrgv-baseball-vs-slc-tournament-bracket-elimination-game-presented-by-payne-auto-group-2/
LOCATION:Edinburg\, TX\, UTRGV Baseball Stadium
CATEGORIES:UTRGV Athletics
END:VEVENT
BEGIN:VEVENT
DTSTART;TZID=America/Chicago:20250516T130000
DTEND;TZID=America/Chicago:20250516T160000
DTSTAMP:20260424T225625
CREATED:20250510T013335Z
LAST-MODIFIED:20250510T013335Z
UID:10002469-1747400400-1747411200@stayinmcallen.com
SUMMARY:UTRGV Baseball vs SLC Tournament Bracket Elimination Game - Presented by Payne Auto Group
DESCRIPTION:UTRGV Baseball vs SLC Tournament Bracket Elimination Game – Presented by Payne Auto Group\nTV: ESPN+ (USA) | Southland International\nStreaming Video: http://www.southland.org/espn\nTickets: http://utrgvtickets.com/
URL:https://stayinmcallen.com/events/utrgv-baseball-vs-slc-tournament-bracket-elimination-game-presented-by-payne-auto-group/
LOCATION:Edinburg\, TX\, UTRGV Baseball Stadium
CATEGORIES:UTRGV Athletics
END:VEVENT
BEGIN:VEVENT
DTSTART;TZID=America/Chicago:20250515T180000
DTEND;TZID=America/Chicago:20250515T210000
DTSTAMP:20260424T225625
CREATED:20241122T181137Z
LAST-MODIFIED:20250510T013332Z
UID:10001414-1747332000-1747342800@stayinmcallen.com
SUMMARY:UTRGV Baseball vs #7 New Orleans OR #8 Nicholls/Texas A&M-Corpus Christi - Presented by Payne Auto Group
DESCRIPTION:UTRGV Baseball vs #7 New Orleans OR #8 Nicholls/Texas A&M-Corpus Christi – Presented by Payne Auto Group\nTV: ESPN+ (USA) | Southland International\nStreaming Video: http://www.southland.org/espn\nTickets: http://utrgvtickets.com/
URL:https://stayinmcallen.com/events/utrgv-baseball-vs-slc-tournament-bracket-play-first-round/
LOCATION:Edinburg\, TX\, UTRGV Baseball Stadium
CATEGORIES:UTRGV Athletics
END:VEVENT
BEGIN:VEVENT
DTSTART;TZID=America/Chicago:20250515T130000
DTEND;TZID=America/Chicago:20250515T160000
DTSTAMP:20260424T225625
CREATED:20250510T013328Z
LAST-MODIFIED:20250510T013328Z
UID:10002468-1747314000-1747324800@stayinmcallen.com
SUMMARY:UTRGV Baseball vs SLC Tournament Bracket Play First Round - Presented by Payne Auto Group
DESCRIPTION:UTRGV Baseball vs SLC Tournament Bracket Play First Round – Presented by Payne Auto Group\nTV: ESPN+ (USA) | Southland International\nStreaming Video: http://www.southland.org/espn\nTickets: http://utrgvtickets.com/
URL:https://stayinmcallen.com/events/utrgv-baseball-vs-slc-tournament-bracket-play-first-round-presented-by-payne-auto-group-2/
LOCATION:Edinburg\, TX\, UTRGV Baseball Stadium
CATEGORIES:UTRGV Athletics
END:VEVENT
BEGIN:VEVENT
DTSTART;TZID=America/Chicago:20250515T130000
DTEND;TZID=America/Chicago:20250515T160000
DTSTAMP:20260424T225625
CREATED:20250510T013327Z
LAST-MODIFIED:20250510T013327Z
UID:10002467-1747314000-1747324800@stayinmcallen.com
SUMMARY:UTRGV Baseball vs SLC Tournament Bracket Play First Round - Presented by Payne Auto Group
DESCRIPTION:UTRGV Baseball vs SLC Tournament Bracket Play First Round – Presented by Payne Auto Group\nTV: ESPN+ (USA) | Southland International\nStreaming Video: http://www.southland.org/espn\nTickets: http://utrgvtickets.com/
URL:https://stayinmcallen.com/events/utrgv-baseball-vs-slc-tournament-bracket-play-first-round-presented-by-payne-auto-group/
LOCATION:Edinburg\, TX\, UTRGV Baseball Stadium
CATEGORIES:UTRGV Athletics
END:VEVENT
BEGIN:VEVENT
DTSTART;TZID=America/Chicago:20250513T183000
DTEND;TZID=America/Chicago:20250513T213000
DTSTAMP:20260424T225625
CREATED:20241122T181132Z
LAST-MODIFIED:20250510T013316Z
UID:10001413-1747161000-1747171800@stayinmcallen.com
SUMMARY:UTRGV Baseball vs Texas State - Orange Out\, presented by Church's Texas Chicken
DESCRIPTION:UTRGV Baseball vs Texas State – Orange Out\, presented by Church’s Texas Chicken TV: ESPN+ (USA) | Southland International Streaming Video: http://www.southland.org/espn Tickets: http://utrgvtickets.com/
URL:https://stayinmcallen.com/events/utrgv-baseball-vs-texas-state/
LOCATION:Edinburg\, TX\, UTRGV Baseball Stadium
CATEGORIES:UTRGV Athletics
END:VEVENT
BEGIN:VEVENT
DTSTART;TZID=America/Chicago:20250427T120000
DTEND;TZID=America/Chicago:20250427T150000
DTSTAMP:20260424T225625
CREATED:20241122T181055Z
LAST-MODIFIED:20250426T010344Z
UID:10001406-1745755200-1745766000@stayinmcallen.com
SUMMARY:UTRGV Baseball vs McNeese - Presented by Main Event • Public Employee Appreciation Day • Family Fun Day: 4 for $44
DESCRIPTION:UTRGV Baseball vs McNeese – Presented by Main Event • Public Employee Appreciation Day • Family Fun Day: 4 for $44\nTV: ESPN+ (USA) | Southland International\nStreaming Video: http://www.southland.org/espn\nTickets: http://utrgvtickets.com/
URL:https://stayinmcallen.com/events/utrgv-baseball-vs-mcneese-3/
LOCATION:Edinburg\, TX\, UTRGV Baseball Stadium
CATEGORIES:UTRGV Athletics
END:VEVENT
BEGIN:VEVENT
DTSTART;TZID=America/Chicago:20250426T183000
DTEND;TZID=America/Chicago:20250426T213000
DTSTAMP:20260424T225625
CREATED:20241122T181050Z
LAST-MODIFIED:20250426T010340Z
UID:10001405-1745692200-1745703000@stayinmcallen.com
SUMMARY:UTRGV Baseball vs McNeese - Bark in the Park\, presented by Payne Auto Group • Senior Night
DESCRIPTION:UTRGV Baseball vs McNeese – Bark in the Park\, presented by Payne Auto Group • Senior Night TV: ESPN+ (USA) | Southland International Streaming Video: http://www.southland.org/espn Tickets: http://utrgvtickets.com/
URL:https://stayinmcallen.com/events/utrgv-baseball-vs-mcneese-2/
LOCATION:Edinburg\, TX\, UTRGV Baseball Stadium
CATEGORIES:UTRGV Athletics
END:VEVENT
BEGIN:VEVENT
DTSTART;TZID=America/Chicago:20250425T183000
DTEND;TZID=America/Chicago:20250425T213000
DTSTAMP:20260424T225625
CREATED:20241122T181046Z
LAST-MODIFIED:20250426T010322Z
UID:10001404-1745605800-1745616600@stayinmcallen.com
SUMMARY:UTRGV Baseball vs McNeese - Lucha Libre Night
DESCRIPTION:UTRGV Baseball vs McNeese – Lucha Libre Night\nTV: ESPN+ (USA) | Southland International\nStreaming Video: http://www.southland.org/espn\nTickets: http://utrgvtickets.com/
URL:https://stayinmcallen.com/events/utrgv-baseball-vs-mcneese/
LOCATION:Edinburg\, TX\, UTRGV Baseball Stadium
CATEGORIES:UTRGV Athletics
END:VEVENT
BEGIN:VEVENT
DTSTART;TZID=America/Chicago:20250422T183000
DTEND;TZID=America/Chicago:20250422T213000
DTSTAMP:20260424T225625
CREATED:20241122T181041Z
LAST-MODIFIED:20250419T004837Z
UID:10001403-1745346600-1745357400@stayinmcallen.com
SUMMARY:UTRGV Baseball vs Incarnate Word - $2 Tuesday • ‘90s Night
DESCRIPTION:UTRGV Baseball vs Incarnate Word – $2 Tuesday • ‘90s Night\nTV: ESPN+ (USA) | Southland International\nStreaming Video: http://www.southland.org/espn\nTickets: http://utrgvtickets.com/
URL:https://stayinmcallen.com/events/utrgv-baseball-vs-incarnate-word-2/
LOCATION:Edinburg\, TX\, UTRGV Baseball Stadium
CATEGORIES:UTRGV Athletics
END:VEVENT
BEGIN:VEVENT
DTSTART;TZID=America/Chicago:20250413T120000
DTEND;TZID=America/Chicago:20250413T150000
DTSTAMP:20260424T225625
CREATED:20241122T181014Z
LAST-MODIFIED:20250412T003344Z
UID:10001398-1744545600-1744556400@stayinmcallen.com
SUMMARY:UTRGV Baseball vs Stephen F. Austin - Presented by Main Event • Autism Acceptance • Book Drive • Family Fun Day: 4 for $44
DESCRIPTION:UTRGV Baseball vs Stephen F. Austin – Presented by Main Event • Autism Acceptance • Book Drive • Family Fun Day: 4 for $44\nTV: ESPN+ (USA) | Southland International\nStreaming Video: http://www.southland.org/espn\nTickets: http://utrgvtickets.com/
URL:https://stayinmcallen.com/events/utrgv-baseball-vs-stephen-f-austin-6/
LOCATION:Edinburg\, TX\, UTRGV Baseball Stadium
CATEGORIES:UTRGV Athletics
END:VEVENT
BEGIN:VEVENT
DTSTART;TZID=America/Chicago:20250412T183000
DTEND;TZID=America/Chicago:20250412T213000
DTSTAMP:20260424T225625
CREATED:20241122T181009Z
LAST-MODIFIED:20250412T003340Z
UID:10001397-1744482600-1744493400@stayinmcallen.com
SUMMARY:UTRGV Baseball vs Stephen F. Austin - Selena Night\, presented by KYWW Puro Tejano 1530 AM and KGBT 98.5 La Preferida
DESCRIPTION:UTRGV Baseball vs Stephen F. Austin – Selena Night\, presented by KYWW Puro Tejano 1530 AM and KGBT 98.5 La Preferida TV: ESPN+ (USA) | Southland International Streaming Video: http://www.southland.org/espn Tickets: http://utrgvtickets.com/
URL:https://stayinmcallen.com/events/utrgv-baseball-vs-stephen-f-austin-5/
LOCATION:Edinburg\, TX\, UTRGV Baseball Stadium
CATEGORIES:UTRGV Athletics
END:VEVENT
END:VCALENDAR