BEGIN:VCALENDAR
VERSION:2.0
PRODID:-//Stayinmcallen - ECPv6.15.20//NONSGML v1.0//EN
CALSCALE:GREGORIAN
METHOD:PUBLISH
X-ORIGINAL-URL:https://stayinmcallen.com
X-WR-CALDESC:Events for Stayinmcallen
REFRESH-INTERVAL;VALUE=DURATION:PT1H
X-Robots-Tag:noindex
X-PUBLISHED-TTL:PT1H
BEGIN:VTIMEZONE
TZID:America/Chicago
BEGIN:DAYLIGHT
TZOFFSETFROM:-0600
TZOFFSETTO:-0500
TZNAME:CDT
DTSTART:20240310T080000
END:DAYLIGHT
BEGIN:STANDARD
TZOFFSETFROM:-0500
TZOFFSETTO:-0600
TZNAME:CST
DTSTART:20241103T070000
END:STANDARD
BEGIN:DAYLIGHT
TZOFFSETFROM:-0600
TZOFFSETTO:-0500
TZNAME:CDT
DTSTART:20250309T080000
END:DAYLIGHT
BEGIN:STANDARD
TZOFFSETFROM:-0500
TZOFFSETTO:-0600
TZNAME:CST
DTSTART:20251102T070000
END:STANDARD
BEGIN:DAYLIGHT
TZOFFSETFROM:-0600
TZOFFSETTO:-0500
TZNAME:CDT
DTSTART:20260308T080000
END:DAYLIGHT
BEGIN:STANDARD
TZOFFSETFROM:-0500
TZOFFSETTO:-0600
TZNAME:CST
DTSTART:20261101T070000
END:STANDARD
BEGIN:DAYLIGHT
TZOFFSETFROM:-0600
TZOFFSETTO:-0500
TZNAME:CDT
DTSTART:20270314T080000
END:DAYLIGHT
BEGIN:STANDARD
TZOFFSETFROM:-0500
TZOFFSETTO:-0600
TZNAME:CST
DTSTART:20271107T070000
END:STANDARD
END:VTIMEZONE
BEGIN:VEVENT
DTSTART;TZID=America/Chicago:20260103T070000
DTEND;TZID=America/Chicago:20260103T110000
DTSTAMP:20260425T151155
CREATED:20260101T060458Z
LAST-MODIFIED:20260103T143038Z
UID:10003446-1767423600-1767438000@stayinmcallen.com
SUMMARY:Give a Bark 5th Annual 5k
DESCRIPTION:Give a Bark 5K and 1-Mile Doggie Dash returns for its 5th annual run on Saturday\, January 3\, 2026 at Fireman’s Park in McAllen. Start your New Year’s resolutions early with a fast\, friendly course that welcomes runners\, walkers\, families\, strollers\, and well behaved leashed dogs. The morning benefits Palm Valley Animal Society and helps kick off a year of lifesaving for local pets. Professional timing and race operations are provided by Endurance Splits.\nEvent details\nDate: Saturday\, January 3\, 2026\nTime: 7:00 AM start\nLocation: Fireman’s Park\, McAllen\, TX\nDistances: 5K and 1-Mile Doggie Dash\nPerks\n• Breakfast tacos provided by University Draft House (while supplies last)\n• Refreshments and hot coffee courtesy of Starbucks\nRegistration\nSign up at givebutter.com/giveabark26. The first 5K of the year fills quickly. Register by November 30\, 2025 to guarantee an event shirt. After that date\, shirts will be available for purchase on race day while supplies last.\nPacket pickup\nPick up race packets at the Laurie P. Andrews Center\, home of Palm Valley Animal Society. Specific pickup dates and times will be announced soon on the registration page and PVAS channels.\nGood to know\nLeashed dogs are welcome in both distances. Please bring waste bags and water for your pup. Strollers are allowed. Water stations and finish line refreshments provided. Parking is available near Fireman’s Park. No refunds. Event will take place rain or shine.\nSponsorships\nLocal businesses can support the cause and connect with participants. Limited packages i
URL:https://stayinmcallen.com/events/give-a-bark-5th-annual-5k/
LOCATION:Fireman’s Park\, 201 N 1st St\, McAllen\, TX\, United States
CATEGORIES:Parks and Outdoors
ATTACH;FMTTYPE=image/avif:https://stayinmcallen.com/wp-content/uploads/2026/01/f64f2a_7163a4e1c6204943b9777dca8f522ba4mv2-Dw1I6k.avif
GEO:26.20318;-98.219109
X-APPLE-STRUCTURED-LOCATION;VALUE=URI;X-ADDRESS=Fireman’s Park 201 N 1st St McAllen TX United States;X-APPLE-RADIUS=500;X-TITLE=201 N 1st St:geo:-98.219109,26.20318
END:VEVENT
BEGIN:VEVENT
DTSTART;TZID=America/Chicago:20251129T080000
DTEND;TZID=America/Chicago:20251129T140000
DTSTAMP:20260425T151155
CREATED:20251105T185430Z
LAST-MODIFIED:20251125T222936Z
UID:10003227-1764403200-1764424800@stayinmcallen.com
SUMMARY:Fireman's Park 3rd Annual Turkey Trot 5K
DESCRIPTION:Join us on November 29th for the 3rd Annual Turkey Trot 5K Run/Walk presented by CASA LIDIA Maternity House. All proceeds go to help young mothers.\n🦃 Custom Finisher Medal\n🦃 Event Shirt\n🦃 Event Bib\n🦃 Age Group Awards
URL:https://stayinmcallen.com/events/firemans-park-3rd-annual-turkey-trot-5k/
LOCATION:Fireman’s Park\, 201 N 1st St\, McAllen\, TX\, United States
CATEGORIES:City Events
ATTACH;FMTTYPE=image/webp:https://stayinmcallen.com/wp-content/uploads/2025/11/turkey-trot-9YzKKj.webp
GEO:26.20318;-98.219109
X-APPLE-STRUCTURED-LOCATION;VALUE=URI;X-ADDRESS=Fireman’s Park 201 N 1st St McAllen TX United States;X-APPLE-RADIUS=500;X-TITLE=201 N 1st St:geo:-98.219109,26.20318
END:VEVENT
BEGIN:VEVENT
DTSTART;TZID=America/Chicago:20250712T070000
DTEND;TZID=America/Chicago:20250712T170000
DTSTAMP:20260425T151155
CREATED:20250701T050552Z
LAST-MODIFIED:20250712T074844Z
UID:10002661-1752303600-1752339600@stayinmcallen.com
SUMMARY:Sober Santa PDASH 5K & Fun Run
DESCRIPTION:Come and join us on Christmas in July for the Sober Santa PDASH 5K & Fun Run on July 12th at Fireman’s Park in McAllen.\n Custom Finisher Medal Event Shirt Event Bib Age Group Awards\nREGISTER HERE >> CLICK HERE
URL:https://stayinmcallen.com/events/sober-santa-pdash-5k-fun-run/
LOCATION:Fireman’s Park\, 201 N 1st St\, McAllen\, TX\, United States
CATEGORIES:Health and Wellness
ATTACH;FMTTYPE=image/webp:https://stayinmcallen.com/wp-content/uploads/2025/07/7.12-SantaDash-b2hZC9.webp
GEO:26.20318;-98.219109
X-APPLE-STRUCTURED-LOCATION;VALUE=URI;X-ADDRESS=Fireman’s Park 201 N 1st St McAllen TX United States;X-APPLE-RADIUS=500;X-TITLE=201 N 1st St:geo:-98.219109,26.20318
END:VEVENT
BEGIN:VEVENT
DTSTART;TZID=America/Chicago:20250222T073000
DTEND;TZID=America/Chicago:20250222T130000
DTSTAMP:20260425T151155
CREATED:20250214T123420Z
LAST-MODIFIED:20250214T123420Z
UID:10002030-1740209400-1740229200@stayinmcallen.com
SUMMARY:Home is Where the Heart is 5K Run/Walk
DESCRIPTION:Join us for our Home is Where the Heart is 5K!\nGet ready to lace up your sneakers and make a difference! We’re excited to invite you to our Home is Where the Heart is 5K\, a fun-filled event for a great cause. Whether you’re a seasoned runner or just starting out\, this is the perfect opportunity to challenge yourself\, enjoy the outdoors\, and support a meaningful cause.\nWhen: Saturday\, February 22\, 2025Time: Line-up – 7:15 am Start time – 7:30 amWhere: Firemen’s Park\, 201 N 1st St\, McAllen\, TX 78501\nEvery step you take will help us raise funds for McAllen Housing Commission (McHC)\, together with its sister agency Affordable Homes of South Texas (AHSTI)\, and with your support\, we can make a lasting impact. Bring your friends\, family\, and anyone who wants to contribute to a better future!\nThere will be vendors\, refreshments\, and a community of people coming together for a common goal. Let’s make this run count—together we can achieve so much!\nWe look forward to seeing you there! \nAWARDS / RESULTS 5K\nAge Groups – Top 3 Male & Female in the following age groups:19 & under\, 20-29\, 30-39\, 40-49\, 50-59\, 60 & up\n$ 25.00 early bird + FeeStart: Wednesday\, November 20\, 2024End: Friday\, December 20\, 2024\n$ 30.00 regular price + FeeDecember 21\, 2024\n• T-SHIRT Dry-Sec subl.imated commemorative of the event.• BIB Bib and Chip Timing.• FINISHER MEDAL.• WATER STATION.• PHOTO BOOTH Take home a commemorative photo of the event!• LIVE RESULTS• DIGITAL CERTIFICATE Participation certificate.
URL:https://stayinmcallen.com/events/home-is-where-the-heart-is-5k-run-walk-2/
LOCATION:Fireman’s Park\, 201 N 1st St\, McAllen\, TX\, United States
CATEGORIES:Family Fun,Sports,Parks and Outdoors,Health and Wellness,Children's Activities
ATTACH;FMTTYPE=image/jpeg:https://stayinmcallen.com/wp-content/uploads/2025/02/home-heart-is-5k-W40WEt.tmp_.jpg
GEO:26.20318;-98.219109
X-APPLE-STRUCTURED-LOCATION;VALUE=URI;X-ADDRESS=Fireman’s Park 201 N 1st St McAllen TX United States;X-APPLE-RADIUS=500;X-TITLE=201 N 1st St:geo:-98.219109,26.20318
END:VEVENT
BEGIN:VEVENT
DTSTART;TZID=America/Chicago:20250222T073000
DTEND;TZID=America/Chicago:20250222T130000
DTSTAMP:20260425T151155
CREATED:20250214T123413Z
LAST-MODIFIED:20250222T134718Z
UID:10002026-1740209400-1740229200@stayinmcallen.com
SUMMARY:Home is Where the Heart is 5K Run/Walk
DESCRIPTION:Join us for our Home is Where the Heart is 5K!\nGet ready to lace up your sneakers and make a difference! We’re excited to invite you to our Home is Where the Heart is 5K\, a fun-filled event for a great cause. Whether you’re a seasoned runner or just starting out\, this is the perfect opportunity to challenge yourself\, enjoy the outdoors\, and support a meaningful cause.\nWhen: Saturday\, February 22\, 2025Time: Line-up – 7:15 am Start time – 7:30 amWhere: Firemen’s Park\, 201 N 1st St\, McAllen\, TX 78501\nEvery step you take will help us raise funds for McAllen Housing Commission (McHC)\, together with its sister agency Affordable Homes of South Texas (AHSTI)\, and with your support\, we can make a lasting impact. Bring your friends\, family\, and anyone who wants to contribute to a better future!\nThere will be vendors\, refreshments\, and a community of people coming together for a common goal. Let’s make this run count—together we can achieve so much!\nWe look forward to seeing you there! \nAWARDS / RESULTS 5K\nAge Groups – Top 3 Male & Female in the following age groups:19 & under\, 20-29\, 30-39\, 40-49\, 50-59\, 60 & up\n$ 25.00 early bird + FeeStart: Wednesday\, November 20\, 2024End: Friday\, December 20\, 2024\n$ 30.00 regular price + FeeDecember 21\, 2024\n• T-SHIRT Dry-Sec subl.imated commemorative of the event.• BIB Bib and Chip Timing.• FINISHER MEDAL.• WATER STATION.• PHOTO BOOTH Take home a commemorative photo of the event!• LIVE RESULTS• DIGITAL CERTIFICATE Participation certificate.
URL:https://stayinmcallen.com/events/home-is-where-the-heart-is-5k-run-walk/
LOCATION:Fireman’s Park\, 201 N 1st St\, McAllen\, TX\, United States
CATEGORIES:Family Fun,Sports,Parks and Outdoors,Health and Wellness,Children's Activities
ATTACH;FMTTYPE=image/jpeg:https://stayinmcallen.com/wp-content/uploads/2025/02/home-heart-is-5k-W40WEt.tmp_.jpg
GEO:26.20318;-98.219109
X-APPLE-STRUCTURED-LOCATION;VALUE=URI;X-ADDRESS=Fireman’s Park 201 N 1st St McAllen TX United States;X-APPLE-RADIUS=500;X-TITLE=201 N 1st St:geo:-98.219109,26.20318
END:VEVENT
BEGIN:VEVENT
DTSTART;TZID=America/Chicago:20250215T080000
DTEND;TZID=America/Chicago:20250215T130000
DTSTAMP:20260425T151155
CREATED:20250206T114929Z
LAST-MODIFIED:20250206T114929Z
UID:10001974-1739606400-1739624400@stayinmcallen.com
SUMMARY:14th Annual CASA Lovers and Friends Fun Run
DESCRIPTION:Join us on February 15th for the 14th Annual Lovers and Friends 5K Run Fun with CASA de Hidalgo at Firemans Park in McAllen\, TX\n Custom Finisher Medal Event Shirt Age Group Awards Event Bib\nRegister at:\nhttps://endurancesplits.redpodium.com/14th-annual-casa-lovers-and-friends-5k-runwalk
URL:https://stayinmcallen.com/events/14th-annual-casa-lovers-and-friends-fun-run-2/
LOCATION:Fireman’s Park\, 201 N 1st St\, McAllen\, TX\, United States
CATEGORIES:Family Fun,Sports,Parks and Outdoors,Health and Wellness
ATTACH;FMTTYPE=image/jpeg:https://stayinmcallen.com/wp-content/uploads/2025/02/CASA-Lovers-and-Friends-Fun-Run-9qOYHe.tmp_.jpg
GEO:26.20318;-98.219109
X-APPLE-STRUCTURED-LOCATION;VALUE=URI;X-ADDRESS=Fireman’s Park 201 N 1st St McAllen TX United States;X-APPLE-RADIUS=500;X-TITLE=201 N 1st St:geo:-98.219109,26.20318
END:VEVENT
BEGIN:VEVENT
DTSTART;TZID=America/Chicago:20250215T080000
DTEND;TZID=America/Chicago:20250215T130000
DTSTAMP:20260425T151155
CREATED:20250206T114926Z
LAST-MODIFIED:20250215T124712Z
UID:10001972-1739606400-1739624400@stayinmcallen.com
SUMMARY:14th Annual CASA Lovers and Friends Fun Run
DESCRIPTION:Join us on February 15th for the 14th Annual Lovers and Friends 5K Run Fun with CASA de Hidalgo at Firemans Park in McAllen\, TX\n Custom Finisher Medal Event Shirt Age Group Awards Event Bib\nRegister at:\nhttps://endurancesplits.redpodium.com/14th-annual-casa-lovers-and-friends-5k-runwalk
URL:https://stayinmcallen.com/events/14th-annual-casa-lovers-and-friends-fun-run/
LOCATION:Fireman’s Park\, 201 N 1st St\, McAllen\, TX\, United States
CATEGORIES:Family Fun,Sports,Parks and Outdoors,Health and Wellness
ATTACH;FMTTYPE=image/jpeg:https://stayinmcallen.com/wp-content/uploads/2025/02/CASA-Lovers-and-Friends-Fun-Run-9qOYHe.tmp_.jpg
GEO:26.20318;-98.219109
X-APPLE-STRUCTURED-LOCATION;VALUE=URI;X-ADDRESS=Fireman’s Park 201 N 1st St McAllen TX United States;X-APPLE-RADIUS=500;X-TITLE=201 N 1st St:geo:-98.219109,26.20318
END:VEVENT
END:VCALENDAR