BEGIN:VCALENDAR
VERSION:2.0
PRODID:-//Stayinmcallen - ECPv6.15.20//NONSGML v1.0//EN
CALSCALE:GREGORIAN
METHOD:PUBLISH
X-ORIGINAL-URL:https://stayinmcallen.com
X-WR-CALDESC:Events for Stayinmcallen
REFRESH-INTERVAL;VALUE=DURATION:PT1H
X-Robots-Tag:noindex
X-PUBLISHED-TTL:PT1H
BEGIN:VTIMEZONE
TZID:America/Chicago
BEGIN:DAYLIGHT
TZOFFSETFROM:-0600
TZOFFSETTO:-0500
TZNAME:CDT
DTSTART:20230312T080000
END:DAYLIGHT
BEGIN:STANDARD
TZOFFSETFROM:-0500
TZOFFSETTO:-0600
TZNAME:CST
DTSTART:20231105T070000
END:STANDARD
BEGIN:DAYLIGHT
TZOFFSETFROM:-0600
TZOFFSETTO:-0500
TZNAME:CDT
DTSTART:20240310T080000
END:DAYLIGHT
BEGIN:STANDARD
TZOFFSETFROM:-0500
TZOFFSETTO:-0600
TZNAME:CST
DTSTART:20241103T070000
END:STANDARD
BEGIN:DAYLIGHT
TZOFFSETFROM:-0600
TZOFFSETTO:-0500
TZNAME:CDT
DTSTART:20250309T080000
END:DAYLIGHT
BEGIN:STANDARD
TZOFFSETFROM:-0500
TZOFFSETTO:-0600
TZNAME:CST
DTSTART:20251102T070000
END:STANDARD
BEGIN:DAYLIGHT
TZOFFSETFROM:-0600
TZOFFSETTO:-0500
TZNAME:CDT
DTSTART:20260308T080000
END:DAYLIGHT
BEGIN:STANDARD
TZOFFSETFROM:-0500
TZOFFSETTO:-0600
TZNAME:CST
DTSTART:20261101T070000
END:STANDARD
END:VTIMEZONE
BEGIN:VEVENT
DTSTART;TZID=America/Chicago:20250221T150000
DTEND;TZID=America/Chicago:20250221T180000
DTSTAMP:20260423T175834
CREATED:20241213T185055Z
LAST-MODIFIED:20250221T223215Z
UID:10001530-1740150000-1740160800@stayinmcallen.com
SUMMARY:CANCELLED UTRGV Women's Tennis at Southwestern
DESCRIPTION:CANCELLED UTRGV Women’s Tennis at Southwestern
URL:https://stayinmcallen.com/events/utrgv-womens-tennis-at-southwestern-3/
LOCATION:Georgetown\, TX
CATEGORIES:UTRGV Athletics
END:VEVENT
BEGIN:VEVENT
DTSTART;TZID=America/Chicago:20240202T150000
DTEND;TZID=America/Chicago:20240202T180000
DTSTAMP:20260423T175834
CREATED:20231208T045959Z
LAST-MODIFIED:20240202T065949Z
UID:10000306-1706886000-1706896800@stayinmcallen.com
SUMMARY:UTRGV Women's Tennis at Southwestern
DESCRIPTION:UTRGV Women’s Tennis at Southwestern\n https://goutrgv.com/calendar.aspx?game_id=27315&sport_id=10
URL:https://stayinmcallen.com/events/utrgv-womens-tennis-at-southwestern/
LOCATION:Georgetown\, TX
END:VEVENT
BEGIN:VEVENT
DTSTART;TZID=America/Chicago:20240202T113000
DTEND;TZID=America/Chicago:20240202T143000
DTSTAMP:20260423T175834
CREATED:20231208T050012Z
LAST-MODIFIED:20231208T050012Z
UID:10000305-1706873400-1706884200@stayinmcallen.com
SUMMARY:UTRGV Women's Tennis at Southwestern
DESCRIPTION:UTRGV Women’s Tennis at Southwestern\n https://goutrgv.com/calendar.aspx?game_id=27315&sport_id=10
URL:https://stayinmcallen.com/events/utrgv-womens-tennis-at-southwestern-2/
LOCATION:Georgetown\, TX
END:VEVENT
END:VCALENDAR