BEGIN:VCALENDAR
VERSION:2.0
PRODID:-//Stayinmcallen - ECPv6.15.20//NONSGML v1.0//EN
CALSCALE:GREGORIAN
METHOD:PUBLISH
X-ORIGINAL-URL:https://stayinmcallen.com
X-WR-CALDESC:Events for Stayinmcallen
REFRESH-INTERVAL;VALUE=DURATION:PT1H
X-Robots-Tag:noindex
X-PUBLISHED-TTL:PT1H
BEGIN:VTIMEZONE
TZID:America/Chicago
BEGIN:DAYLIGHT
TZOFFSETFROM:-0600
TZOFFSETTO:-0500
TZNAME:CDT
DTSTART:20250309T080000
END:DAYLIGHT
BEGIN:STANDARD
TZOFFSETFROM:-0500
TZOFFSETTO:-0600
TZNAME:CST
DTSTART:20251102T070000
END:STANDARD
BEGIN:DAYLIGHT
TZOFFSETFROM:-0600
TZOFFSETTO:-0500
TZNAME:CDT
DTSTART:20260308T080000
END:DAYLIGHT
BEGIN:STANDARD
TZOFFSETFROM:-0500
TZOFFSETTO:-0600
TZNAME:CST
DTSTART:20261101T070000
END:STANDARD
BEGIN:DAYLIGHT
TZOFFSETFROM:-0600
TZOFFSETTO:-0500
TZNAME:CDT
DTSTART:20270314T080000
END:DAYLIGHT
BEGIN:STANDARD
TZOFFSETFROM:-0500
TZOFFSETTO:-0600
TZNAME:CST
DTSTART:20271107T070000
END:STANDARD
END:VTIMEZONE
BEGIN:VEVENT
DTSTART;TZID=America/Chicago:20260412T130000
DTEND;TZID=America/Chicago:20260412T160000
DTSTAMP:20260424T220716
CREATED:20250830T061006Z
LAST-MODIFIED:20260409T105059Z
UID:10003075-1775998800-1776009600@stayinmcallen.com
SUMMARY:UTRGV Baseball at Stephen F. Austin
DESCRIPTION:UTRGV Baseball at Stephen F. Austin\nStreaming Video: https://www.southland.org/espn\nStreaming Audio: https://www.southland.org/watch
URL:https://stayinmcallen.com/events/utrgv-baseball-at-stephen-f-austin-6/
LOCATION:Nacogdoches\, Texas\, Pilgrim’s Park
CATEGORIES:UTRGV Athletics
END:VEVENT
BEGIN:VEVENT
DTSTART;TZID=America/Chicago:20260411T180000
DTEND;TZID=America/Chicago:20260411T210000
DTSTAMP:20260424T220716
CREATED:20250830T060959Z
LAST-MODIFIED:20260409T105055Z
UID:10003074-1775930400-1775941200@stayinmcallen.com
SUMMARY:UTRGV Baseball at Stephen F. Austin
DESCRIPTION:UTRGV Baseball at Stephen F. Austin\nStreaming Video: https://www.southland.org/espn\nStreaming Audio: https://www.southland.org/watch
URL:https://stayinmcallen.com/events/utrgv-baseball-at-stephen-f-austin-5/
LOCATION:Nacogdoches\, Texas\, Pilgrim’s Park
CATEGORIES:UTRGV Athletics
END:VEVENT
BEGIN:VEVENT
DTSTART;TZID=America/Chicago:20260410T180000
DTEND;TZID=America/Chicago:20260410T210000
DTSTAMP:20260424T220716
CREATED:20250830T060955Z
LAST-MODIFIED:20260409T105042Z
UID:10003073-1775844000-1775854800@stayinmcallen.com
SUMMARY:UTRGV Baseball at Stephen F. Austin
DESCRIPTION:UTRGV Baseball at Stephen F. Austin\nStreaming Video: https://www.southland.org/espn\nStreaming Audio: https://www.southland.org/watch
URL:https://stayinmcallen.com/events/utrgv-baseball-at-stephen-f-austin-4/
LOCATION:Nacogdoches\, Texas\, Pilgrim’s Park
CATEGORIES:UTRGV Athletics
END:VEVENT
END:VCALENDAR