BEGIN:VCALENDAR
VERSION:2.0
PRODID:-//Stayinmcallen - ECPv6.15.20//NONSGML v1.0//EN
CALSCALE:GREGORIAN
METHOD:PUBLISH
X-ORIGINAL-URL:https://stayinmcallen.com
X-WR-CALDESC:Events for Stayinmcallen
REFRESH-INTERVAL;VALUE=DURATION:PT1H
X-Robots-Tag:noindex
X-PUBLISHED-TTL:PT1H
BEGIN:VTIMEZONE
TZID:America/Chicago
BEGIN:DAYLIGHT
TZOFFSETFROM:-0600
TZOFFSETTO:-0500
TZNAME:CDT
DTSTART:20230312T080000
END:DAYLIGHT
BEGIN:STANDARD
TZOFFSETFROM:-0500
TZOFFSETTO:-0600
TZNAME:CST
DTSTART:20231105T070000
END:STANDARD
BEGIN:DAYLIGHT
TZOFFSETFROM:-0600
TZOFFSETTO:-0500
TZNAME:CDT
DTSTART:20240310T080000
END:DAYLIGHT
BEGIN:STANDARD
TZOFFSETFROM:-0500
TZOFFSETTO:-0600
TZNAME:CST
DTSTART:20241103T070000
END:STANDARD
BEGIN:DAYLIGHT
TZOFFSETFROM:-0600
TZOFFSETTO:-0500
TZNAME:CDT
DTSTART:20250309T080000
END:DAYLIGHT
BEGIN:STANDARD
TZOFFSETFROM:-0500
TZOFFSETTO:-0600
TZNAME:CST
DTSTART:20251102T070000
END:STANDARD
END:VTIMEZONE
BEGIN:VEVENT
DTSTART;TZID=America/Chicago:20241020T153000
DTEND;TZID=America/Chicago:20241020T173000
DTSTAMP:20260424T193018
CREATED:20240719T123925Z
LAST-MODIFIED:20240719T123925Z
UID:10000836-1729438200-1729445400@stayinmcallen.com
SUMMARY:UTRGV Men's Soccer at Utah Tech
DESCRIPTION:UTRGV Men’s Soccer at Utah Tech\nTV: ESPN+ (USA) | WAC International\nStreaming Video: http://plus.espn.com/\n https://goutrgv.com/calendar.aspx?game_id=27567&sport_id=16
URL:https://stayinmcallen.com/events/utrgv-mens-soccer-at-utah-tech-2/
LOCATION:St. George\, UT
CATEGORIES:UTRGV Athletics
END:VEVENT
BEGIN:VEVENT
DTSTART;TZID=America/Chicago:20241020T153000
DTEND;TZID=America/Chicago:20241020T173000
DTSTAMP:20260424T193018
CREATED:20240719T123905Z
LAST-MODIFIED:20241018T162044Z
UID:10000833-1729438200-1729445400@stayinmcallen.com
SUMMARY:UTRGV Men's Soccer at Utah Tech
DESCRIPTION:UTRGV Men’s Soccer at Utah Tech\nTV: ESPN+ (USA) | WAC International\nStreaming Video: http://plus.espn.com/
URL:https://stayinmcallen.com/events/utrgv-mens-soccer-at-utah-tech/
LOCATION:St. George\, UT
CATEGORIES:UTRGV Athletics
END:VEVENT
BEGIN:VEVENT
DTSTART;TZID=America/Chicago:20240407T110000
DTEND;TZID=America/Chicago:20240407T140000
DTSTAMP:20260424T193018
CREATED:20231208T050336Z
LAST-MODIFIED:20240405T095110Z
UID:10000343-1712487600-1712498400@stayinmcallen.com
SUMMARY:UTRGV Women's Tennis at Utah Tech
DESCRIPTION:UTRGV Women’s Tennis at Utah Tech\n https://goutrgv.com/calendar.aspx?game_id=27335&sport_id=10
URL:https://stayinmcallen.com/events/utrgv-womens-tennis-at-utah-tech-2/
LOCATION:St. George\, UT
END:VEVENT
BEGIN:VEVENT
DTSTART;TZID=America/Chicago:20240330T130000
DTEND;TZID=America/Chicago:20240330T160000
DTSTAMP:20260424T193018
CREATED:20231201T044703Z
LAST-MODIFIED:20240329T093155Z
UID:10000226-1711803600-1711814400@stayinmcallen.com
SUMMARY:UTRGV Baseball at Utah Tech
DESCRIPTION:UTRGV Baseball at Utah Tech\nTV: ESPN+ (USA) | WAC International\nStreaming Video: https://es.pn/3vr6GQD\n https://goutrgv.com/calendar.aspx?game_id=27248&sport_id=1
URL:https://stayinmcallen.com/events/utrgv-baseball-at-utah-tech-3/
LOCATION:St. George\, UT
END:VEVENT
BEGIN:VEVENT
DTSTART;TZID=America/Chicago:20240329T190000
DTEND;TZID=America/Chicago:20240329T220000
DTSTAMP:20260424T193018
CREATED:20231201T044700Z
LAST-MODIFIED:20240329T093150Z
UID:10000225-1711738800-1711749600@stayinmcallen.com
SUMMARY:UTRGV Baseball at Utah Tech
DESCRIPTION:UTRGV Baseball at Utah Tech\nTV: ESPN+ (USA) | WAC International\nStreaming Video: https://es.pn/4ao8qsQ\n https://goutrgv.com/calendar.aspx?game_id=27221&sport_id=1
URL:https://stayinmcallen.com/events/utrgv-baseball-at-utah-tech-2/
LOCATION:St. George\, UT
END:VEVENT
BEGIN:VEVENT
DTSTART;TZID=America/Chicago:20240328T193000
DTEND;TZID=America/Chicago:20240328T223000
DTSTAMP:20260424T193018
CREATED:20231201T044657Z
LAST-MODIFIED:20240322T092116Z
UID:10000224-1711654200-1711665000@stayinmcallen.com
SUMMARY:UTRGV Baseball at Utah Tech
DESCRIPTION:UTRGV Baseball at Utah Tech\nTV: ESPN+ (USA) | WAC International\nStreaming Video: http://plus.espn.com/\n https://goutrgv.com/calendar.aspx?game_id=27220&sport_id=1
URL:https://stayinmcallen.com/events/utrgv-baseball-at-utah-tech/
LOCATION:St. George\, UT
END:VEVENT
END:VCALENDAR