BEGIN:VCALENDAR
VERSION:2.0
PRODID:-//Stayinmcallen - ECPv6.15.20//NONSGML v1.0//EN
CALSCALE:GREGORIAN
METHOD:PUBLISH
X-ORIGINAL-URL:https://stayinmcallen.com
X-WR-CALDESC:Events for Stayinmcallen
REFRESH-INTERVAL;VALUE=DURATION:PT1H
X-Robots-Tag:noindex
X-PUBLISHED-TTL:PT1H
BEGIN:VTIMEZONE
TZID:America/Chicago
BEGIN:DAYLIGHT
TZOFFSETFROM:-0600
TZOFFSETTO:-0500
TZNAME:CDT
DTSTART:20230312T080000
END:DAYLIGHT
BEGIN:STANDARD
TZOFFSETFROM:-0500
TZOFFSETTO:-0600
TZNAME:CST
DTSTART:20231105T070000
END:STANDARD
BEGIN:DAYLIGHT
TZOFFSETFROM:-0600
TZOFFSETTO:-0500
TZNAME:CDT
DTSTART:20240310T080000
END:DAYLIGHT
BEGIN:STANDARD
TZOFFSETFROM:-0500
TZOFFSETTO:-0600
TZNAME:CST
DTSTART:20241103T070000
END:STANDARD
BEGIN:DAYLIGHT
TZOFFSETFROM:-0600
TZOFFSETTO:-0500
TZNAME:CDT
DTSTART:20250309T080000
END:DAYLIGHT
BEGIN:STANDARD
TZOFFSETFROM:-0500
TZOFFSETTO:-0600
TZNAME:CST
DTSTART:20251102T070000
END:STANDARD
END:VTIMEZONE
BEGIN:VEVENT
DTSTART;TZID=America/Chicago:20240710T210000
DTEND;TZID=America/Chicago:20240710T233000
DTSTAMP:20260420T151203
CREATED:20240701T182911Z
LAST-MODIFIED:20240710T193402Z
UID:10000660-1720645200-1720654200@stayinmcallen.com
SUMMARY:Flying Mic Night
DESCRIPTION:Join us every Wednesday for Flying Mic Night\, where all art forms are celebrated! Whether you’re a musician\, poet\, comedian\, magician\, or any other performer\, our stage is open to you. With professional lighting and sound by Indigo Sound Co.\, you’ll have everything you need for an amazing performance. Sign-ups start at 8 PM\, and the show kicks off at 9 PM\, running until we close at 2 AM. Welcoming everyone from first-time performers to seasoned pros\, experience the best weekday crowd in town at Flying Mic Night!
URL:https://stayinmcallen.com/events/flying-mic-night-6/
LOCATION:The Flying Walrus\, 204 S 17th St\, McAllen\, TX\, United States
CATEGORIES:Live Music,Explore McAllen,Open Mic
ATTACH;FMTTYPE=image/png:https://stayinmcallen.com/wp-content/uploads/2024/06/flying-walrus-open-mic-hwaP3I.tmp_.png
ORGANIZER;CN="Indigo Sound Co.":MAILTO:info@indigosound.co
GEO:26.202828;-98.238122
X-APPLE-STRUCTURED-LOCATION;VALUE=URI;X-ADDRESS=The Flying Walrus 204 S 17th St McAllen TX United States;X-APPLE-RADIUS=500;X-TITLE=204 S 17th St:geo:-98.238122,26.202828
END:VEVENT
BEGIN:VEVENT
DTSTART;TZID=America/Chicago:20240703T210000
DTEND;TZID=America/Chicago:20240703T233000
DTSTAMP:20260420T151203
CREATED:20240701T182858Z
LAST-MODIFIED:20240703T183024Z
UID:10000658-1720040400-1720049400@stayinmcallen.com
SUMMARY:Flying Mic Night
DESCRIPTION:Join us every Wednesday for Flying Mic Night\, where all art forms are celebrated! Whether you’re a musician\, poet\, comedian\, magician\, or any other performer\, our stage is open to you. With professional lighting and sound by Indigo Sound Co.\, you’ll have everything you need for an amazing performance. Sign-ups start at 8 PM\, and the show kicks off at 9 PM\, running until we close at 2 AM. Welcoming everyone from first-time performers to seasoned pros\, experience the best weekday crowd in town at Flying Mic Night!
URL:https://stayinmcallen.com/events/flying-mic-night-5/
LOCATION:The Flying Walrus\, 204 S 17th St\, McAllen\, TX\, United States
CATEGORIES:Live Music,Explore McAllen,Open Mic
ATTACH;FMTTYPE=image/png:https://stayinmcallen.com/wp-content/uploads/2024/06/flying-walrus-open-mic-hwaP3I.tmp_.png
ORGANIZER;CN="Indigo Sound Co.":MAILTO:info@indigosound.co
GEO:26.202828;-98.238122
X-APPLE-STRUCTURED-LOCATION;VALUE=URI;X-ADDRESS=The Flying Walrus 204 S 17th St McAllen TX United States;X-APPLE-RADIUS=500;X-TITLE=204 S 17th St:geo:-98.238122,26.202828
END:VEVENT
BEGIN:VEVENT
DTSTART;TZID=America/Chicago:20240626T210000
DTEND;TZID=America/Chicago:20240626T233000
DTSTAMP:20260420T151203
CREATED:20240611T164706Z
LAST-MODIFIED:20240626T175914Z
UID:10000627-1719435600-1719444600@stayinmcallen.com
SUMMARY:Flying Mic Night
DESCRIPTION:Join us every Wednesday for Flying Mic Night\, where all art forms are celebrated! Whether you’re a musician\, poet\, comedian\, magician\, or any other performer\, our stage is open to you. With professional lighting and sound by Indigo Sound Co.\, you’ll have everything you need for an amazing performance. Sign-ups start at 8 PM\, and the show kicks off at 9 PM\, running until we close at 2 AM. Welcoming everyone from first-time performers to seasoned pros\, experience the best weekday crowd in town at Flying Mic Night!
URL:https://stayinmcallen.com/events/flying-mic-night-4/
LOCATION:The Flying Walrus\, 204 S 17th St\, McAllen\, TX\, United States
CATEGORIES:Live Music,Explore McAllen,Open Mic
ATTACH;FMTTYPE=image/png:https://stayinmcallen.com/wp-content/uploads/2024/06/flying-walrus-open-mic-hwaP3I.tmp_.png
ORGANIZER;CN="Indigo Sound Co.":MAILTO:info@indigosound.co
GEO:26.202828;-98.238122
X-APPLE-STRUCTURED-LOCATION;VALUE=URI;X-ADDRESS=The Flying Walrus 204 S 17th St McAllen TX United States;X-APPLE-RADIUS=500;X-TITLE=204 S 17th St:geo:-98.238122,26.202828
END:VEVENT
BEGIN:VEVENT
DTSTART;TZID=America/Chicago:20240619T210000
DTEND;TZID=America/Chicago:20240619T233000
DTSTAMP:20260420T151203
CREATED:20240611T164620Z
LAST-MODIFIED:20240619T171400Z
UID:10000626-1718830800-1718839800@stayinmcallen.com
SUMMARY:Flying Mic Night
DESCRIPTION:Join us every Wednesday for Flying Mic Night\, where all art forms are celebrated! Whether you’re a musician\, poet\, comedian\, magician\, or any other performer\, our stage is open to you. With professional lighting and sound by Indigo Sound Co.\, you’ll have everything you need for an amazing performance. Sign-ups start at 8 PM\, and the show kicks off at 9 PM\, running until we close at 2 AM. Welcoming everyone from first-time performers to seasoned pros\, experience the best weekday crowd in town at Flying Mic Night!
URL:https://stayinmcallen.com/events/flying-mic-night-3/
LOCATION:The Flying Walrus\, 204 S 17th St\, McAllen\, TX\, United States
CATEGORIES:Live Music,Explore McAllen,Open Mic
ATTACH;FMTTYPE=image/png:https://stayinmcallen.com/wp-content/uploads/2024/06/flying-walrus-open-mic-hwaP3I.tmp_.png
ORGANIZER;CN="Indigo Sound Co.":MAILTO:info@indigosound.co
GEO:26.202828;-98.238122
X-APPLE-STRUCTURED-LOCATION;VALUE=URI;X-ADDRESS=The Flying Walrus 204 S 17th St McAllen TX United States;X-APPLE-RADIUS=500;X-TITLE=204 S 17th St:geo:-98.238122,26.202828
END:VEVENT
END:VCALENDAR