BEGIN:VCALENDAR
VERSION:2.0
PRODID:-//Stayinmcallen - ECPv6.15.20//NONSGML v1.0//EN
CALSCALE:GREGORIAN
METHOD:PUBLISH
X-ORIGINAL-URL:https://stayinmcallen.com
X-WR-CALDESC:Events for Stayinmcallen
REFRESH-INTERVAL;VALUE=DURATION:PT1H
X-Robots-Tag:noindex
X-PUBLISHED-TTL:PT1H
BEGIN:VTIMEZONE
TZID:America/Chicago
BEGIN:DAYLIGHT
TZOFFSETFROM:-0600
TZOFFSETTO:-0500
TZNAME:CDT
DTSTART:20240310T080000
END:DAYLIGHT
BEGIN:STANDARD
TZOFFSETFROM:-0500
TZOFFSETTO:-0600
TZNAME:CST
DTSTART:20241103T070000
END:STANDARD
BEGIN:DAYLIGHT
TZOFFSETFROM:-0600
TZOFFSETTO:-0500
TZNAME:CDT
DTSTART:20250309T080000
END:DAYLIGHT
BEGIN:STANDARD
TZOFFSETFROM:-0500
TZOFFSETTO:-0600
TZNAME:CST
DTSTART:20251102T070000
END:STANDARD
BEGIN:DAYLIGHT
TZOFFSETFROM:-0600
TZOFFSETTO:-0500
TZNAME:CDT
DTSTART:20260308T080000
END:DAYLIGHT
BEGIN:STANDARD
TZOFFSETFROM:-0500
TZOFFSETTO:-0600
TZNAME:CST
DTSTART:20261101T070000
END:STANDARD
END:VTIMEZONE
BEGIN:VEVENT
DTSTART;TZID=America/Chicago:20250324T130000
DTEND;TZID=America/Chicago:20250324T160000
DTSTAMP:20260424T142543
CREATED:20241213T185629Z
LAST-MODIFIED:20250321T234902Z
UID:10001558-1742821200-1742832000@stayinmcallen.com
SUMMARY:UTRGV Women's Tennis at Nicholls
DESCRIPTION:UTRGV Women’s Tennis at Nicholls
URL:https://stayinmcallen.com/events/utrgv-womens-tennis-at-nicholls/
LOCATION:Thibodaux\, LA
CATEGORIES:UTRGV Athletics
END:VEVENT
BEGIN:VEVENT
DTSTART;TZID=America/Chicago:20250324T110000
DTEND;TZID=America/Chicago:20250324T140000
DTSTAMP:20260424T142543
CREATED:20241213T185625Z
LAST-MODIFIED:20250321T234855Z
UID:10001557-1742814000-1742824800@stayinmcallen.com
SUMMARY:UTRGV Men's Tennis at Nicholls
DESCRIPTION:UTRGV Men’s Tennis at Nicholls
URL:https://stayinmcallen.com/events/utrgv-mens-tennis-at-nicholls/
LOCATION:Thibodaux\, LA
CATEGORIES:UTRGV Athletics
END:VEVENT
BEGIN:VEVENT
DTSTART;TZID=America/Chicago:20250222T150000
DTEND;TZID=America/Chicago:20250222T170000
DTSTAMP:20260424T142543
CREATED:20240719T124622Z
LAST-MODIFIED:20250221T223226Z
UID:10000898-1740236400-1740243600@stayinmcallen.com
SUMMARY:UTRGV Men's Basketball at Nicholls
DESCRIPTION:UTRGV Men’s Basketball at Nicholls\nTV: ESPN+ (USA)\nStreaming Video: https://www.espn.com/watch/player/_/eventCalendarId/401721217?gameId=401721217&sourceLang=en
URL:https://stayinmcallen.com/events/utrgv-mens-basketball-at-nicholls/
LOCATION:Thibodaux\, LA
CATEGORIES:UTRGV Athletics
END:VEVENT
BEGIN:VEVENT
DTSTART;TZID=America/Chicago:20250222T130000
DTEND;TZID=America/Chicago:20250222T150000
DTSTAMP:20260424T142543
CREATED:20240719T124615Z
LAST-MODIFIED:20250221T223222Z
UID:10000897-1740229200-1740236400@stayinmcallen.com
SUMMARY:UTRGV Women's Basketball at Nicholls
DESCRIPTION:UTRGV Women’s Basketball at Nicholls\nTV: ESPN+ (USA)\nStreaming Video: https://www.espn.com/watch/catalog/01209caa-9a9a-4275-b784-c8cdff2fbd7c/southland-conference#bucketId=29784&sourceCollection=Browse_By_Top_Conferences
URL:https://stayinmcallen.com/events/utrgv-womens-basketball-at-nicholls/
LOCATION:Thibodaux\, LA
CATEGORIES:UTRGV Athletics
END:VEVENT
END:VCALENDAR