BEGIN:VCALENDAR
VERSION:2.0
PRODID:-//Stayinmcallen - ECPv6.15.20//NONSGML v1.0//EN
CALSCALE:GREGORIAN
METHOD:PUBLISH
X-WR-CALNAME:Stayinmcallen
X-ORIGINAL-URL:https://stayinmcallen.com
X-WR-CALDESC:Events for Stayinmcallen
REFRESH-INTERVAL;VALUE=DURATION:PT1H
X-Robots-Tag:noindex
X-PUBLISHED-TTL:PT1H
BEGIN:VTIMEZONE
TZID:America/Chicago
BEGIN:DAYLIGHT
TZOFFSETFROM:-0600
TZOFFSETTO:-0500
TZNAME:CDT
DTSTART:20240310T080000
END:DAYLIGHT
BEGIN:STANDARD
TZOFFSETFROM:-0500
TZOFFSETTO:-0600
TZNAME:CST
DTSTART:20241103T070000
END:STANDARD
BEGIN:DAYLIGHT
TZOFFSETFROM:-0600
TZOFFSETTO:-0500
TZNAME:CDT
DTSTART:20250309T080000
END:DAYLIGHT
BEGIN:STANDARD
TZOFFSETFROM:-0500
TZOFFSETTO:-0600
TZNAME:CST
DTSTART:20251102T070000
END:STANDARD
BEGIN:DAYLIGHT
TZOFFSETFROM:-0600
TZOFFSETTO:-0500
TZNAME:CDT
DTSTART:20260308T080000
END:DAYLIGHT
BEGIN:STANDARD
TZOFFSETFROM:-0500
TZOFFSETTO:-0600
TZNAME:CST
DTSTART:20261101T070000
END:STANDARD
END:VTIMEZONE
BEGIN:VEVENT
DTSTART;TZID=America/Chicago:20250725T183000
DTEND;TZID=America/Chicago:20250725T203000
DTSTAMP:20260425T181736
CREATED:20250725T100343Z
LAST-MODIFIED:20250725T100343Z
UID:10002752-1753468200-1753475400@stayinmcallen.com
SUMMARY:Summer Van Gogh Sunflower Sip & Paint
DESCRIPTION:Enjoy Your Summer Making Memories!\nJoin Us For A Fun Night Out Taking Selfies\, Shopping Vendors\, And Your Canvas Painting!\nLimited Seating Admission In Advance\nAll Materials Included Plus Charcuterie Bowl\nBYOB Event 18 Plus!\nMore Information Call (956) 207-8696
URL:https://stayinmcallen.com/events/summer-van-gogh-sunflower-sip-paint/
LOCATION:Selfie’s and More Studio\, 4001 N 23rd St\, McAllen\, TX\, United States
CATEGORIES:Food and Drink Events,Nightlife
ATTACH;FMTTYPE=image/jpeg:https://stayinmcallen.com/wp-content/uploads/2025/07/unnamed-N7tvqz.jpg
GEO:26.240605;-98.239376
X-APPLE-STRUCTURED-LOCATION;VALUE=URI;X-ADDRESS=Selfie’s and More Studio 4001 N 23rd St McAllen TX United States;X-APPLE-RADIUS=500;X-TITLE=4001 N 23rd St:geo:-98.239376,26.240605
END:VEVENT
END:VCALENDAR