BEGIN:VCALENDAR
VERSION:2.0
PRODID:-//Stayinmcallen - ECPv6.15.20//NONSGML v1.0//EN
CALSCALE:GREGORIAN
METHOD:PUBLISH
X-WR-CALNAME:Stayinmcallen
X-ORIGINAL-URL:https://stayinmcallen.com
X-WR-CALDESC:Events for Stayinmcallen
REFRESH-INTERVAL;VALUE=DURATION:PT1H
X-Robots-Tag:noindex
X-PUBLISHED-TTL:PT1H
BEGIN:VTIMEZONE
TZID:America/Chicago
BEGIN:DAYLIGHT
TZOFFSETFROM:-0600
TZOFFSETTO:-0500
TZNAME:CDT
DTSTART:20230312T080000
END:DAYLIGHT
BEGIN:STANDARD
TZOFFSETFROM:-0500
TZOFFSETTO:-0600
TZNAME:CST
DTSTART:20231105T070000
END:STANDARD
BEGIN:DAYLIGHT
TZOFFSETFROM:-0600
TZOFFSETTO:-0500
TZNAME:CDT
DTSTART:20240310T080000
END:DAYLIGHT
BEGIN:STANDARD
TZOFFSETFROM:-0500
TZOFFSETTO:-0600
TZNAME:CST
DTSTART:20241103T070000
END:STANDARD
BEGIN:DAYLIGHT
TZOFFSETFROM:-0600
TZOFFSETTO:-0500
TZNAME:CDT
DTSTART:20250309T080000
END:DAYLIGHT
BEGIN:STANDARD
TZOFFSETFROM:-0500
TZOFFSETTO:-0600
TZNAME:CST
DTSTART:20251102T070000
END:STANDARD
END:VTIMEZONE
BEGIN:VEVENT
DTSTART;TZID=America/Chicago:20240720T210000
DTEND;TZID=America/Chicago:20240721T020000
DTSTAMP:20260421T114836
CREATED:20240712T194932Z
LAST-MODIFIED:20240720T201905Z
UID:10000790-1721509200-1721527200@stayinmcallen.com
SUMMARY:EL CUADRO
DESCRIPTION:Gran Noche de buena música nos espera con EL CUADRO\n⬛️No Cover-Mesas Gratis\n⬜️Sello Rojo $99 antes de las 10:30pm\nReservaciones 956-402-7039-Via Messenger
URL:https://stayinmcallen.com/events/el-cuadro/
LOCATION:MK’Z NIGHTCLUB\, 2021 Orchid Ave.\, Mcallen\, 78504
CATEGORIES:Explore McAllen,Nightlife,Spanish Music
ATTACH;FMTTYPE=image/jpeg:https://stayinmcallen.com/wp-content/uploads/2024/07/ba031f55-38a9-4949-8b22-92d8ecef7b3b-dLSch5.tmp_.jpg
END:VEVENT
END:VCALENDAR